BEGIN:VCALENDAR
VERSION:2.0
PRODID:-//Joy Metropolitan Community Church - ECPv6.15.20//NONSGML v1.0//EN
CALSCALE:GREGORIAN
METHOD:PUBLISH
X-ORIGINAL-URL:https://joymcc.com
X-WR-CALDESC:Events for Joy Metropolitan Community Church
REFRESH-INTERVAL;VALUE=DURATION:PT1H
X-Robots-Tag:noindex
X-PUBLISHED-TTL:PT1H
BEGIN:VTIMEZONE
TZID:UTC
BEGIN:STANDARD
TZOFFSETFROM:+0000
TZOFFSETTO:+0000
TZNAME:UTC
DTSTART:20250101T000000
END:STANDARD
END:VTIMEZONE
BEGIN:VTIMEZONE
TZID:America/New_York
BEGIN:DAYLIGHT
TZOFFSETFROM:-0500
TZOFFSETTO:-0400
TZNAME:EDT
DTSTART:20250309T070000
END:DAYLIGHT
BEGIN:STANDARD
TZOFFSETFROM:-0400
TZOFFSETTO:-0500
TZNAME:EST
DTSTART:20251102T060000
END:STANDARD
BEGIN:DAYLIGHT
TZOFFSETFROM:-0500
TZOFFSETTO:-0400
TZNAME:EDT
DTSTART:20260308T070000
END:DAYLIGHT
BEGIN:STANDARD
TZOFFSETFROM:-0400
TZOFFSETTO:-0500
TZNAME:EST
DTSTART:20261101T060000
END:STANDARD
BEGIN:DAYLIGHT
TZOFFSETFROM:-0500
TZOFFSETTO:-0400
TZNAME:EDT
DTSTART:20270314T070000
END:DAYLIGHT
BEGIN:STANDARD
TZOFFSETFROM:-0400
TZOFFSETTO:-0500
TZNAME:EST
DTSTART:20271107T060000
END:STANDARD
END:VTIMEZONE
BEGIN:VEVENT
DTSTART;TZID=UTC:20260906T090000
DTEND;TZID=UTC:20260906T100000
DTSTAMP:20260423T183424
CREATED:20240924T183031Z
LAST-MODIFIED:20241114T170426Z
UID:10002016-1788685200-1788688800@joymcc.com
SUMMARY:Worship Service-Live/In Person Only
DESCRIPTION:  \n 
URL:https://joymcc.com/event/worship-service-live-in-person-only-2/2026-09-06/
CATEGORIES:Events
END:VEVENT
BEGIN:VEVENT
DTSTART;TZID=UTC:20260906T110000
DTEND;TZID=UTC:20260906T121500
DTSTAMP:20260423T183424
CREATED:20251203T190746Z
LAST-MODIFIED:20251203T190746Z
UID:10003689-1788692400-1788696900@joymcc.com
SUMMARY:Worship Service-Live/In Person AND Live Streaming Via FaceBook and YouTube Live
DESCRIPTION:https://www.facebook.com/JoyMetropolitanCommunityChurch \nhttps://www.youtube.com/channel/UCuQV4LHlarKHk1VPFA_iGVA \n 
URL:https://joymcc.com/event/worship-service-live-in-person-and-live-streaming-via-facebook-and-youtube-live-2/2026-09-06/
CATEGORIES:Events
END:VEVENT
BEGIN:VEVENT
DTSTART;TZID=UTC:20260907T190000
DTEND;TZID=UTC:20260907T200000
DTSTAMP:20260423T183424
CREATED:20251231T170302Z
LAST-MODIFIED:20251231T170507Z
UID:10004200-1788807600-1788811200@joymcc.com
SUMMARY:Expand Don't Ban Book Club
DESCRIPTION:https://us02web.zoom.us/j/87288924596
URL:https://joymcc.com/event/expand-dont-ban-book-club-4-2/2026-09-07/
CATEGORIES:Events
END:VEVENT
BEGIN:VEVENT
DTSTART;TZID=UTC:20260909T190000
DTEND;TZID=UTC:20260909T203000
DTSTAMP:20260423T183424
CREATED:20240924T184746Z
LAST-MODIFIED:20251231T165933Z
UID:10001692-1788980400-1788985800@joymcc.com
SUMMARY:Spiritual Transformation-In Person AND Via Zoom Meeting
DESCRIPTION:https://zoom.us/j/812716810 \nPASSCODE: 332797
URL:https://joymcc.com/event/spiritual-transformation-in-person-and-via-zoom-meeting-3/2026-09-09/
CATEGORIES:Events
END:VEVENT
BEGIN:VEVENT
DTSTART;TZID=UTC:20260913T090000
DTEND;TZID=UTC:20260913T100000
DTSTAMP:20260423T183424
CREATED:20240924T183031Z
LAST-MODIFIED:20241114T170426Z
UID:10002017-1789290000-1789293600@joymcc.com
SUMMARY:Worship Service-Live/In Person Only
DESCRIPTION:  \n 
URL:https://joymcc.com/event/worship-service-live-in-person-only-2/2026-09-13/
CATEGORIES:Events
END:VEVENT
BEGIN:VEVENT
DTSTART;TZID=UTC:20260913T110000
DTEND;TZID=UTC:20260913T121500
DTSTAMP:20260423T183424
CREATED:20251203T190746Z
LAST-MODIFIED:20251203T190746Z
UID:10003690-1789297200-1789301700@joymcc.com
SUMMARY:Worship Service-Live/In Person AND Live Streaming Via FaceBook and YouTube Live
DESCRIPTION:https://www.facebook.com/JoyMetropolitanCommunityChurch \nhttps://www.youtube.com/channel/UCuQV4LHlarKHk1VPFA_iGVA \n 
URL:https://joymcc.com/event/worship-service-live-in-person-and-live-streaming-via-facebook-and-youtube-live-2/2026-09-13/
CATEGORIES:Events
END:VEVENT
BEGIN:VEVENT
DTSTART;TZID=UTC:20260916T190000
DTEND;TZID=UTC:20260916T203000
DTSTAMP:20260423T183424
CREATED:20240924T184746Z
LAST-MODIFIED:20251231T165933Z
UID:10001693-1789585200-1789590600@joymcc.com
SUMMARY:Spiritual Transformation-In Person AND Via Zoom Meeting
DESCRIPTION:https://zoom.us/j/812716810 \nPASSCODE: 332797
URL:https://joymcc.com/event/spiritual-transformation-in-person-and-via-zoom-meeting-3/2026-09-16/
CATEGORIES:Events
END:VEVENT
BEGIN:VEVENT
DTSTART;TZID=UTC:20260917T190000
DTEND;TZID=UTC:20260917T200000
DTSTAMP:20260423T183424
CREATED:20241023T135650Z
LAST-MODIFIED:20251214T111600Z
UID:10001881-1789671600-1789675200@joymcc.com
SUMMARY:Grief Support Group
DESCRIPTION:Living with Loss\, Healing with Hopeunitorlf
URL:https://joymcc.com/event/grief-support-group-4/2026-09-17/
CATEGORIES:Events
ATTACH;FMTTYPE=image/jpeg:https://joymcc.com/wp-content/uploads/2024/07/Announcements_030517_036.jpg
END:VEVENT
BEGIN:VEVENT
DTSTART;TZID=UTC:20260920T090000
DTEND;TZID=UTC:20260920T100000
DTSTAMP:20260423T183424
CREATED:20240924T183031Z
LAST-MODIFIED:20241114T170426Z
UID:10002018-1789894800-1789898400@joymcc.com
SUMMARY:Worship Service-Live/In Person Only
DESCRIPTION:  \n 
URL:https://joymcc.com/event/worship-service-live-in-person-only-2/2026-09-20/
CATEGORIES:Events
END:VEVENT
BEGIN:VEVENT
DTSTART;TZID=UTC:20260920T110000
DTEND;TZID=UTC:20260920T121500
DTSTAMP:20260423T183424
CREATED:20251203T190746Z
LAST-MODIFIED:20251203T190746Z
UID:10003691-1789902000-1789906500@joymcc.com
SUMMARY:Worship Service-Live/In Person AND Live Streaming Via FaceBook and YouTube Live
DESCRIPTION:https://www.facebook.com/JoyMetropolitanCommunityChurch \nhttps://www.youtube.com/channel/UCuQV4LHlarKHk1VPFA_iGVA \n 
URL:https://joymcc.com/event/worship-service-live-in-person-and-live-streaming-via-facebook-and-youtube-live-2/2026-09-20/
CATEGORIES:Events
END:VEVENT
BEGIN:VEVENT
DTSTART;TZID=America/New_York:20260921T190000
DTEND;TZID=America/New_York:20260921T200000
DTSTAMP:20260423T183425
CREATED:20251214T110650Z
LAST-MODIFIED:20251214T111212Z
UID:10004080-1790017200-1790020800@joymcc.com
SUMMARY:Expand Don't Ban Book Club
DESCRIPTION:https://us02web.zoom.us/j/87288924596
URL:https://joymcc.com/event/expand-dont-ban-book-club-5-2-2/2026-09-21/
CATEGORIES:Events
END:VEVENT
BEGIN:VEVENT
DTSTART;TZID=UTC:20260923T190000
DTEND;TZID=UTC:20260923T203000
DTSTAMP:20260423T183425
CREATED:20240924T184746Z
LAST-MODIFIED:20251231T165933Z
UID:10001694-1790190000-1790195400@joymcc.com
SUMMARY:Spiritual Transformation-In Person AND Via Zoom Meeting
DESCRIPTION:https://zoom.us/j/812716810 \nPASSCODE: 332797
URL:https://joymcc.com/event/spiritual-transformation-in-person-and-via-zoom-meeting-3/2026-09-23/
CATEGORIES:Events
END:VEVENT
BEGIN:VEVENT
DTSTART;TZID=UTC:20260927T090000
DTEND;TZID=UTC:20260927T100000
DTSTAMP:20260423T183425
CREATED:20240924T183031Z
LAST-MODIFIED:20241114T170426Z
UID:10002019-1790499600-1790503200@joymcc.com
SUMMARY:Worship Service-Live/In Person Only
DESCRIPTION:  \n 
URL:https://joymcc.com/event/worship-service-live-in-person-only-2/2026-09-27/
CATEGORIES:Events
END:VEVENT
BEGIN:VEVENT
DTSTART;TZID=UTC:20260927T110000
DTEND;TZID=UTC:20260927T121500
DTSTAMP:20260423T183425
CREATED:20251203T190746Z
LAST-MODIFIED:20251203T190746Z
UID:10003692-1790506800-1790511300@joymcc.com
SUMMARY:Worship Service-Live/In Person AND Live Streaming Via FaceBook and YouTube Live
DESCRIPTION:https://www.facebook.com/JoyMetropolitanCommunityChurch \nhttps://www.youtube.com/channel/UCuQV4LHlarKHk1VPFA_iGVA \n 
URL:https://joymcc.com/event/worship-service-live-in-person-and-live-streaming-via-facebook-and-youtube-live-2/2026-09-27/
CATEGORIES:Events
END:VEVENT
BEGIN:VEVENT
DTSTART;TZID=UTC:20260930T190000
DTEND;TZID=UTC:20260930T203000
DTSTAMP:20260423T183425
CREATED:20240924T184746Z
LAST-MODIFIED:20251231T165933Z
UID:10001695-1790794800-1790800200@joymcc.com
SUMMARY:Spiritual Transformation-In Person AND Via Zoom Meeting
DESCRIPTION:https://zoom.us/j/812716810 \nPASSCODE: 332797
URL:https://joymcc.com/event/spiritual-transformation-in-person-and-via-zoom-meeting-3/2026-09-30/
CATEGORIES:Events
END:VEVENT
BEGIN:VEVENT
DTSTART;TZID=UTC:20261004T090000
DTEND;TZID=UTC:20261004T100000
DTSTAMP:20260423T183425
CREATED:20240924T183031Z
LAST-MODIFIED:20241114T170426Z
UID:10002020-1791104400-1791108000@joymcc.com
SUMMARY:Worship Service-Live/In Person Only
DESCRIPTION:  \n 
URL:https://joymcc.com/event/worship-service-live-in-person-only-2/2026-10-04/
CATEGORIES:Events
END:VEVENT
BEGIN:VEVENT
DTSTART;TZID=UTC:20261004T110000
DTEND;TZID=UTC:20261004T121500
DTSTAMP:20260423T183425
CREATED:20251203T190746Z
LAST-MODIFIED:20251203T190746Z
UID:10003693-1791111600-1791116100@joymcc.com
SUMMARY:Worship Service-Live/In Person AND Live Streaming Via FaceBook and YouTube Live
DESCRIPTION:https://www.facebook.com/JoyMetropolitanCommunityChurch \nhttps://www.youtube.com/channel/UCuQV4LHlarKHk1VPFA_iGVA \n 
URL:https://joymcc.com/event/worship-service-live-in-person-and-live-streaming-via-facebook-and-youtube-live-2/2026-10-04/
CATEGORIES:Events
END:VEVENT
BEGIN:VEVENT
DTSTART;TZID=UTC:20261005T190000
DTEND;TZID=UTC:20261005T200000
DTSTAMP:20260423T183425
CREATED:20251231T170302Z
LAST-MODIFIED:20251231T170507Z
UID:10004201-1791226800-1791230400@joymcc.com
SUMMARY:Expand Don't Ban Book Club
DESCRIPTION:https://us02web.zoom.us/j/87288924596
URL:https://joymcc.com/event/expand-dont-ban-book-club-4-2/2026-10-05/
CATEGORIES:Events
END:VEVENT
BEGIN:VEVENT
DTSTART;TZID=UTC:20261007T190000
DTEND;TZID=UTC:20261007T203000
DTSTAMP:20260423T183425
CREATED:20240924T184746Z
LAST-MODIFIED:20251231T165933Z
UID:10001696-1791399600-1791405000@joymcc.com
SUMMARY:Spiritual Transformation-In Person AND Via Zoom Meeting
DESCRIPTION:https://zoom.us/j/812716810 \nPASSCODE: 332797
URL:https://joymcc.com/event/spiritual-transformation-in-person-and-via-zoom-meeting-3/2026-10-07/
CATEGORIES:Events
END:VEVENT
BEGIN:VEVENT
DTSTART;TZID=UTC:20261011T090000
DTEND;TZID=UTC:20261011T100000
DTSTAMP:20260423T183425
CREATED:20240924T183031Z
LAST-MODIFIED:20241114T170426Z
UID:10002021-1791709200-1791712800@joymcc.com
SUMMARY:Worship Service-Live/In Person Only
DESCRIPTION:  \n 
URL:https://joymcc.com/event/worship-service-live-in-person-only-2/2026-10-11/
CATEGORIES:Events
END:VEVENT
BEGIN:VEVENT
DTSTART;TZID=UTC:20261011T110000
DTEND;TZID=UTC:20261011T121500
DTSTAMP:20260423T183425
CREATED:20251203T190746Z
LAST-MODIFIED:20251203T190746Z
UID:10003694-1791716400-1791720900@joymcc.com
SUMMARY:Worship Service-Live/In Person AND Live Streaming Via FaceBook and YouTube Live
DESCRIPTION:https://www.facebook.com/JoyMetropolitanCommunityChurch \nhttps://www.youtube.com/channel/UCuQV4LHlarKHk1VPFA_iGVA \n 
URL:https://joymcc.com/event/worship-service-live-in-person-and-live-streaming-via-facebook-and-youtube-live-2/2026-10-11/
CATEGORIES:Events
END:VEVENT
BEGIN:VEVENT
DTSTART;TZID=UTC:20261014T190000
DTEND;TZID=UTC:20261014T203000
DTSTAMP:20260423T183425
CREATED:20240924T184746Z
LAST-MODIFIED:20251231T165933Z
UID:10001697-1792004400-1792009800@joymcc.com
SUMMARY:Spiritual Transformation-In Person AND Via Zoom Meeting
DESCRIPTION:https://zoom.us/j/812716810 \nPASSCODE: 332797
URL:https://joymcc.com/event/spiritual-transformation-in-person-and-via-zoom-meeting-3/2026-10-14/
CATEGORIES:Events
END:VEVENT
BEGIN:VEVENT
DTSTART;TZID=UTC:20261015T190000
DTEND;TZID=UTC:20261015T200000
DTSTAMP:20260423T183425
CREATED:20241023T135650Z
LAST-MODIFIED:20251214T111600Z
UID:10001882-1792090800-1792094400@joymcc.com
SUMMARY:Grief Support Group
DESCRIPTION:Living with Loss\, Healing with Hopeunitorlf
URL:https://joymcc.com/event/grief-support-group-4/2026-10-15/
CATEGORIES:Events
ATTACH;FMTTYPE=image/jpeg:https://joymcc.com/wp-content/uploads/2024/07/Announcements_030517_036.jpg
END:VEVENT
BEGIN:VEVENT
DTSTART;TZID=UTC:20261018T090000
DTEND;TZID=UTC:20261018T100000
DTSTAMP:20260423T183425
CREATED:20240924T183031Z
LAST-MODIFIED:20241114T170426Z
UID:10002022-1792314000-1792317600@joymcc.com
SUMMARY:Worship Service-Live/In Person Only
DESCRIPTION:  \n 
URL:https://joymcc.com/event/worship-service-live-in-person-only-2/2026-10-18/
CATEGORIES:Events
END:VEVENT
BEGIN:VEVENT
DTSTART;TZID=UTC:20261018T110000
DTEND;TZID=UTC:20261018T121500
DTSTAMP:20260423T183425
CREATED:20251203T190746Z
LAST-MODIFIED:20251203T190746Z
UID:10003695-1792321200-1792325700@joymcc.com
SUMMARY:Worship Service-Live/In Person AND Live Streaming Via FaceBook and YouTube Live
DESCRIPTION:https://www.facebook.com/JoyMetropolitanCommunityChurch \nhttps://www.youtube.com/channel/UCuQV4LHlarKHk1VPFA_iGVA \n 
URL:https://joymcc.com/event/worship-service-live-in-person-and-live-streaming-via-facebook-and-youtube-live-2/2026-10-18/
CATEGORIES:Events
END:VEVENT
BEGIN:VEVENT
DTSTART;TZID=America/New_York:20261019T190000
DTEND;TZID=America/New_York:20261019T200000
DTSTAMP:20260423T183425
CREATED:20251214T110650Z
LAST-MODIFIED:20251214T111212Z
UID:10004081-1792436400-1792440000@joymcc.com
SUMMARY:Expand Don't Ban Book Club
DESCRIPTION:https://us02web.zoom.us/j/87288924596
URL:https://joymcc.com/event/expand-dont-ban-book-club-5-2-2/2026-10-19/
CATEGORIES:Events
END:VEVENT
BEGIN:VEVENT
DTSTART;TZID=UTC:20261021T190000
DTEND;TZID=UTC:20261021T203000
DTSTAMP:20260423T183425
CREATED:20240924T184746Z
LAST-MODIFIED:20251231T165933Z
UID:10001698-1792609200-1792614600@joymcc.com
SUMMARY:Spiritual Transformation-In Person AND Via Zoom Meeting
DESCRIPTION:https://zoom.us/j/812716810 \nPASSCODE: 332797
URL:https://joymcc.com/event/spiritual-transformation-in-person-and-via-zoom-meeting-3/2026-10-21/
CATEGORIES:Events
END:VEVENT
BEGIN:VEVENT
DTSTART;TZID=UTC:20261025T090000
DTEND;TZID=UTC:20261025T100000
DTSTAMP:20260423T183425
CREATED:20240924T183031Z
LAST-MODIFIED:20241114T170426Z
UID:10002023-1792918800-1792922400@joymcc.com
SUMMARY:Worship Service-Live/In Person Only
DESCRIPTION:  \n 
URL:https://joymcc.com/event/worship-service-live-in-person-only-2/2026-10-25/
CATEGORIES:Events
END:VEVENT
BEGIN:VEVENT
DTSTART;TZID=UTC:20261025T110000
DTEND;TZID=UTC:20261025T121500
DTSTAMP:20260423T183425
CREATED:20251203T190746Z
LAST-MODIFIED:20251203T190746Z
UID:10003696-1792926000-1792930500@joymcc.com
SUMMARY:Worship Service-Live/In Person AND Live Streaming Via FaceBook and YouTube Live
DESCRIPTION:https://www.facebook.com/JoyMetropolitanCommunityChurch \nhttps://www.youtube.com/channel/UCuQV4LHlarKHk1VPFA_iGVA \n 
URL:https://joymcc.com/event/worship-service-live-in-person-and-live-streaming-via-facebook-and-youtube-live-2/2026-10-25/
CATEGORIES:Events
END:VEVENT
BEGIN:VEVENT
DTSTART;TZID=UTC:20261028T190000
DTEND;TZID=UTC:20261028T203000
DTSTAMP:20260423T183425
CREATED:20240924T184746Z
LAST-MODIFIED:20251231T165933Z
UID:10001699-1793214000-1793219400@joymcc.com
SUMMARY:Spiritual Transformation-In Person AND Via Zoom Meeting
DESCRIPTION:https://zoom.us/j/812716810 \nPASSCODE: 332797
URL:https://joymcc.com/event/spiritual-transformation-in-person-and-via-zoom-meeting-3/2026-10-28/
CATEGORIES:Events
END:VEVENT
END:VCALENDAR