BEGIN:VCALENDAR
VERSION:2.0
PRODID:-//Joy Metropolitan Community Church - ECPv6.15.20//NONSGML v1.0//EN
CALSCALE:GREGORIAN
METHOD:PUBLISH
X-ORIGINAL-URL:https://joymcc.com
X-WR-CALDESC:Events for Joy Metropolitan Community Church
REFRESH-INTERVAL;VALUE=DURATION:PT1H
X-Robots-Tag:noindex
X-PUBLISHED-TTL:PT1H
BEGIN:VTIMEZONE
TZID:UTC
BEGIN:STANDARD
TZOFFSETFROM:+0000
TZOFFSETTO:+0000
TZNAME:UTC
DTSTART:20280101T000000
END:STANDARD
END:VTIMEZONE
BEGIN:VTIMEZONE
TZID:America/New_York
BEGIN:DAYLIGHT
TZOFFSETFROM:-0500
TZOFFSETTO:-0400
TZNAME:EDT
DTSTART:20280312T070000
END:DAYLIGHT
BEGIN:STANDARD
TZOFFSETFROM:-0400
TZOFFSETTO:-0500
TZNAME:EST
DTSTART:20281105T060000
END:STANDARD
BEGIN:DAYLIGHT
TZOFFSETFROM:-0500
TZOFFSETTO:-0400
TZNAME:EDT
DTSTART:20290311T070000
END:DAYLIGHT
BEGIN:STANDARD
TZOFFSETFROM:-0400
TZOFFSETTO:-0500
TZNAME:EST
DTSTART:20291104T060000
END:STANDARD
BEGIN:DAYLIGHT
TZOFFSETFROM:-0500
TZOFFSETTO:-0400
TZNAME:EDT
DTSTART:20300310T070000
END:DAYLIGHT
BEGIN:STANDARD
TZOFFSETFROM:-0400
TZOFFSETTO:-0500
TZNAME:EST
DTSTART:20301103T060000
END:STANDARD
END:VTIMEZONE
BEGIN:VEVENT
DTSTART;TZID=UTC:20290404T190000
DTEND;TZID=UTC:20290404T203000
DTSTAMP:20260425T230056
CREATED:20240924T184746Z
LAST-MODIFIED:20251231T165933Z
UID:10001826-1870023600-1870029000@joymcc.com
SUMMARY:Spiritual Transformation-In Person AND Via Zoom Meeting
DESCRIPTION:https://zoom.us/j/812716810 \nPASSCODE: 332797
URL:https://joymcc.com/event/spiritual-transformation-in-person-and-via-zoom-meeting-3/2029-04-04/
CATEGORIES:Events
END:VEVENT
BEGIN:VEVENT
DTSTART;TZID=UTC:20290408T090000
DTEND;TZID=UTC:20290408T100000
DTSTAMP:20260425T230056
CREATED:20240924T183031Z
LAST-MODIFIED:20241114T170426Z
UID:10002151-1870333200-1870336800@joymcc.com
SUMMARY:Worship Service-Live/In Person Only
DESCRIPTION:  \n 
URL:https://joymcc.com/event/worship-service-live-in-person-only-2/2029-04-08/
CATEGORIES:Events
END:VEVENT
BEGIN:VEVENT
DTSTART;TZID=UTC:20290408T110000
DTEND;TZID=UTC:20290408T121500
DTSTAMP:20260425T230056
CREATED:20251203T190746Z
LAST-MODIFIED:20251203T190746Z
UID:10003824-1870340400-1870344900@joymcc.com
SUMMARY:Worship Service-Live/In Person AND Live Streaming Via FaceBook and YouTube Live
DESCRIPTION:https://www.facebook.com/JoyMetropolitanCommunityChurch \nhttps://www.youtube.com/channel/UCuQV4LHlarKHk1VPFA_iGVA \n 
URL:https://joymcc.com/event/worship-service-live-in-person-and-live-streaming-via-facebook-and-youtube-live-2/2029-04-08/
CATEGORIES:Events
END:VEVENT
BEGIN:VEVENT
DTSTART;TZID=UTC:20290411T190000
DTEND;TZID=UTC:20290411T203000
DTSTAMP:20260425T230056
CREATED:20240924T184746Z
LAST-MODIFIED:20251231T165933Z
UID:10001827-1870628400-1870633800@joymcc.com
SUMMARY:Spiritual Transformation-In Person AND Via Zoom Meeting
DESCRIPTION:https://zoom.us/j/812716810 \nPASSCODE: 332797
URL:https://joymcc.com/event/spiritual-transformation-in-person-and-via-zoom-meeting-3/2029-04-11/
CATEGORIES:Events
END:VEVENT
BEGIN:VEVENT
DTSTART;TZID=UTC:20290415T090000
DTEND;TZID=UTC:20290415T100000
DTSTAMP:20260425T230056
CREATED:20240924T183031Z
LAST-MODIFIED:20241114T170426Z
UID:10002152-1870938000-1870941600@joymcc.com
SUMMARY:Worship Service-Live/In Person Only
DESCRIPTION:  \n 
URL:https://joymcc.com/event/worship-service-live-in-person-only-2/2029-04-15/
CATEGORIES:Events
END:VEVENT
BEGIN:VEVENT
DTSTART;TZID=UTC:20290415T110000
DTEND;TZID=UTC:20290415T121500
DTSTAMP:20260425T230056
CREATED:20251203T190746Z
LAST-MODIFIED:20251203T190746Z
UID:10003825-1870945200-1870949700@joymcc.com
SUMMARY:Worship Service-Live/In Person AND Live Streaming Via FaceBook and YouTube Live
DESCRIPTION:https://www.facebook.com/JoyMetropolitanCommunityChurch \nhttps://www.youtube.com/channel/UCuQV4LHlarKHk1VPFA_iGVA \n 
URL:https://joymcc.com/event/worship-service-live-in-person-and-live-streaming-via-facebook-and-youtube-live-2/2029-04-15/
CATEGORIES:Events
END:VEVENT
BEGIN:VEVENT
DTSTART;TZID=America/New_York:20290416T190000
DTEND;TZID=America/New_York:20290416T200000
DTSTAMP:20260425T230056
CREATED:20251214T110650Z
LAST-MODIFIED:20251214T111212Z
UID:10004107-1871060400-1871064000@joymcc.com
SUMMARY:Expand Don't Ban Book Club
DESCRIPTION:https://us02web.zoom.us/j/87288924596
URL:https://joymcc.com/event/expand-dont-ban-book-club-5-2-2/2029-04-16/
CATEGORIES:Events
END:VEVENT
BEGIN:VEVENT
DTSTART;TZID=UTC:20290418T190000
DTEND;TZID=UTC:20290418T203000
DTSTAMP:20260425T230056
CREATED:20240924T184746Z
LAST-MODIFIED:20251231T165933Z
UID:10001828-1871233200-1871238600@joymcc.com
SUMMARY:Spiritual Transformation-In Person AND Via Zoom Meeting
DESCRIPTION:https://zoom.us/j/812716810 \nPASSCODE: 332797
URL:https://joymcc.com/event/spiritual-transformation-in-person-and-via-zoom-meeting-3/2029-04-18/
CATEGORIES:Events
END:VEVENT
BEGIN:VEVENT
DTSTART;TZID=UTC:20290419T190000
DTEND;TZID=UTC:20290419T200000
DTSTAMP:20260425T230056
CREATED:20241023T135650Z
LAST-MODIFIED:20251214T111600Z
UID:10001912-1871319600-1871323200@joymcc.com
SUMMARY:Grief Support Group
DESCRIPTION:Living with Loss\, Healing with Hopeunitorlf
URL:https://joymcc.com/event/grief-support-group-4/2029-04-19/
CATEGORIES:Events
ATTACH;FMTTYPE=image/jpeg:https://joymcc.com/wp-content/uploads/2024/07/Announcements_030517_036.jpg
END:VEVENT
BEGIN:VEVENT
DTSTART;TZID=UTC:20290422T090000
DTEND;TZID=UTC:20290422T100000
DTSTAMP:20260425T230056
CREATED:20240924T183031Z
LAST-MODIFIED:20241114T170426Z
UID:10002153-1871542800-1871546400@joymcc.com
SUMMARY:Worship Service-Live/In Person Only
DESCRIPTION:  \n 
URL:https://joymcc.com/event/worship-service-live-in-person-only-2/2029-04-22/
CATEGORIES:Events
END:VEVENT
BEGIN:VEVENT
DTSTART;TZID=UTC:20290422T110000
DTEND;TZID=UTC:20290422T121500
DTSTAMP:20260425T230056
CREATED:20251203T190746Z
LAST-MODIFIED:20251203T190746Z
UID:10003826-1871550000-1871554500@joymcc.com
SUMMARY:Worship Service-Live/In Person AND Live Streaming Via FaceBook and YouTube Live
DESCRIPTION:https://www.facebook.com/JoyMetropolitanCommunityChurch \nhttps://www.youtube.com/channel/UCuQV4LHlarKHk1VPFA_iGVA \n 
URL:https://joymcc.com/event/worship-service-live-in-person-and-live-streaming-via-facebook-and-youtube-live-2/2029-04-22/
CATEGORIES:Events
END:VEVENT
BEGIN:VEVENT
DTSTART;TZID=UTC:20290425T190000
DTEND;TZID=UTC:20290425T203000
DTSTAMP:20260425T230056
CREATED:20240924T184746Z
LAST-MODIFIED:20251231T165933Z
UID:10001829-1871838000-1871843400@joymcc.com
SUMMARY:Spiritual Transformation-In Person AND Via Zoom Meeting
DESCRIPTION:https://zoom.us/j/812716810 \nPASSCODE: 332797
URL:https://joymcc.com/event/spiritual-transformation-in-person-and-via-zoom-meeting-3/2029-04-25/
CATEGORIES:Events
END:VEVENT
BEGIN:VEVENT
DTSTART;TZID=UTC:20290429T090000
DTEND;TZID=UTC:20290429T100000
DTSTAMP:20260425T230056
CREATED:20240924T183031Z
LAST-MODIFIED:20241114T170426Z
UID:10002154-1872147600-1872151200@joymcc.com
SUMMARY:Worship Service-Live/In Person Only
DESCRIPTION:  \n 
URL:https://joymcc.com/event/worship-service-live-in-person-only-2/2029-04-29/
CATEGORIES:Events
END:VEVENT
BEGIN:VEVENT
DTSTART;TZID=UTC:20290429T110000
DTEND;TZID=UTC:20290429T121500
DTSTAMP:20260425T230056
CREATED:20251203T190746Z
LAST-MODIFIED:20251203T190746Z
UID:10003827-1872154800-1872159300@joymcc.com
SUMMARY:Worship Service-Live/In Person AND Live Streaming Via FaceBook and YouTube Live
DESCRIPTION:https://www.facebook.com/JoyMetropolitanCommunityChurch \nhttps://www.youtube.com/channel/UCuQV4LHlarKHk1VPFA_iGVA \n 
URL:https://joymcc.com/event/worship-service-live-in-person-and-live-streaming-via-facebook-and-youtube-live-2/2029-04-29/
CATEGORIES:Events
END:VEVENT
BEGIN:VEVENT
DTSTART;TZID=UTC:20290502T190000
DTEND;TZID=UTC:20290502T203000
DTSTAMP:20260425T230056
CREATED:20240924T184746Z
LAST-MODIFIED:20251231T165933Z
UID:10001830-1872442800-1872448200@joymcc.com
SUMMARY:Spiritual Transformation-In Person AND Via Zoom Meeting
DESCRIPTION:https://zoom.us/j/812716810 \nPASSCODE: 332797
URL:https://joymcc.com/event/spiritual-transformation-in-person-and-via-zoom-meeting-3/2029-05-02/
CATEGORIES:Events
END:VEVENT
BEGIN:VEVENT
DTSTART;TZID=UTC:20290506T090000
DTEND;TZID=UTC:20290506T100000
DTSTAMP:20260425T230056
CREATED:20240924T183031Z
LAST-MODIFIED:20241114T170426Z
UID:10002155-1872752400-1872756000@joymcc.com
SUMMARY:Worship Service-Live/In Person Only
DESCRIPTION:  \n 
URL:https://joymcc.com/event/worship-service-live-in-person-only-2/2029-05-06/
CATEGORIES:Events
END:VEVENT
BEGIN:VEVENT
DTSTART;TZID=UTC:20290506T110000
DTEND;TZID=UTC:20290506T121500
DTSTAMP:20260425T230056
CREATED:20251203T190746Z
LAST-MODIFIED:20251203T190746Z
UID:10003828-1872759600-1872764100@joymcc.com
SUMMARY:Worship Service-Live/In Person AND Live Streaming Via FaceBook and YouTube Live
DESCRIPTION:https://www.facebook.com/JoyMetropolitanCommunityChurch \nhttps://www.youtube.com/channel/UCuQV4LHlarKHk1VPFA_iGVA \n 
URL:https://joymcc.com/event/worship-service-live-in-person-and-live-streaming-via-facebook-and-youtube-live-2/2029-05-06/
CATEGORIES:Events
END:VEVENT
BEGIN:VEVENT
DTSTART;TZID=UTC:20290507T190000
DTEND;TZID=UTC:20290507T200000
DTSTAMP:20260425T230056
CREATED:20251231T170302Z
LAST-MODIFIED:20251231T170507Z
UID:10004228-1872874800-1872878400@joymcc.com
SUMMARY:Expand Don't Ban Book Club
DESCRIPTION:https://us02web.zoom.us/j/87288924596
URL:https://joymcc.com/event/expand-dont-ban-book-club-4-2/2029-05-07/
CATEGORIES:Events
END:VEVENT
BEGIN:VEVENT
DTSTART;TZID=UTC:20290509T190000
DTEND;TZID=UTC:20290509T203000
DTSTAMP:20260425T230056
CREATED:20240924T184746Z
LAST-MODIFIED:20251231T165933Z
UID:10001831-1873047600-1873053000@joymcc.com
SUMMARY:Spiritual Transformation-In Person AND Via Zoom Meeting
DESCRIPTION:https://zoom.us/j/812716810 \nPASSCODE: 332797
URL:https://joymcc.com/event/spiritual-transformation-in-person-and-via-zoom-meeting-3/2029-05-09/
CATEGORIES:Events
END:VEVENT
BEGIN:VEVENT
DTSTART;TZID=UTC:20290513T090000
DTEND;TZID=UTC:20290513T100000
DTSTAMP:20260425T230056
CREATED:20240924T183031Z
LAST-MODIFIED:20241114T170426Z
UID:10002156-1873357200-1873360800@joymcc.com
SUMMARY:Worship Service-Live/In Person Only
DESCRIPTION:  \n 
URL:https://joymcc.com/event/worship-service-live-in-person-only-2/2029-05-13/
CATEGORIES:Events
END:VEVENT
BEGIN:VEVENT
DTSTART;TZID=UTC:20290513T110000
DTEND;TZID=UTC:20290513T121500
DTSTAMP:20260425T230056
CREATED:20251203T190746Z
LAST-MODIFIED:20251203T190746Z
UID:10003829-1873364400-1873368900@joymcc.com
SUMMARY:Worship Service-Live/In Person AND Live Streaming Via FaceBook and YouTube Live
DESCRIPTION:https://www.facebook.com/JoyMetropolitanCommunityChurch \nhttps://www.youtube.com/channel/UCuQV4LHlarKHk1VPFA_iGVA \n 
URL:https://joymcc.com/event/worship-service-live-in-person-and-live-streaming-via-facebook-and-youtube-live-2/2029-05-13/
CATEGORIES:Events
END:VEVENT
BEGIN:VEVENT
DTSTART;TZID=UTC:20290516T190000
DTEND;TZID=UTC:20290516T203000
DTSTAMP:20260425T230056
CREATED:20240924T184746Z
LAST-MODIFIED:20251231T165933Z
UID:10001832-1873652400-1873657800@joymcc.com
SUMMARY:Spiritual Transformation-In Person AND Via Zoom Meeting
DESCRIPTION:https://zoom.us/j/812716810 \nPASSCODE: 332797
URL:https://joymcc.com/event/spiritual-transformation-in-person-and-via-zoom-meeting-3/2029-05-16/
CATEGORIES:Events
END:VEVENT
BEGIN:VEVENT
DTSTART;TZID=UTC:20290517T190000
DTEND;TZID=UTC:20290517T200000
DTSTAMP:20260425T230056
CREATED:20241023T135650Z
LAST-MODIFIED:20251214T111600Z
UID:10001913-1873738800-1873742400@joymcc.com
SUMMARY:Grief Support Group
DESCRIPTION:Living with Loss\, Healing with Hopeunitorlf
URL:https://joymcc.com/event/grief-support-group-4/2029-05-17/
CATEGORIES:Events
ATTACH;FMTTYPE=image/jpeg:https://joymcc.com/wp-content/uploads/2024/07/Announcements_030517_036.jpg
END:VEVENT
BEGIN:VEVENT
DTSTART;TZID=UTC:20290520T090000
DTEND;TZID=UTC:20290520T100000
DTSTAMP:20260425T230056
CREATED:20240924T183031Z
LAST-MODIFIED:20241114T170426Z
UID:10002157-1873962000-1873965600@joymcc.com
SUMMARY:Worship Service-Live/In Person Only
DESCRIPTION:  \n 
URL:https://joymcc.com/event/worship-service-live-in-person-only-2/2029-05-20/
CATEGORIES:Events
END:VEVENT
BEGIN:VEVENT
DTSTART;TZID=UTC:20290520T110000
DTEND;TZID=UTC:20290520T121500
DTSTAMP:20260425T230056
CREATED:20251203T190746Z
LAST-MODIFIED:20251203T190746Z
UID:10003830-1873969200-1873973700@joymcc.com
SUMMARY:Worship Service-Live/In Person AND Live Streaming Via FaceBook and YouTube Live
DESCRIPTION:https://www.facebook.com/JoyMetropolitanCommunityChurch \nhttps://www.youtube.com/channel/UCuQV4LHlarKHk1VPFA_iGVA \n 
URL:https://joymcc.com/event/worship-service-live-in-person-and-live-streaming-via-facebook-and-youtube-live-2/2029-05-20/
CATEGORIES:Events
END:VEVENT
BEGIN:VEVENT
DTSTART;TZID=America/New_York:20290521T190000
DTEND;TZID=America/New_York:20290521T200000
DTSTAMP:20260425T230056
CREATED:20251214T110650Z
LAST-MODIFIED:20251214T111212Z
UID:10004108-1874084400-1874088000@joymcc.com
SUMMARY:Expand Don't Ban Book Club
DESCRIPTION:https://us02web.zoom.us/j/87288924596
URL:https://joymcc.com/event/expand-dont-ban-book-club-5-2-2/2029-05-21/
CATEGORIES:Events
END:VEVENT
BEGIN:VEVENT
DTSTART;TZID=UTC:20290523T190000
DTEND;TZID=UTC:20290523T203000
DTSTAMP:20260425T230056
CREATED:20240924T184746Z
LAST-MODIFIED:20251231T165933Z
UID:10001833-1874257200-1874262600@joymcc.com
SUMMARY:Spiritual Transformation-In Person AND Via Zoom Meeting
DESCRIPTION:https://zoom.us/j/812716810 \nPASSCODE: 332797
URL:https://joymcc.com/event/spiritual-transformation-in-person-and-via-zoom-meeting-3/2029-05-23/
CATEGORIES:Events
END:VEVENT
BEGIN:VEVENT
DTSTART;TZID=UTC:20290527T090000
DTEND;TZID=UTC:20290527T100000
DTSTAMP:20260425T230056
CREATED:20240924T183031Z
LAST-MODIFIED:20241114T170426Z
UID:10002158-1874566800-1874570400@joymcc.com
SUMMARY:Worship Service-Live/In Person Only
DESCRIPTION:  \n 
URL:https://joymcc.com/event/worship-service-live-in-person-only-2/2029-05-27/
CATEGORIES:Events
END:VEVENT
BEGIN:VEVENT
DTSTART;TZID=UTC:20290527T110000
DTEND;TZID=UTC:20290527T121500
DTSTAMP:20260425T230056
CREATED:20251203T190746Z
LAST-MODIFIED:20251203T190746Z
UID:10003831-1874574000-1874578500@joymcc.com
SUMMARY:Worship Service-Live/In Person AND Live Streaming Via FaceBook and YouTube Live
DESCRIPTION:https://www.facebook.com/JoyMetropolitanCommunityChurch \nhttps://www.youtube.com/channel/UCuQV4LHlarKHk1VPFA_iGVA \n 
URL:https://joymcc.com/event/worship-service-live-in-person-and-live-streaming-via-facebook-and-youtube-live-2/2029-05-27/
CATEGORIES:Events
END:VEVENT
BEGIN:VEVENT
DTSTART;TZID=UTC:20290530T190000
DTEND;TZID=UTC:20290530T203000
DTSTAMP:20260425T230056
CREATED:20240924T184746Z
LAST-MODIFIED:20251231T165933Z
UID:10001834-1874862000-1874867400@joymcc.com
SUMMARY:Spiritual Transformation-In Person AND Via Zoom Meeting
DESCRIPTION:https://zoom.us/j/812716810 \nPASSCODE: 332797
URL:https://joymcc.com/event/spiritual-transformation-in-person-and-via-zoom-meeting-3/2029-05-30/
CATEGORIES:Events
END:VEVENT
END:VCALENDAR