BEGIN:VCALENDAR
VERSION:2.0
PRODID:-//Joy Metropolitan Community Church - ECPv6.15.20//NONSGML v1.0//EN
CALSCALE:GREGORIAN
METHOD:PUBLISH
X-WR-CALNAME:Joy Metropolitan Community Church
X-ORIGINAL-URL:https://joymcc.com
X-WR-CALDESC:Events for Joy Metropolitan Community Church
REFRESH-INTERVAL;VALUE=DURATION:PT1H
X-Robots-Tag:noindex
X-PUBLISHED-TTL:PT1H
BEGIN:VTIMEZONE
TZID:UTC
BEGIN:STANDARD
TZOFFSETFROM:+0000
TZOFFSETTO:+0000
TZNAME:UTC
DTSTART:20270101T000000
END:STANDARD
END:VTIMEZONE
BEGIN:VTIMEZONE
TZID:America/New_York
BEGIN:DAYLIGHT
TZOFFSETFROM:-0500
TZOFFSETTO:-0400
TZNAME:EDT
DTSTART:20270314T070000
END:DAYLIGHT
BEGIN:STANDARD
TZOFFSETFROM:-0400
TZOFFSETTO:-0500
TZNAME:EST
DTSTART:20271107T060000
END:STANDARD
BEGIN:DAYLIGHT
TZOFFSETFROM:-0500
TZOFFSETTO:-0400
TZNAME:EDT
DTSTART:20280312T070000
END:DAYLIGHT
BEGIN:STANDARD
TZOFFSETFROM:-0400
TZOFFSETTO:-0500
TZNAME:EST
DTSTART:20281105T060000
END:STANDARD
BEGIN:DAYLIGHT
TZOFFSETFROM:-0500
TZOFFSETTO:-0400
TZNAME:EDT
DTSTART:20290311T070000
END:DAYLIGHT
BEGIN:STANDARD
TZOFFSETFROM:-0400
TZOFFSETTO:-0500
TZNAME:EST
DTSTART:20291104T060000
END:STANDARD
END:VTIMEZONE
BEGIN:VEVENT
DTSTART;TZID=UTC:20280306T190000
DTEND;TZID=UTC:20280306T200000
DTSTAMP:20260425T063409
CREATED:20251231T170302Z
LAST-MODIFIED:20251231T170507Z
UID:10004216-1835982000-1835985600@joymcc.com
SUMMARY:Expand Don't Ban Book Club
DESCRIPTION:https://us02web.zoom.us/j/87288924596
URL:https://joymcc.com/event/expand-dont-ban-book-club-4-2/2028-03-06/
CATEGORIES:Events
END:VEVENT
BEGIN:VEVENT
DTSTART;TZID=UTC:20280308T190000
DTEND;TZID=UTC:20280308T203000
DTSTAMP:20260425T063409
CREATED:20240924T184746Z
LAST-MODIFIED:20251231T165933Z
UID:10001770-1836154800-1836160200@joymcc.com
SUMMARY:Spiritual Transformation-In Person AND Via Zoom Meeting
DESCRIPTION:https://zoom.us/j/812716810 \nPASSCODE: 332797
URL:https://joymcc.com/event/spiritual-transformation-in-person-and-via-zoom-meeting-3/2028-03-08/
CATEGORIES:Events
END:VEVENT
BEGIN:VEVENT
DTSTART;TZID=UTC:20280312T090000
DTEND;TZID=UTC:20280312T100000
DTSTAMP:20260425T063409
CREATED:20240924T183031Z
LAST-MODIFIED:20241114T170426Z
UID:10002095-1836464400-1836468000@joymcc.com
SUMMARY:Worship Service-Live/In Person Only
DESCRIPTION:  \n 
URL:https://joymcc.com/event/worship-service-live-in-person-only-2/2028-03-12/
CATEGORIES:Events
END:VEVENT
BEGIN:VEVENT
DTSTART;TZID=UTC:20280312T110000
DTEND;TZID=UTC:20280312T121500
DTSTAMP:20260425T063409
CREATED:20251203T190746Z
LAST-MODIFIED:20251203T190746Z
UID:10003768-1836471600-1836476100@joymcc.com
SUMMARY:Worship Service-Live/In Person AND Live Streaming Via FaceBook and YouTube Live
DESCRIPTION:https://www.facebook.com/JoyMetropolitanCommunityChurch \nhttps://www.youtube.com/channel/UCuQV4LHlarKHk1VPFA_iGVA \n 
URL:https://joymcc.com/event/worship-service-live-in-person-and-live-streaming-via-facebook-and-youtube-live-2/2028-03-12/
CATEGORIES:Events
END:VEVENT
BEGIN:VEVENT
DTSTART;TZID=UTC:20280315T190000
DTEND;TZID=UTC:20280315T203000
DTSTAMP:20260425T063409
CREATED:20240924T184746Z
LAST-MODIFIED:20251231T165933Z
UID:10001771-1836759600-1836765000@joymcc.com
SUMMARY:Spiritual Transformation-In Person AND Via Zoom Meeting
DESCRIPTION:https://zoom.us/j/812716810 \nPASSCODE: 332797
URL:https://joymcc.com/event/spiritual-transformation-in-person-and-via-zoom-meeting-3/2028-03-15/
CATEGORIES:Events
END:VEVENT
BEGIN:VEVENT
DTSTART;TZID=UTC:20280316T190000
DTEND;TZID=UTC:20280316T200000
DTSTAMP:20260425T063409
CREATED:20241023T135650Z
LAST-MODIFIED:20251214T111600Z
UID:10001899-1836846000-1836849600@joymcc.com
SUMMARY:Grief Support Group
DESCRIPTION:Living with Loss\, Healing with Hopeunitorlf
URL:https://joymcc.com/event/grief-support-group-4/2028-03-16/
CATEGORIES:Events
ATTACH;FMTTYPE=image/jpeg:https://joymcc.com/wp-content/uploads/2024/07/Announcements_030517_036.jpg
END:VEVENT
BEGIN:VEVENT
DTSTART;TZID=UTC:20280319T090000
DTEND;TZID=UTC:20280319T100000
DTSTAMP:20260425T063409
CREATED:20240924T183031Z
LAST-MODIFIED:20241114T170426Z
UID:10002096-1837069200-1837072800@joymcc.com
SUMMARY:Worship Service-Live/In Person Only
DESCRIPTION:  \n 
URL:https://joymcc.com/event/worship-service-live-in-person-only-2/2028-03-19/
CATEGORIES:Events
END:VEVENT
BEGIN:VEVENT
DTSTART;TZID=UTC:20280319T110000
DTEND;TZID=UTC:20280319T121500
DTSTAMP:20260425T063409
CREATED:20251203T190746Z
LAST-MODIFIED:20251203T190746Z
UID:10003769-1837076400-1837080900@joymcc.com
SUMMARY:Worship Service-Live/In Person AND Live Streaming Via FaceBook and YouTube Live
DESCRIPTION:https://www.facebook.com/JoyMetropolitanCommunityChurch \nhttps://www.youtube.com/channel/UCuQV4LHlarKHk1VPFA_iGVA \n 
URL:https://joymcc.com/event/worship-service-live-in-person-and-live-streaming-via-facebook-and-youtube-live-2/2028-03-19/
CATEGORIES:Events
END:VEVENT
BEGIN:VEVENT
DTSTART;TZID=America/New_York:20280320T190000
DTEND;TZID=America/New_York:20280320T200000
DTSTAMP:20260425T063409
CREATED:20251214T110650Z
LAST-MODIFIED:20251214T111212Z
UID:10004096-1837191600-1837195200@joymcc.com
SUMMARY:Expand Don't Ban Book Club
DESCRIPTION:https://us02web.zoom.us/j/87288924596
URL:https://joymcc.com/event/expand-dont-ban-book-club-5-2-2/2028-03-20/
CATEGORIES:Events
END:VEVENT
BEGIN:VEVENT
DTSTART;TZID=UTC:20280322T190000
DTEND;TZID=UTC:20280322T203000
DTSTAMP:20260425T063409
CREATED:20240924T184746Z
LAST-MODIFIED:20251231T165933Z
UID:10001772-1837364400-1837369800@joymcc.com
SUMMARY:Spiritual Transformation-In Person AND Via Zoom Meeting
DESCRIPTION:https://zoom.us/j/812716810 \nPASSCODE: 332797
URL:https://joymcc.com/event/spiritual-transformation-in-person-and-via-zoom-meeting-3/2028-03-22/
CATEGORIES:Events
END:VEVENT
BEGIN:VEVENT
DTSTART;TZID=UTC:20280326T090000
DTEND;TZID=UTC:20280326T100000
DTSTAMP:20260425T063409
CREATED:20240924T183031Z
LAST-MODIFIED:20241114T170426Z
UID:10002097-1837674000-1837677600@joymcc.com
SUMMARY:Worship Service-Live/In Person Only
DESCRIPTION:  \n 
URL:https://joymcc.com/event/worship-service-live-in-person-only-2/2028-03-26/
CATEGORIES:Events
END:VEVENT
BEGIN:VEVENT
DTSTART;TZID=UTC:20280326T110000
DTEND;TZID=UTC:20280326T121500
DTSTAMP:20260425T063409
CREATED:20251203T190746Z
LAST-MODIFIED:20251203T190746Z
UID:10003770-1837681200-1837685700@joymcc.com
SUMMARY:Worship Service-Live/In Person AND Live Streaming Via FaceBook and YouTube Live
DESCRIPTION:https://www.facebook.com/JoyMetropolitanCommunityChurch \nhttps://www.youtube.com/channel/UCuQV4LHlarKHk1VPFA_iGVA \n 
URL:https://joymcc.com/event/worship-service-live-in-person-and-live-streaming-via-facebook-and-youtube-live-2/2028-03-26/
CATEGORIES:Events
END:VEVENT
BEGIN:VEVENT
DTSTART;TZID=UTC:20280329T190000
DTEND;TZID=UTC:20280329T203000
DTSTAMP:20260425T063409
CREATED:20240924T184746Z
LAST-MODIFIED:20251231T165933Z
UID:10001773-1837969200-1837974600@joymcc.com
SUMMARY:Spiritual Transformation-In Person AND Via Zoom Meeting
DESCRIPTION:https://zoom.us/j/812716810 \nPASSCODE: 332797
URL:https://joymcc.com/event/spiritual-transformation-in-person-and-via-zoom-meeting-3/2028-03-29/
CATEGORIES:Events
END:VEVENT
BEGIN:VEVENT
DTSTART;TZID=UTC:20280402T090000
DTEND;TZID=UTC:20280402T100000
DTSTAMP:20260425T063409
CREATED:20240924T183031Z
LAST-MODIFIED:20241114T170426Z
UID:10002098-1838278800-1838282400@joymcc.com
SUMMARY:Worship Service-Live/In Person Only
DESCRIPTION:  \n 
URL:https://joymcc.com/event/worship-service-live-in-person-only-2/2028-04-02/
CATEGORIES:Events
END:VEVENT
BEGIN:VEVENT
DTSTART;TZID=UTC:20280402T110000
DTEND;TZID=UTC:20280402T121500
DTSTAMP:20260425T063409
CREATED:20251203T190746Z
LAST-MODIFIED:20251203T190746Z
UID:10003771-1838286000-1838290500@joymcc.com
SUMMARY:Worship Service-Live/In Person AND Live Streaming Via FaceBook and YouTube Live
DESCRIPTION:https://www.facebook.com/JoyMetropolitanCommunityChurch \nhttps://www.youtube.com/channel/UCuQV4LHlarKHk1VPFA_iGVA \n 
URL:https://joymcc.com/event/worship-service-live-in-person-and-live-streaming-via-facebook-and-youtube-live-2/2028-04-02/
CATEGORIES:Events
END:VEVENT
BEGIN:VEVENT
DTSTART;TZID=UTC:20280403T190000
DTEND;TZID=UTC:20280403T200000
DTSTAMP:20260425T063409
CREATED:20251231T170302Z
LAST-MODIFIED:20251231T170507Z
UID:10004217-1838401200-1838404800@joymcc.com
SUMMARY:Expand Don't Ban Book Club
DESCRIPTION:https://us02web.zoom.us/j/87288924596
URL:https://joymcc.com/event/expand-dont-ban-book-club-4-2/2028-04-03/
CATEGORIES:Events
END:VEVENT
BEGIN:VEVENT
DTSTART;TZID=UTC:20280405T190000
DTEND;TZID=UTC:20280405T203000
DTSTAMP:20260425T063409
CREATED:20240924T184746Z
LAST-MODIFIED:20251231T165933Z
UID:10001774-1838574000-1838579400@joymcc.com
SUMMARY:Spiritual Transformation-In Person AND Via Zoom Meeting
DESCRIPTION:https://zoom.us/j/812716810 \nPASSCODE: 332797
URL:https://joymcc.com/event/spiritual-transformation-in-person-and-via-zoom-meeting-3/2028-04-05/
CATEGORIES:Events
END:VEVENT
BEGIN:VEVENT
DTSTART;TZID=UTC:20280409T090000
DTEND;TZID=UTC:20280409T100000
DTSTAMP:20260425T063409
CREATED:20240924T183031Z
LAST-MODIFIED:20241114T170426Z
UID:10002099-1838883600-1838887200@joymcc.com
SUMMARY:Worship Service-Live/In Person Only
DESCRIPTION:  \n 
URL:https://joymcc.com/event/worship-service-live-in-person-only-2/2028-04-09/
CATEGORIES:Events
END:VEVENT
BEGIN:VEVENT
DTSTART;TZID=UTC:20280409T110000
DTEND;TZID=UTC:20280409T121500
DTSTAMP:20260425T063409
CREATED:20251203T190746Z
LAST-MODIFIED:20251203T190746Z
UID:10003772-1838890800-1838895300@joymcc.com
SUMMARY:Worship Service-Live/In Person AND Live Streaming Via FaceBook and YouTube Live
DESCRIPTION:https://www.facebook.com/JoyMetropolitanCommunityChurch \nhttps://www.youtube.com/channel/UCuQV4LHlarKHk1VPFA_iGVA \n 
URL:https://joymcc.com/event/worship-service-live-in-person-and-live-streaming-via-facebook-and-youtube-live-2/2028-04-09/
CATEGORIES:Events
END:VEVENT
BEGIN:VEVENT
DTSTART;TZID=UTC:20280412T190000
DTEND;TZID=UTC:20280412T203000
DTSTAMP:20260425T063409
CREATED:20240924T184746Z
LAST-MODIFIED:20251231T165933Z
UID:10001775-1839178800-1839184200@joymcc.com
SUMMARY:Spiritual Transformation-In Person AND Via Zoom Meeting
DESCRIPTION:https://zoom.us/j/812716810 \nPASSCODE: 332797
URL:https://joymcc.com/event/spiritual-transformation-in-person-and-via-zoom-meeting-3/2028-04-12/
CATEGORIES:Events
END:VEVENT
BEGIN:VEVENT
DTSTART;TZID=UTC:20280416T090000
DTEND;TZID=UTC:20280416T100000
DTSTAMP:20260425T063409
CREATED:20240924T183031Z
LAST-MODIFIED:20241114T170426Z
UID:10002100-1839488400-1839492000@joymcc.com
SUMMARY:Worship Service-Live/In Person Only
DESCRIPTION:  \n 
URL:https://joymcc.com/event/worship-service-live-in-person-only-2/2028-04-16/
CATEGORIES:Events
END:VEVENT
BEGIN:VEVENT
DTSTART;TZID=UTC:20280416T110000
DTEND;TZID=UTC:20280416T121500
DTSTAMP:20260425T063409
CREATED:20251203T190746Z
LAST-MODIFIED:20251203T190746Z
UID:10003773-1839495600-1839500100@joymcc.com
SUMMARY:Worship Service-Live/In Person AND Live Streaming Via FaceBook and YouTube Live
DESCRIPTION:https://www.facebook.com/JoyMetropolitanCommunityChurch \nhttps://www.youtube.com/channel/UCuQV4LHlarKHk1VPFA_iGVA \n 
URL:https://joymcc.com/event/worship-service-live-in-person-and-live-streaming-via-facebook-and-youtube-live-2/2028-04-16/
CATEGORIES:Events
END:VEVENT
BEGIN:VEVENT
DTSTART;TZID=America/New_York:20280417T190000
DTEND;TZID=America/New_York:20280417T200000
DTSTAMP:20260425T063409
CREATED:20251214T110650Z
LAST-MODIFIED:20251214T111212Z
UID:10004045-1839610800-1839614400@joymcc.com
SUMMARY:Expand Don't Ban Book Club
DESCRIPTION:https://us02web.zoom.us/j/87288924596
URL:https://joymcc.com/event/expand-dont-ban-book-club-5-2-2/2028-04-17/
CATEGORIES:Events
END:VEVENT
BEGIN:VEVENT
DTSTART;TZID=UTC:20280419T190000
DTEND;TZID=UTC:20280419T203000
DTSTAMP:20260425T063409
CREATED:20240924T184746Z
LAST-MODIFIED:20251231T165933Z
UID:10001776-1839783600-1839789000@joymcc.com
SUMMARY:Spiritual Transformation-In Person AND Via Zoom Meeting
DESCRIPTION:https://zoom.us/j/812716810 \nPASSCODE: 332797
URL:https://joymcc.com/event/spiritual-transformation-in-person-and-via-zoom-meeting-3/2028-04-19/
CATEGORIES:Events
END:VEVENT
BEGIN:VEVENT
DTSTART;TZID=UTC:20280420T190000
DTEND;TZID=UTC:20280420T200000
DTSTAMP:20260425T063409
CREATED:20241023T135650Z
LAST-MODIFIED:20251214T111600Z
UID:10001900-1839870000-1839873600@joymcc.com
SUMMARY:Grief Support Group
DESCRIPTION:Living with Loss\, Healing with Hopeunitorlf
URL:https://joymcc.com/event/grief-support-group-4/2028-04-20/
CATEGORIES:Events
ATTACH;FMTTYPE=image/jpeg:https://joymcc.com/wp-content/uploads/2024/07/Announcements_030517_036.jpg
END:VEVENT
BEGIN:VEVENT
DTSTART;TZID=UTC:20280423T090000
DTEND;TZID=UTC:20280423T100000
DTSTAMP:20260425T063409
CREATED:20240924T183031Z
LAST-MODIFIED:20241114T170426Z
UID:10002101-1840093200-1840096800@joymcc.com
SUMMARY:Worship Service-Live/In Person Only
DESCRIPTION:  \n 
URL:https://joymcc.com/event/worship-service-live-in-person-only-2/2028-04-23/
CATEGORIES:Events
END:VEVENT
BEGIN:VEVENT
DTSTART;TZID=UTC:20280423T110000
DTEND;TZID=UTC:20280423T121500
DTSTAMP:20260425T063409
CREATED:20251203T190746Z
LAST-MODIFIED:20251203T190746Z
UID:10003774-1840100400-1840104900@joymcc.com
SUMMARY:Worship Service-Live/In Person AND Live Streaming Via FaceBook and YouTube Live
DESCRIPTION:https://www.facebook.com/JoyMetropolitanCommunityChurch \nhttps://www.youtube.com/channel/UCuQV4LHlarKHk1VPFA_iGVA \n 
URL:https://joymcc.com/event/worship-service-live-in-person-and-live-streaming-via-facebook-and-youtube-live-2/2028-04-23/
CATEGORIES:Events
END:VEVENT
BEGIN:VEVENT
DTSTART;TZID=UTC:20280426T190000
DTEND;TZID=UTC:20280426T203000
DTSTAMP:20260425T063409
CREATED:20240924T184746Z
LAST-MODIFIED:20251231T165933Z
UID:10001777-1840388400-1840393800@joymcc.com
SUMMARY:Spiritual Transformation-In Person AND Via Zoom Meeting
DESCRIPTION:https://zoom.us/j/812716810 \nPASSCODE: 332797
URL:https://joymcc.com/event/spiritual-transformation-in-person-and-via-zoom-meeting-3/2028-04-26/
CATEGORIES:Events
END:VEVENT
BEGIN:VEVENT
DTSTART;TZID=UTC:20280430T090000
DTEND;TZID=UTC:20280430T100000
DTSTAMP:20260425T063409
CREATED:20240924T183031Z
LAST-MODIFIED:20241114T170426Z
UID:10002102-1840698000-1840701600@joymcc.com
SUMMARY:Worship Service-Live/In Person Only
DESCRIPTION:  \n 
URL:https://joymcc.com/event/worship-service-live-in-person-only-2/2028-04-30/
CATEGORIES:Events
END:VEVENT
BEGIN:VEVENT
DTSTART;TZID=UTC:20280430T110000
DTEND;TZID=UTC:20280430T121500
DTSTAMP:20260425T063409
CREATED:20251203T190746Z
LAST-MODIFIED:20251203T190746Z
UID:10003775-1840705200-1840709700@joymcc.com
SUMMARY:Worship Service-Live/In Person AND Live Streaming Via FaceBook and YouTube Live
DESCRIPTION:https://www.facebook.com/JoyMetropolitanCommunityChurch \nhttps://www.youtube.com/channel/UCuQV4LHlarKHk1VPFA_iGVA \n 
URL:https://joymcc.com/event/worship-service-live-in-person-and-live-streaming-via-facebook-and-youtube-live-2/2028-04-30/
CATEGORIES:Events
END:VEVENT
END:VCALENDAR