BEGIN:VCALENDAR
VERSION:2.0
PRODID:-//Joy Metropolitan Community Church - ECPv6.15.20//NONSGML v1.0//EN
CALSCALE:GREGORIAN
METHOD:PUBLISH
X-WR-CALNAME:Joy Metropolitan Community Church
X-ORIGINAL-URL:https://joymcc.com
X-WR-CALDESC:Events for Joy Metropolitan Community Church
REFRESH-INTERVAL;VALUE=DURATION:PT1H
X-Robots-Tag:noindex
X-PUBLISHED-TTL:PT1H
BEGIN:VTIMEZONE
TZID:UTC
BEGIN:STANDARD
TZOFFSETFROM:+0000
TZOFFSETTO:+0000
TZNAME:UTC
DTSTART:20270101T000000
END:STANDARD
END:VTIMEZONE
BEGIN:VTIMEZONE
TZID:America/New_York
BEGIN:DAYLIGHT
TZOFFSETFROM:-0500
TZOFFSETTO:-0400
TZNAME:EDT
DTSTART:20270314T070000
END:DAYLIGHT
BEGIN:STANDARD
TZOFFSETFROM:-0400
TZOFFSETTO:-0500
TZNAME:EST
DTSTART:20271107T060000
END:STANDARD
BEGIN:DAYLIGHT
TZOFFSETFROM:-0500
TZOFFSETTO:-0400
TZNAME:EDT
DTSTART:20280312T070000
END:DAYLIGHT
BEGIN:STANDARD
TZOFFSETFROM:-0400
TZOFFSETTO:-0500
TZNAME:EST
DTSTART:20281105T060000
END:STANDARD
BEGIN:DAYLIGHT
TZOFFSETFROM:-0500
TZOFFSETTO:-0400
TZNAME:EDT
DTSTART:20290311T070000
END:DAYLIGHT
BEGIN:STANDARD
TZOFFSETFROM:-0400
TZOFFSETTO:-0500
TZNAME:EST
DTSTART:20291104T060000
END:STANDARD
END:VTIMEZONE
BEGIN:VEVENT
DTSTART;TZID=UTC:20280423T110000
DTEND;TZID=UTC:20280423T121500
DTSTAMP:20260425T085919
CREATED:20251203T190746Z
LAST-MODIFIED:20251203T190746Z
UID:10003774-1840100400-1840104900@joymcc.com
SUMMARY:Worship Service-Live/In Person AND Live Streaming Via FaceBook and YouTube Live
DESCRIPTION:https://www.facebook.com/JoyMetropolitanCommunityChurch \nhttps://www.youtube.com/channel/UCuQV4LHlarKHk1VPFA_iGVA \n 
URL:https://joymcc.com/event/worship-service-live-in-person-and-live-streaming-via-facebook-and-youtube-live-2/2028-04-23/
CATEGORIES:Events
END:VEVENT
BEGIN:VEVENT
DTSTART;TZID=UTC:20280426T190000
DTEND;TZID=UTC:20280426T203000
DTSTAMP:20260425T085919
CREATED:20240924T184746Z
LAST-MODIFIED:20251231T165933Z
UID:10001777-1840388400-1840393800@joymcc.com
SUMMARY:Spiritual Transformation-In Person AND Via Zoom Meeting
DESCRIPTION:https://zoom.us/j/812716810 \nPASSCODE: 332797
URL:https://joymcc.com/event/spiritual-transformation-in-person-and-via-zoom-meeting-3/2028-04-26/
CATEGORIES:Events
END:VEVENT
BEGIN:VEVENT
DTSTART;TZID=UTC:20280430T090000
DTEND;TZID=UTC:20280430T100000
DTSTAMP:20260425T085919
CREATED:20240924T183031Z
LAST-MODIFIED:20241114T170426Z
UID:10002102-1840698000-1840701600@joymcc.com
SUMMARY:Worship Service-Live/In Person Only
DESCRIPTION:  \n 
URL:https://joymcc.com/event/worship-service-live-in-person-only-2/2028-04-30/
CATEGORIES:Events
END:VEVENT
BEGIN:VEVENT
DTSTART;TZID=UTC:20280430T110000
DTEND;TZID=UTC:20280430T121500
DTSTAMP:20260425T085919
CREATED:20251203T190746Z
LAST-MODIFIED:20251203T190746Z
UID:10003775-1840705200-1840709700@joymcc.com
SUMMARY:Worship Service-Live/In Person AND Live Streaming Via FaceBook and YouTube Live
DESCRIPTION:https://www.facebook.com/JoyMetropolitanCommunityChurch \nhttps://www.youtube.com/channel/UCuQV4LHlarKHk1VPFA_iGVA \n 
URL:https://joymcc.com/event/worship-service-live-in-person-and-live-streaming-via-facebook-and-youtube-live-2/2028-04-30/
CATEGORIES:Events
END:VEVENT
BEGIN:VEVENT
DTSTART;TZID=UTC:20280501T190000
DTEND;TZID=UTC:20280501T200000
DTSTAMP:20260425T085919
CREATED:20251231T170302Z
LAST-MODIFIED:20251231T170507Z
UID:10004218-1840820400-1840824000@joymcc.com
SUMMARY:Expand Don't Ban Book Club
DESCRIPTION:https://us02web.zoom.us/j/87288924596
URL:https://joymcc.com/event/expand-dont-ban-book-club-4-2/2028-05-01/
CATEGORIES:Events
END:VEVENT
BEGIN:VEVENT
DTSTART;TZID=UTC:20280503T190000
DTEND;TZID=UTC:20280503T203000
DTSTAMP:20260425T085919
CREATED:20240924T184746Z
LAST-MODIFIED:20251231T165933Z
UID:10001778-1840993200-1840998600@joymcc.com
SUMMARY:Spiritual Transformation-In Person AND Via Zoom Meeting
DESCRIPTION:https://zoom.us/j/812716810 \nPASSCODE: 332797
URL:https://joymcc.com/event/spiritual-transformation-in-person-and-via-zoom-meeting-3/2028-05-03/
CATEGORIES:Events
END:VEVENT
BEGIN:VEVENT
DTSTART;TZID=UTC:20280507T090000
DTEND;TZID=UTC:20280507T100000
DTSTAMP:20260425T085919
CREATED:20240924T183031Z
LAST-MODIFIED:20241114T170426Z
UID:10002103-1841302800-1841306400@joymcc.com
SUMMARY:Worship Service-Live/In Person Only
DESCRIPTION:  \n 
URL:https://joymcc.com/event/worship-service-live-in-person-only-2/2028-05-07/
CATEGORIES:Events
END:VEVENT
BEGIN:VEVENT
DTSTART;TZID=UTC:20280507T110000
DTEND;TZID=UTC:20280507T121500
DTSTAMP:20260425T085919
CREATED:20251203T190746Z
LAST-MODIFIED:20251203T190746Z
UID:10003776-1841310000-1841314500@joymcc.com
SUMMARY:Worship Service-Live/In Person AND Live Streaming Via FaceBook and YouTube Live
DESCRIPTION:https://www.facebook.com/JoyMetropolitanCommunityChurch \nhttps://www.youtube.com/channel/UCuQV4LHlarKHk1VPFA_iGVA \n 
URL:https://joymcc.com/event/worship-service-live-in-person-and-live-streaming-via-facebook-and-youtube-live-2/2028-05-07/
CATEGORIES:Events
END:VEVENT
BEGIN:VEVENT
DTSTART;TZID=UTC:20280510T190000
DTEND;TZID=UTC:20280510T203000
DTSTAMP:20260425T085919
CREATED:20240924T184746Z
LAST-MODIFIED:20251231T165933Z
UID:10001779-1841598000-1841603400@joymcc.com
SUMMARY:Spiritual Transformation-In Person AND Via Zoom Meeting
DESCRIPTION:https://zoom.us/j/812716810 \nPASSCODE: 332797
URL:https://joymcc.com/event/spiritual-transformation-in-person-and-via-zoom-meeting-3/2028-05-10/
CATEGORIES:Events
END:VEVENT
BEGIN:VEVENT
DTSTART;TZID=UTC:20280514T090000
DTEND;TZID=UTC:20280514T100000
DTSTAMP:20260425T085919
CREATED:20240924T183031Z
LAST-MODIFIED:20241114T170426Z
UID:10002104-1841907600-1841911200@joymcc.com
SUMMARY:Worship Service-Live/In Person Only
DESCRIPTION:  \n 
URL:https://joymcc.com/event/worship-service-live-in-person-only-2/2028-05-14/
CATEGORIES:Events
END:VEVENT
BEGIN:VEVENT
DTSTART;TZID=UTC:20280514T110000
DTEND;TZID=UTC:20280514T121500
DTSTAMP:20260425T085919
CREATED:20251203T190746Z
LAST-MODIFIED:20251203T190746Z
UID:10003777-1841914800-1841919300@joymcc.com
SUMMARY:Worship Service-Live/In Person AND Live Streaming Via FaceBook and YouTube Live
DESCRIPTION:https://www.facebook.com/JoyMetropolitanCommunityChurch \nhttps://www.youtube.com/channel/UCuQV4LHlarKHk1VPFA_iGVA \n 
URL:https://joymcc.com/event/worship-service-live-in-person-and-live-streaming-via-facebook-and-youtube-live-2/2028-05-14/
CATEGORIES:Events
END:VEVENT
BEGIN:VEVENT
DTSTART;TZID=America/New_York:20280515T190000
DTEND;TZID=America/New_York:20280515T200000
DTSTAMP:20260425T085919
CREATED:20251214T110650Z
LAST-MODIFIED:20251214T111212Z
UID:10004097-1842030000-1842033600@joymcc.com
SUMMARY:Expand Don't Ban Book Club
DESCRIPTION:https://us02web.zoom.us/j/87288924596
URL:https://joymcc.com/event/expand-dont-ban-book-club-5-2-2/2028-05-15/
CATEGORIES:Events
END:VEVENT
BEGIN:VEVENT
DTSTART;TZID=UTC:20280517T190000
DTEND;TZID=UTC:20280517T203000
DTSTAMP:20260425T085919
CREATED:20240924T184746Z
LAST-MODIFIED:20251231T165933Z
UID:10001780-1842202800-1842208200@joymcc.com
SUMMARY:Spiritual Transformation-In Person AND Via Zoom Meeting
DESCRIPTION:https://zoom.us/j/812716810 \nPASSCODE: 332797
URL:https://joymcc.com/event/spiritual-transformation-in-person-and-via-zoom-meeting-3/2028-05-17/
CATEGORIES:Events
END:VEVENT
BEGIN:VEVENT
DTSTART;TZID=UTC:20280518T190000
DTEND;TZID=UTC:20280518T200000
DTSTAMP:20260425T085919
CREATED:20241023T135650Z
LAST-MODIFIED:20251214T111600Z
UID:10001901-1842289200-1842292800@joymcc.com
SUMMARY:Grief Support Group
DESCRIPTION:Living with Loss\, Healing with Hopeunitorlf
URL:https://joymcc.com/event/grief-support-group-4/2028-05-18/
CATEGORIES:Events
ATTACH;FMTTYPE=image/jpeg:https://joymcc.com/wp-content/uploads/2024/07/Announcements_030517_036.jpg
END:VEVENT
BEGIN:VEVENT
DTSTART;TZID=UTC:20280521T090000
DTEND;TZID=UTC:20280521T100000
DTSTAMP:20260425T085919
CREATED:20240924T183031Z
LAST-MODIFIED:20241114T170426Z
UID:10002105-1842512400-1842516000@joymcc.com
SUMMARY:Worship Service-Live/In Person Only
DESCRIPTION:  \n 
URL:https://joymcc.com/event/worship-service-live-in-person-only-2/2028-05-21/
CATEGORIES:Events
END:VEVENT
BEGIN:VEVENT
DTSTART;TZID=UTC:20280521T110000
DTEND;TZID=UTC:20280521T121500
DTSTAMP:20260425T085919
CREATED:20251203T190746Z
LAST-MODIFIED:20251203T190746Z
UID:10003778-1842519600-1842524100@joymcc.com
SUMMARY:Worship Service-Live/In Person AND Live Streaming Via FaceBook and YouTube Live
DESCRIPTION:https://www.facebook.com/JoyMetropolitanCommunityChurch \nhttps://www.youtube.com/channel/UCuQV4LHlarKHk1VPFA_iGVA \n 
URL:https://joymcc.com/event/worship-service-live-in-person-and-live-streaming-via-facebook-and-youtube-live-2/2028-05-21/
CATEGORIES:Events
END:VEVENT
BEGIN:VEVENT
DTSTART;TZID=UTC:20280524T190000
DTEND;TZID=UTC:20280524T203000
DTSTAMP:20260425T085919
CREATED:20240924T184746Z
LAST-MODIFIED:20251231T165933Z
UID:10001781-1842807600-1842813000@joymcc.com
SUMMARY:Spiritual Transformation-In Person AND Via Zoom Meeting
DESCRIPTION:https://zoom.us/j/812716810 \nPASSCODE: 332797
URL:https://joymcc.com/event/spiritual-transformation-in-person-and-via-zoom-meeting-3/2028-05-24/
CATEGORIES:Events
END:VEVENT
BEGIN:VEVENT
DTSTART;TZID=UTC:20280528T090000
DTEND;TZID=UTC:20280528T100000
DTSTAMP:20260425T085919
CREATED:20240924T183031Z
LAST-MODIFIED:20241114T170426Z
UID:10002106-1843117200-1843120800@joymcc.com
SUMMARY:Worship Service-Live/In Person Only
DESCRIPTION:  \n 
URL:https://joymcc.com/event/worship-service-live-in-person-only-2/2028-05-28/
CATEGORIES:Events
END:VEVENT
BEGIN:VEVENT
DTSTART;TZID=UTC:20280528T110000
DTEND;TZID=UTC:20280528T121500
DTSTAMP:20260425T085919
CREATED:20251203T190746Z
LAST-MODIFIED:20251203T190746Z
UID:10003779-1843124400-1843128900@joymcc.com
SUMMARY:Worship Service-Live/In Person AND Live Streaming Via FaceBook and YouTube Live
DESCRIPTION:https://www.facebook.com/JoyMetropolitanCommunityChurch \nhttps://www.youtube.com/channel/UCuQV4LHlarKHk1VPFA_iGVA \n 
URL:https://joymcc.com/event/worship-service-live-in-person-and-live-streaming-via-facebook-and-youtube-live-2/2028-05-28/
CATEGORIES:Events
END:VEVENT
BEGIN:VEVENT
DTSTART;TZID=UTC:20280531T190000
DTEND;TZID=UTC:20280531T203000
DTSTAMP:20260425T085919
CREATED:20240924T184746Z
LAST-MODIFIED:20251231T165933Z
UID:10001782-1843412400-1843417800@joymcc.com
SUMMARY:Spiritual Transformation-In Person AND Via Zoom Meeting
DESCRIPTION:https://zoom.us/j/812716810 \nPASSCODE: 332797
URL:https://joymcc.com/event/spiritual-transformation-in-person-and-via-zoom-meeting-3/2028-05-31/
CATEGORIES:Events
END:VEVENT
BEGIN:VEVENT
DTSTART;TZID=UTC:20280604T090000
DTEND;TZID=UTC:20280604T100000
DTSTAMP:20260425T085919
CREATED:20240924T183031Z
LAST-MODIFIED:20241114T170426Z
UID:10002107-1843722000-1843725600@joymcc.com
SUMMARY:Worship Service-Live/In Person Only
DESCRIPTION:  \n 
URL:https://joymcc.com/event/worship-service-live-in-person-only-2/2028-06-04/
CATEGORIES:Events
END:VEVENT
BEGIN:VEVENT
DTSTART;TZID=UTC:20280604T110000
DTEND;TZID=UTC:20280604T121500
DTSTAMP:20260425T085919
CREATED:20251203T190746Z
LAST-MODIFIED:20251203T190746Z
UID:10003780-1843729200-1843733700@joymcc.com
SUMMARY:Worship Service-Live/In Person AND Live Streaming Via FaceBook and YouTube Live
DESCRIPTION:https://www.facebook.com/JoyMetropolitanCommunityChurch \nhttps://www.youtube.com/channel/UCuQV4LHlarKHk1VPFA_iGVA \n 
URL:https://joymcc.com/event/worship-service-live-in-person-and-live-streaming-via-facebook-and-youtube-live-2/2028-06-04/
CATEGORIES:Events
END:VEVENT
BEGIN:VEVENT
DTSTART;TZID=UTC:20280605T190000
DTEND;TZID=UTC:20280605T200000
DTSTAMP:20260425T085920
CREATED:20251231T170302Z
LAST-MODIFIED:20251231T170507Z
UID:10004219-1843844400-1843848000@joymcc.com
SUMMARY:Expand Don't Ban Book Club
DESCRIPTION:https://us02web.zoom.us/j/87288924596
URL:https://joymcc.com/event/expand-dont-ban-book-club-4-2/2028-06-05/
CATEGORIES:Events
END:VEVENT
BEGIN:VEVENT
DTSTART;TZID=UTC:20280607T190000
DTEND;TZID=UTC:20280607T203000
DTSTAMP:20260425T085920
CREATED:20240924T184746Z
LAST-MODIFIED:20251231T165933Z
UID:10001783-1844017200-1844022600@joymcc.com
SUMMARY:Spiritual Transformation-In Person AND Via Zoom Meeting
DESCRIPTION:https://zoom.us/j/812716810 \nPASSCODE: 332797
URL:https://joymcc.com/event/spiritual-transformation-in-person-and-via-zoom-meeting-3/2028-06-07/
CATEGORIES:Events
END:VEVENT
BEGIN:VEVENT
DTSTART;TZID=UTC:20280611T090000
DTEND;TZID=UTC:20280611T100000
DTSTAMP:20260425T085920
CREATED:20240924T183031Z
LAST-MODIFIED:20241114T170426Z
UID:10002108-1844326800-1844330400@joymcc.com
SUMMARY:Worship Service-Live/In Person Only
DESCRIPTION:  \n 
URL:https://joymcc.com/event/worship-service-live-in-person-only-2/2028-06-11/
CATEGORIES:Events
END:VEVENT
BEGIN:VEVENT
DTSTART;TZID=UTC:20280611T110000
DTEND;TZID=UTC:20280611T121500
DTSTAMP:20260425T085920
CREATED:20251203T190746Z
LAST-MODIFIED:20251203T190746Z
UID:10003781-1844334000-1844338500@joymcc.com
SUMMARY:Worship Service-Live/In Person AND Live Streaming Via FaceBook and YouTube Live
DESCRIPTION:https://www.facebook.com/JoyMetropolitanCommunityChurch \nhttps://www.youtube.com/channel/UCuQV4LHlarKHk1VPFA_iGVA \n 
URL:https://joymcc.com/event/worship-service-live-in-person-and-live-streaming-via-facebook-and-youtube-live-2/2028-06-11/
CATEGORIES:Events
END:VEVENT
BEGIN:VEVENT
DTSTART;TZID=UTC:20280614T190000
DTEND;TZID=UTC:20280614T203000
DTSTAMP:20260425T085920
CREATED:20240924T184746Z
LAST-MODIFIED:20251231T165933Z
UID:10001784-1844622000-1844627400@joymcc.com
SUMMARY:Spiritual Transformation-In Person AND Via Zoom Meeting
DESCRIPTION:https://zoom.us/j/812716810 \nPASSCODE: 332797
URL:https://joymcc.com/event/spiritual-transformation-in-person-and-via-zoom-meeting-3/2028-06-14/
CATEGORIES:Events
END:VEVENT
BEGIN:VEVENT
DTSTART;TZID=UTC:20280615T190000
DTEND;TZID=UTC:20280615T200000
DTSTAMP:20260425T085920
CREATED:20241023T135650Z
LAST-MODIFIED:20251214T111600Z
UID:10001902-1844708400-1844712000@joymcc.com
SUMMARY:Grief Support Group
DESCRIPTION:Living with Loss\, Healing with Hopeunitorlf
URL:https://joymcc.com/event/grief-support-group-4/2028-06-15/
CATEGORIES:Events
ATTACH;FMTTYPE=image/jpeg:https://joymcc.com/wp-content/uploads/2024/07/Announcements_030517_036.jpg
END:VEVENT
BEGIN:VEVENT
DTSTART;TZID=UTC:20280618T090000
DTEND;TZID=UTC:20280618T100000
DTSTAMP:20260425T085920
CREATED:20240924T183031Z
LAST-MODIFIED:20241114T170426Z
UID:10002109-1844931600-1844935200@joymcc.com
SUMMARY:Worship Service-Live/In Person Only
DESCRIPTION:  \n 
URL:https://joymcc.com/event/worship-service-live-in-person-only-2/2028-06-18/
CATEGORIES:Events
END:VEVENT
BEGIN:VEVENT
DTSTART;TZID=UTC:20280618T110000
DTEND;TZID=UTC:20280618T121500
DTSTAMP:20260425T085920
CREATED:20251203T190746Z
LAST-MODIFIED:20251203T190746Z
UID:10003782-1844938800-1844943300@joymcc.com
SUMMARY:Worship Service-Live/In Person AND Live Streaming Via FaceBook and YouTube Live
DESCRIPTION:https://www.facebook.com/JoyMetropolitanCommunityChurch \nhttps://www.youtube.com/channel/UCuQV4LHlarKHk1VPFA_iGVA \n 
URL:https://joymcc.com/event/worship-service-live-in-person-and-live-streaming-via-facebook-and-youtube-live-2/2028-06-18/
CATEGORIES:Events
END:VEVENT
END:VCALENDAR