BEGIN:VCALENDAR
VERSION:2.0
PRODID:-//Joy Metropolitan Community Church - ECPv6.15.20//NONSGML v1.0//EN
CALSCALE:GREGORIAN
METHOD:PUBLISH
X-ORIGINAL-URL:https://joymcc.com
X-WR-CALDESC:Events for Joy Metropolitan Community Church
REFRESH-INTERVAL;VALUE=DURATION:PT1H
X-Robots-Tag:noindex
X-PUBLISHED-TTL:PT1H
BEGIN:VTIMEZONE
TZID:UTC
BEGIN:STANDARD
TZOFFSETFROM:+0000
TZOFFSETTO:+0000
TZNAME:UTC
DTSTART:20270101T000000
END:STANDARD
END:VTIMEZONE
BEGIN:VTIMEZONE
TZID:America/New_York
BEGIN:DAYLIGHT
TZOFFSETFROM:-0500
TZOFFSETTO:-0400
TZNAME:EDT
DTSTART:20270314T070000
END:DAYLIGHT
BEGIN:STANDARD
TZOFFSETFROM:-0400
TZOFFSETTO:-0500
TZNAME:EST
DTSTART:20271107T060000
END:STANDARD
BEGIN:DAYLIGHT
TZOFFSETFROM:-0500
TZOFFSETTO:-0400
TZNAME:EDT
DTSTART:20280312T070000
END:DAYLIGHT
BEGIN:STANDARD
TZOFFSETFROM:-0400
TZOFFSETTO:-0500
TZNAME:EST
DTSTART:20281105T060000
END:STANDARD
BEGIN:DAYLIGHT
TZOFFSETFROM:-0500
TZOFFSETTO:-0400
TZNAME:EDT
DTSTART:20290311T070000
END:DAYLIGHT
BEGIN:STANDARD
TZOFFSETFROM:-0400
TZOFFSETTO:-0500
TZNAME:EST
DTSTART:20291104T060000
END:STANDARD
END:VTIMEZONE
BEGIN:VEVENT
DTSTART;TZID=UTC:20280123T110000
DTEND;TZID=UTC:20280123T121500
DTSTAMP:20260425T081651
CREATED:20251203T190746Z
LAST-MODIFIED:20251203T190746Z
UID:10003761-1832238000-1832242500@joymcc.com
SUMMARY:Worship Service-Live/In Person AND Live Streaming Via FaceBook and YouTube Live
DESCRIPTION:https://www.facebook.com/JoyMetropolitanCommunityChurch \nhttps://www.youtube.com/channel/UCuQV4LHlarKHk1VPFA_iGVA \n 
URL:https://joymcc.com/event/worship-service-live-in-person-and-live-streaming-via-facebook-and-youtube-live-2/2028-01-23/
CATEGORIES:Events
END:VEVENT
BEGIN:VEVENT
DTSTART;TZID=UTC:20280126T190000
DTEND;TZID=UTC:20280126T203000
DTSTAMP:20260425T081651
CREATED:20240924T184746Z
LAST-MODIFIED:20251231T165933Z
UID:10001764-1832526000-1832531400@joymcc.com
SUMMARY:Spiritual Transformation-In Person AND Via Zoom Meeting
DESCRIPTION:https://zoom.us/j/812716810 \nPASSCODE: 332797
URL:https://joymcc.com/event/spiritual-transformation-in-person-and-via-zoom-meeting-3/2028-01-26/
CATEGORIES:Events
END:VEVENT
BEGIN:VEVENT
DTSTART;TZID=UTC:20280130T090000
DTEND;TZID=UTC:20280130T100000
DTSTAMP:20260425T081651
CREATED:20240924T183031Z
LAST-MODIFIED:20241114T170426Z
UID:10002089-1832835600-1832839200@joymcc.com
SUMMARY:Worship Service-Live/In Person Only
DESCRIPTION:  \n 
URL:https://joymcc.com/event/worship-service-live-in-person-only-2/2028-01-30/
CATEGORIES:Events
END:VEVENT
BEGIN:VEVENT
DTSTART;TZID=UTC:20280130T110000
DTEND;TZID=UTC:20280130T121500
DTSTAMP:20260425T081651
CREATED:20251203T190746Z
LAST-MODIFIED:20251203T190746Z
UID:10003762-1832842800-1832847300@joymcc.com
SUMMARY:Worship Service-Live/In Person AND Live Streaming Via FaceBook and YouTube Live
DESCRIPTION:https://www.facebook.com/JoyMetropolitanCommunityChurch \nhttps://www.youtube.com/channel/UCuQV4LHlarKHk1VPFA_iGVA \n 
URL:https://joymcc.com/event/worship-service-live-in-person-and-live-streaming-via-facebook-and-youtube-live-2/2028-01-30/
CATEGORIES:Events
END:VEVENT
BEGIN:VEVENT
DTSTART;TZID=UTC:20280202T190000
DTEND;TZID=UTC:20280202T203000
DTSTAMP:20260425T081651
CREATED:20240924T184746Z
LAST-MODIFIED:20251231T165933Z
UID:10001765-1833130800-1833136200@joymcc.com
SUMMARY:Spiritual Transformation-In Person AND Via Zoom Meeting
DESCRIPTION:https://zoom.us/j/812716810 \nPASSCODE: 332797
URL:https://joymcc.com/event/spiritual-transformation-in-person-and-via-zoom-meeting-3/2028-02-02/
CATEGORIES:Events
END:VEVENT
BEGIN:VEVENT
DTSTART;TZID=UTC:20280206T090000
DTEND;TZID=UTC:20280206T100000
DTSTAMP:20260425T081651
CREATED:20240924T183031Z
LAST-MODIFIED:20241114T170426Z
UID:10002090-1833440400-1833444000@joymcc.com
SUMMARY:Worship Service-Live/In Person Only
DESCRIPTION:  \n 
URL:https://joymcc.com/event/worship-service-live-in-person-only-2/2028-02-06/
CATEGORIES:Events
END:VEVENT
BEGIN:VEVENT
DTSTART;TZID=UTC:20280206T110000
DTEND;TZID=UTC:20280206T121500
DTSTAMP:20260425T081651
CREATED:20251203T190746Z
LAST-MODIFIED:20251203T190746Z
UID:10003763-1833447600-1833452100@joymcc.com
SUMMARY:Worship Service-Live/In Person AND Live Streaming Via FaceBook and YouTube Live
DESCRIPTION:https://www.facebook.com/JoyMetropolitanCommunityChurch \nhttps://www.youtube.com/channel/UCuQV4LHlarKHk1VPFA_iGVA \n 
URL:https://joymcc.com/event/worship-service-live-in-person-and-live-streaming-via-facebook-and-youtube-live-2/2028-02-06/
CATEGORIES:Events
END:VEVENT
BEGIN:VEVENT
DTSTART;TZID=UTC:20280207T190000
DTEND;TZID=UTC:20280207T200000
DTSTAMP:20260425T081651
CREATED:20251231T170302Z
LAST-MODIFIED:20251231T170507Z
UID:10004215-1833562800-1833566400@joymcc.com
SUMMARY:Expand Don't Ban Book Club
DESCRIPTION:https://us02web.zoom.us/j/87288924596
URL:https://joymcc.com/event/expand-dont-ban-book-club-4-2/2028-02-07/
CATEGORIES:Events
END:VEVENT
BEGIN:VEVENT
DTSTART;TZID=UTC:20280209T190000
DTEND;TZID=UTC:20280209T203000
DTSTAMP:20260425T081651
CREATED:20240924T184746Z
LAST-MODIFIED:20251231T165933Z
UID:10001766-1833735600-1833741000@joymcc.com
SUMMARY:Spiritual Transformation-In Person AND Via Zoom Meeting
DESCRIPTION:https://zoom.us/j/812716810 \nPASSCODE: 332797
URL:https://joymcc.com/event/spiritual-transformation-in-person-and-via-zoom-meeting-3/2028-02-09/
CATEGORIES:Events
END:VEVENT
BEGIN:VEVENT
DTSTART;TZID=UTC:20280213T090000
DTEND;TZID=UTC:20280213T100000
DTSTAMP:20260425T081651
CREATED:20240924T183031Z
LAST-MODIFIED:20241114T170426Z
UID:10002091-1834045200-1834048800@joymcc.com
SUMMARY:Worship Service-Live/In Person Only
DESCRIPTION:  \n 
URL:https://joymcc.com/event/worship-service-live-in-person-only-2/2028-02-13/
CATEGORIES:Events
END:VEVENT
BEGIN:VEVENT
DTSTART;TZID=UTC:20280213T110000
DTEND;TZID=UTC:20280213T121500
DTSTAMP:20260425T081651
CREATED:20251203T190746Z
LAST-MODIFIED:20251203T190746Z
UID:10003764-1834052400-1834056900@joymcc.com
SUMMARY:Worship Service-Live/In Person AND Live Streaming Via FaceBook and YouTube Live
DESCRIPTION:https://www.facebook.com/JoyMetropolitanCommunityChurch \nhttps://www.youtube.com/channel/UCuQV4LHlarKHk1VPFA_iGVA \n 
URL:https://joymcc.com/event/worship-service-live-in-person-and-live-streaming-via-facebook-and-youtube-live-2/2028-02-13/
CATEGORIES:Events
END:VEVENT
BEGIN:VEVENT
DTSTART;TZID=UTC:20280216T190000
DTEND;TZID=UTC:20280216T203000
DTSTAMP:20260425T081651
CREATED:20240924T184746Z
LAST-MODIFIED:20251231T165933Z
UID:10001767-1834340400-1834345800@joymcc.com
SUMMARY:Spiritual Transformation-In Person AND Via Zoom Meeting
DESCRIPTION:https://zoom.us/j/812716810 \nPASSCODE: 332797
URL:https://joymcc.com/event/spiritual-transformation-in-person-and-via-zoom-meeting-3/2028-02-16/
CATEGORIES:Events
END:VEVENT
BEGIN:VEVENT
DTSTART;TZID=UTC:20280217T190000
DTEND;TZID=UTC:20280217T200000
DTSTAMP:20260425T081651
CREATED:20241023T135650Z
LAST-MODIFIED:20251214T111600Z
UID:10001898-1834426800-1834430400@joymcc.com
SUMMARY:Grief Support Group
DESCRIPTION:Living with Loss\, Healing with Hopeunitorlf
URL:https://joymcc.com/event/grief-support-group-4/2028-02-17/
CATEGORIES:Events
ATTACH;FMTTYPE=image/jpeg:https://joymcc.com/wp-content/uploads/2024/07/Announcements_030517_036.jpg
END:VEVENT
BEGIN:VEVENT
DTSTART;TZID=UTC:20280220T090000
DTEND;TZID=UTC:20280220T100000
DTSTAMP:20260425T081651
CREATED:20240924T183031Z
LAST-MODIFIED:20241114T170426Z
UID:10002092-1834650000-1834653600@joymcc.com
SUMMARY:Worship Service-Live/In Person Only
DESCRIPTION:  \n 
URL:https://joymcc.com/event/worship-service-live-in-person-only-2/2028-02-20/
CATEGORIES:Events
END:VEVENT
BEGIN:VEVENT
DTSTART;TZID=UTC:20280220T110000
DTEND;TZID=UTC:20280220T121500
DTSTAMP:20260425T081651
CREATED:20251203T190746Z
LAST-MODIFIED:20251203T190746Z
UID:10003765-1834657200-1834661700@joymcc.com
SUMMARY:Worship Service-Live/In Person AND Live Streaming Via FaceBook and YouTube Live
DESCRIPTION:https://www.facebook.com/JoyMetropolitanCommunityChurch \nhttps://www.youtube.com/channel/UCuQV4LHlarKHk1VPFA_iGVA \n 
URL:https://joymcc.com/event/worship-service-live-in-person-and-live-streaming-via-facebook-and-youtube-live-2/2028-02-20/
CATEGORIES:Events
END:VEVENT
BEGIN:VEVENT
DTSTART;TZID=America/New_York:20280221T190000
DTEND;TZID=America/New_York:20280221T200000
DTSTAMP:20260425T081651
CREATED:20251214T110650Z
LAST-MODIFIED:20251214T111212Z
UID:10004095-1834772400-1834776000@joymcc.com
SUMMARY:Expand Don't Ban Book Club
DESCRIPTION:https://us02web.zoom.us/j/87288924596
URL:https://joymcc.com/event/expand-dont-ban-book-club-5-2-2/2028-02-21/
CATEGORIES:Events
END:VEVENT
BEGIN:VEVENT
DTSTART;TZID=UTC:20280223T190000
DTEND;TZID=UTC:20280223T203000
DTSTAMP:20260425T081651
CREATED:20240924T184746Z
LAST-MODIFIED:20251231T165933Z
UID:10001768-1834945200-1834950600@joymcc.com
SUMMARY:Spiritual Transformation-In Person AND Via Zoom Meeting
DESCRIPTION:https://zoom.us/j/812716810 \nPASSCODE: 332797
URL:https://joymcc.com/event/spiritual-transformation-in-person-and-via-zoom-meeting-3/2028-02-23/
CATEGORIES:Events
END:VEVENT
BEGIN:VEVENT
DTSTART;TZID=UTC:20280227T090000
DTEND;TZID=UTC:20280227T100000
DTSTAMP:20260425T081651
CREATED:20240924T183031Z
LAST-MODIFIED:20241114T170426Z
UID:10002093-1835254800-1835258400@joymcc.com
SUMMARY:Worship Service-Live/In Person Only
DESCRIPTION:  \n 
URL:https://joymcc.com/event/worship-service-live-in-person-only-2/2028-02-27/
CATEGORIES:Events
END:VEVENT
BEGIN:VEVENT
DTSTART;TZID=UTC:20280227T110000
DTEND;TZID=UTC:20280227T121500
DTSTAMP:20260425T081651
CREATED:20251203T190746Z
LAST-MODIFIED:20251203T190746Z
UID:10003766-1835262000-1835266500@joymcc.com
SUMMARY:Worship Service-Live/In Person AND Live Streaming Via FaceBook and YouTube Live
DESCRIPTION:https://www.facebook.com/JoyMetropolitanCommunityChurch \nhttps://www.youtube.com/channel/UCuQV4LHlarKHk1VPFA_iGVA \n 
URL:https://joymcc.com/event/worship-service-live-in-person-and-live-streaming-via-facebook-and-youtube-live-2/2028-02-27/
CATEGORIES:Events
END:VEVENT
BEGIN:VEVENT
DTSTART;TZID=UTC:20280301T190000
DTEND;TZID=UTC:20280301T203000
DTSTAMP:20260425T081651
CREATED:20240924T184746Z
LAST-MODIFIED:20251231T165933Z
UID:10001769-1835550000-1835555400@joymcc.com
SUMMARY:Spiritual Transformation-In Person AND Via Zoom Meeting
DESCRIPTION:https://zoom.us/j/812716810 \nPASSCODE: 332797
URL:https://joymcc.com/event/spiritual-transformation-in-person-and-via-zoom-meeting-3/2028-03-01/
CATEGORIES:Events
END:VEVENT
BEGIN:VEVENT
DTSTART;TZID=UTC:20280305T090000
DTEND;TZID=UTC:20280305T100000
DTSTAMP:20260425T081651
CREATED:20240924T183031Z
LAST-MODIFIED:20241114T170426Z
UID:10002094-1835859600-1835863200@joymcc.com
SUMMARY:Worship Service-Live/In Person Only
DESCRIPTION:  \n 
URL:https://joymcc.com/event/worship-service-live-in-person-only-2/2028-03-05/
CATEGORIES:Events
END:VEVENT
BEGIN:VEVENT
DTSTART;TZID=UTC:20280305T110000
DTEND;TZID=UTC:20280305T121500
DTSTAMP:20260425T081651
CREATED:20251203T190746Z
LAST-MODIFIED:20251203T190746Z
UID:10003767-1835866800-1835871300@joymcc.com
SUMMARY:Worship Service-Live/In Person AND Live Streaming Via FaceBook and YouTube Live
DESCRIPTION:https://www.facebook.com/JoyMetropolitanCommunityChurch \nhttps://www.youtube.com/channel/UCuQV4LHlarKHk1VPFA_iGVA \n 
URL:https://joymcc.com/event/worship-service-live-in-person-and-live-streaming-via-facebook-and-youtube-live-2/2028-03-05/
CATEGORIES:Events
END:VEVENT
BEGIN:VEVENT
DTSTART;TZID=UTC:20280306T190000
DTEND;TZID=UTC:20280306T200000
DTSTAMP:20260425T081651
CREATED:20251231T170302Z
LAST-MODIFIED:20251231T170507Z
UID:10004216-1835982000-1835985600@joymcc.com
SUMMARY:Expand Don't Ban Book Club
DESCRIPTION:https://us02web.zoom.us/j/87288924596
URL:https://joymcc.com/event/expand-dont-ban-book-club-4-2/2028-03-06/
CATEGORIES:Events
END:VEVENT
BEGIN:VEVENT
DTSTART;TZID=UTC:20280308T190000
DTEND;TZID=UTC:20280308T203000
DTSTAMP:20260425T081651
CREATED:20240924T184746Z
LAST-MODIFIED:20251231T165933Z
UID:10001770-1836154800-1836160200@joymcc.com
SUMMARY:Spiritual Transformation-In Person AND Via Zoom Meeting
DESCRIPTION:https://zoom.us/j/812716810 \nPASSCODE: 332797
URL:https://joymcc.com/event/spiritual-transformation-in-person-and-via-zoom-meeting-3/2028-03-08/
CATEGORIES:Events
END:VEVENT
BEGIN:VEVENT
DTSTART;TZID=UTC:20280312T090000
DTEND;TZID=UTC:20280312T100000
DTSTAMP:20260425T081651
CREATED:20240924T183031Z
LAST-MODIFIED:20241114T170426Z
UID:10002095-1836464400-1836468000@joymcc.com
SUMMARY:Worship Service-Live/In Person Only
DESCRIPTION:  \n 
URL:https://joymcc.com/event/worship-service-live-in-person-only-2/2028-03-12/
CATEGORIES:Events
END:VEVENT
BEGIN:VEVENT
DTSTART;TZID=UTC:20280312T110000
DTEND;TZID=UTC:20280312T121500
DTSTAMP:20260425T081651
CREATED:20251203T190746Z
LAST-MODIFIED:20251203T190746Z
UID:10003768-1836471600-1836476100@joymcc.com
SUMMARY:Worship Service-Live/In Person AND Live Streaming Via FaceBook and YouTube Live
DESCRIPTION:https://www.facebook.com/JoyMetropolitanCommunityChurch \nhttps://www.youtube.com/channel/UCuQV4LHlarKHk1VPFA_iGVA \n 
URL:https://joymcc.com/event/worship-service-live-in-person-and-live-streaming-via-facebook-and-youtube-live-2/2028-03-12/
CATEGORIES:Events
END:VEVENT
BEGIN:VEVENT
DTSTART;TZID=UTC:20280315T190000
DTEND;TZID=UTC:20280315T203000
DTSTAMP:20260425T081651
CREATED:20240924T184746Z
LAST-MODIFIED:20251231T165933Z
UID:10001771-1836759600-1836765000@joymcc.com
SUMMARY:Spiritual Transformation-In Person AND Via Zoom Meeting
DESCRIPTION:https://zoom.us/j/812716810 \nPASSCODE: 332797
URL:https://joymcc.com/event/spiritual-transformation-in-person-and-via-zoom-meeting-3/2028-03-15/
CATEGORIES:Events
END:VEVENT
BEGIN:VEVENT
DTSTART;TZID=UTC:20280316T190000
DTEND;TZID=UTC:20280316T200000
DTSTAMP:20260425T081651
CREATED:20241023T135650Z
LAST-MODIFIED:20251214T111600Z
UID:10001899-1836846000-1836849600@joymcc.com
SUMMARY:Grief Support Group
DESCRIPTION:Living with Loss\, Healing with Hopeunitorlf
URL:https://joymcc.com/event/grief-support-group-4/2028-03-16/
CATEGORIES:Events
ATTACH;FMTTYPE=image/jpeg:https://joymcc.com/wp-content/uploads/2024/07/Announcements_030517_036.jpg
END:VEVENT
BEGIN:VEVENT
DTSTART;TZID=UTC:20280319T090000
DTEND;TZID=UTC:20280319T100000
DTSTAMP:20260425T081651
CREATED:20240924T183031Z
LAST-MODIFIED:20241114T170426Z
UID:10002096-1837069200-1837072800@joymcc.com
SUMMARY:Worship Service-Live/In Person Only
DESCRIPTION:  \n 
URL:https://joymcc.com/event/worship-service-live-in-person-only-2/2028-03-19/
CATEGORIES:Events
END:VEVENT
BEGIN:VEVENT
DTSTART;TZID=UTC:20280319T110000
DTEND;TZID=UTC:20280319T121500
DTSTAMP:20260425T081651
CREATED:20251203T190746Z
LAST-MODIFIED:20251203T190746Z
UID:10003769-1837076400-1837080900@joymcc.com
SUMMARY:Worship Service-Live/In Person AND Live Streaming Via FaceBook and YouTube Live
DESCRIPTION:https://www.facebook.com/JoyMetropolitanCommunityChurch \nhttps://www.youtube.com/channel/UCuQV4LHlarKHk1VPFA_iGVA \n 
URL:https://joymcc.com/event/worship-service-live-in-person-and-live-streaming-via-facebook-and-youtube-live-2/2028-03-19/
CATEGORIES:Events
END:VEVENT
END:VCALENDAR