BEGIN:VCALENDAR
VERSION:2.0
PRODID:-//Joy Metropolitan Community Church - ECPv6.15.20//NONSGML v1.0//EN
CALSCALE:GREGORIAN
METHOD:PUBLISH
X-WR-CALNAME:Joy Metropolitan Community Church
X-ORIGINAL-URL:https://joymcc.com
X-WR-CALDESC:Events for Joy Metropolitan Community Church
REFRESH-INTERVAL;VALUE=DURATION:PT1H
X-Robots-Tag:noindex
X-PUBLISHED-TTL:PT1H
BEGIN:VTIMEZONE
TZID:UTC
BEGIN:STANDARD
TZOFFSETFROM:+0000
TZOFFSETTO:+0000
TZNAME:UTC
DTSTART:20260101T000000
END:STANDARD
END:VTIMEZONE
BEGIN:VTIMEZONE
TZID:America/New_York
BEGIN:DAYLIGHT
TZOFFSETFROM:-0500
TZOFFSETTO:-0400
TZNAME:EDT
DTSTART:20260308T070000
END:DAYLIGHT
BEGIN:STANDARD
TZOFFSETFROM:-0400
TZOFFSETTO:-0500
TZNAME:EST
DTSTART:20261101T060000
END:STANDARD
BEGIN:DAYLIGHT
TZOFFSETFROM:-0500
TZOFFSETTO:-0400
TZNAME:EDT
DTSTART:20270314T070000
END:DAYLIGHT
BEGIN:STANDARD
TZOFFSETFROM:-0400
TZOFFSETTO:-0500
TZNAME:EST
DTSTART:20271107T060000
END:STANDARD
BEGIN:DAYLIGHT
TZOFFSETFROM:-0500
TZOFFSETTO:-0400
TZNAME:EDT
DTSTART:20280312T070000
END:DAYLIGHT
BEGIN:STANDARD
TZOFFSETFROM:-0400
TZOFFSETTO:-0500
TZNAME:EST
DTSTART:20281105T060000
END:STANDARD
END:VTIMEZONE
BEGIN:VEVENT
DTSTART;TZID=UTC:20270912T110000
DTEND;TZID=UTC:20270912T121500
DTSTAMP:20260424T124634
CREATED:20251203T190746Z
LAST-MODIFIED:20251203T190746Z
UID:10003742-1820746800-1820751300@joymcc.com
SUMMARY:Worship Service-Live/In Person AND Live Streaming Via FaceBook and YouTube Live
DESCRIPTION:https://www.facebook.com/JoyMetropolitanCommunityChurch \nhttps://www.youtube.com/channel/UCuQV4LHlarKHk1VPFA_iGVA \n 
URL:https://joymcc.com/event/worship-service-live-in-person-and-live-streaming-via-facebook-and-youtube-live-2/2027-09-12/
CATEGORIES:Events
END:VEVENT
BEGIN:VEVENT
DTSTART;TZID=UTC:20270915T190000
DTEND;TZID=UTC:20270915T203000
DTSTAMP:20260424T124634
CREATED:20240924T184746Z
LAST-MODIFIED:20251231T165933Z
UID:10001745-1821034800-1821040200@joymcc.com
SUMMARY:Spiritual Transformation-In Person AND Via Zoom Meeting
DESCRIPTION:https://zoom.us/j/812716810 \nPASSCODE: 332797
URL:https://joymcc.com/event/spiritual-transformation-in-person-and-via-zoom-meeting-3/2027-09-15/
CATEGORIES:Events
END:VEVENT
BEGIN:VEVENT
DTSTART;TZID=UTC:20270916T190000
DTEND;TZID=UTC:20270916T200000
DTSTAMP:20260424T124634
CREATED:20241023T135650Z
LAST-MODIFIED:20251214T111600Z
UID:10001893-1821121200-1821124800@joymcc.com
SUMMARY:Grief Support Group
DESCRIPTION:Living with Loss\, Healing with Hopeunitorlf
URL:https://joymcc.com/event/grief-support-group-4/2027-09-16/
CATEGORIES:Events
ATTACH;FMTTYPE=image/jpeg:https://joymcc.com/wp-content/uploads/2024/07/Announcements_030517_036.jpg
END:VEVENT
BEGIN:VEVENT
DTSTART;TZID=UTC:20270919T090000
DTEND;TZID=UTC:20270919T100000
DTSTAMP:20260424T124634
CREATED:20240924T183031Z
LAST-MODIFIED:20241114T170426Z
UID:10002070-1821344400-1821348000@joymcc.com
SUMMARY:Worship Service-Live/In Person Only
DESCRIPTION:  \n 
URL:https://joymcc.com/event/worship-service-live-in-person-only-2/2027-09-19/
CATEGORIES:Events
END:VEVENT
BEGIN:VEVENT
DTSTART;TZID=UTC:20270919T110000
DTEND;TZID=UTC:20270919T121500
DTSTAMP:20260424T124634
CREATED:20251203T190746Z
LAST-MODIFIED:20251203T190746Z
UID:10003743-1821351600-1821356100@joymcc.com
SUMMARY:Worship Service-Live/In Person AND Live Streaming Via FaceBook and YouTube Live
DESCRIPTION:https://www.facebook.com/JoyMetropolitanCommunityChurch \nhttps://www.youtube.com/channel/UCuQV4LHlarKHk1VPFA_iGVA \n 
URL:https://joymcc.com/event/worship-service-live-in-person-and-live-streaming-via-facebook-and-youtube-live-2/2027-09-19/
CATEGORIES:Events
END:VEVENT
BEGIN:VEVENT
DTSTART;TZID=America/New_York:20270920T190000
DTEND;TZID=America/New_York:20270920T200000
DTSTAMP:20260424T124634
CREATED:20251214T110650Z
LAST-MODIFIED:20251214T111212Z
UID:10004091-1821466800-1821470400@joymcc.com
SUMMARY:Expand Don't Ban Book Club
DESCRIPTION:https://us02web.zoom.us/j/87288924596
URL:https://joymcc.com/event/expand-dont-ban-book-club-5-2-2/2027-09-20/
CATEGORIES:Events
END:VEVENT
BEGIN:VEVENT
DTSTART;TZID=UTC:20270922T190000
DTEND;TZID=UTC:20270922T203000
DTSTAMP:20260424T124634
CREATED:20240924T184746Z
LAST-MODIFIED:20251231T165933Z
UID:10001746-1821639600-1821645000@joymcc.com
SUMMARY:Spiritual Transformation-In Person AND Via Zoom Meeting
DESCRIPTION:https://zoom.us/j/812716810 \nPASSCODE: 332797
URL:https://joymcc.com/event/spiritual-transformation-in-person-and-via-zoom-meeting-3/2027-09-22/
CATEGORIES:Events
END:VEVENT
BEGIN:VEVENT
DTSTART;TZID=UTC:20270926T090000
DTEND;TZID=UTC:20270926T100000
DTSTAMP:20260424T124634
CREATED:20240924T183031Z
LAST-MODIFIED:20241114T170426Z
UID:10002071-1821949200-1821952800@joymcc.com
SUMMARY:Worship Service-Live/In Person Only
DESCRIPTION:  \n 
URL:https://joymcc.com/event/worship-service-live-in-person-only-2/2027-09-26/
CATEGORIES:Events
END:VEVENT
BEGIN:VEVENT
DTSTART;TZID=UTC:20270926T110000
DTEND;TZID=UTC:20270926T121500
DTSTAMP:20260424T124634
CREATED:20251203T190746Z
LAST-MODIFIED:20251203T190746Z
UID:10003744-1821956400-1821960900@joymcc.com
SUMMARY:Worship Service-Live/In Person AND Live Streaming Via FaceBook and YouTube Live
DESCRIPTION:https://www.facebook.com/JoyMetropolitanCommunityChurch \nhttps://www.youtube.com/channel/UCuQV4LHlarKHk1VPFA_iGVA \n 
URL:https://joymcc.com/event/worship-service-live-in-person-and-live-streaming-via-facebook-and-youtube-live-2/2027-09-26/
CATEGORIES:Events
END:VEVENT
BEGIN:VEVENT
DTSTART;TZID=UTC:20270929T190000
DTEND;TZID=UTC:20270929T203000
DTSTAMP:20260424T124634
CREATED:20240924T184746Z
LAST-MODIFIED:20251231T165933Z
UID:10001747-1822244400-1822249800@joymcc.com
SUMMARY:Spiritual Transformation-In Person AND Via Zoom Meeting
DESCRIPTION:https://zoom.us/j/812716810 \nPASSCODE: 332797
URL:https://joymcc.com/event/spiritual-transformation-in-person-and-via-zoom-meeting-3/2027-09-29/
CATEGORIES:Events
END:VEVENT
BEGIN:VEVENT
DTSTART;TZID=UTC:20271003T090000
DTEND;TZID=UTC:20271003T100000
DTSTAMP:20260424T124634
CREATED:20240924T183031Z
LAST-MODIFIED:20241114T170426Z
UID:10002072-1822554000-1822557600@joymcc.com
SUMMARY:Worship Service-Live/In Person Only
DESCRIPTION:  \n 
URL:https://joymcc.com/event/worship-service-live-in-person-only-2/2027-10-03/
CATEGORIES:Events
END:VEVENT
BEGIN:VEVENT
DTSTART;TZID=UTC:20271003T110000
DTEND;TZID=UTC:20271003T121500
DTSTAMP:20260424T124634
CREATED:20251203T190746Z
LAST-MODIFIED:20251203T190746Z
UID:10003745-1822561200-1822565700@joymcc.com
SUMMARY:Worship Service-Live/In Person AND Live Streaming Via FaceBook and YouTube Live
DESCRIPTION:https://www.facebook.com/JoyMetropolitanCommunityChurch \nhttps://www.youtube.com/channel/UCuQV4LHlarKHk1VPFA_iGVA \n 
URL:https://joymcc.com/event/worship-service-live-in-person-and-live-streaming-via-facebook-and-youtube-live-2/2027-10-03/
CATEGORIES:Events
END:VEVENT
BEGIN:VEVENT
DTSTART;TZID=UTC:20271004T190000
DTEND;TZID=UTC:20271004T200000
DTSTAMP:20260424T124634
CREATED:20251231T170302Z
LAST-MODIFIED:20251231T170507Z
UID:10004211-1822676400-1822680000@joymcc.com
SUMMARY:Expand Don't Ban Book Club
DESCRIPTION:https://us02web.zoom.us/j/87288924596
URL:https://joymcc.com/event/expand-dont-ban-book-club-4-2/2027-10-04/
CATEGORIES:Events
END:VEVENT
BEGIN:VEVENT
DTSTART;TZID=UTC:20271006T190000
DTEND;TZID=UTC:20271006T203000
DTSTAMP:20260424T124634
CREATED:20240924T184746Z
LAST-MODIFIED:20251231T165933Z
UID:10001748-1822849200-1822854600@joymcc.com
SUMMARY:Spiritual Transformation-In Person AND Via Zoom Meeting
DESCRIPTION:https://zoom.us/j/812716810 \nPASSCODE: 332797
URL:https://joymcc.com/event/spiritual-transformation-in-person-and-via-zoom-meeting-3/2027-10-06/
CATEGORIES:Events
END:VEVENT
BEGIN:VEVENT
DTSTART;TZID=UTC:20271010T090000
DTEND;TZID=UTC:20271010T100000
DTSTAMP:20260424T124634
CREATED:20240924T183031Z
LAST-MODIFIED:20241114T170426Z
UID:10002073-1823158800-1823162400@joymcc.com
SUMMARY:Worship Service-Live/In Person Only
DESCRIPTION:  \n 
URL:https://joymcc.com/event/worship-service-live-in-person-only-2/2027-10-10/
CATEGORIES:Events
END:VEVENT
BEGIN:VEVENT
DTSTART;TZID=UTC:20271010T110000
DTEND;TZID=UTC:20271010T121500
DTSTAMP:20260424T124634
CREATED:20251203T190746Z
LAST-MODIFIED:20251203T190746Z
UID:10003746-1823166000-1823170500@joymcc.com
SUMMARY:Worship Service-Live/In Person AND Live Streaming Via FaceBook and YouTube Live
DESCRIPTION:https://www.facebook.com/JoyMetropolitanCommunityChurch \nhttps://www.youtube.com/channel/UCuQV4LHlarKHk1VPFA_iGVA \n 
URL:https://joymcc.com/event/worship-service-live-in-person-and-live-streaming-via-facebook-and-youtube-live-2/2027-10-10/
CATEGORIES:Events
END:VEVENT
BEGIN:VEVENT
DTSTART;TZID=UTC:20271013T190000
DTEND;TZID=UTC:20271013T203000
DTSTAMP:20260424T124634
CREATED:20240924T184746Z
LAST-MODIFIED:20251231T165933Z
UID:10001749-1823454000-1823459400@joymcc.com
SUMMARY:Spiritual Transformation-In Person AND Via Zoom Meeting
DESCRIPTION:https://zoom.us/j/812716810 \nPASSCODE: 332797
URL:https://joymcc.com/event/spiritual-transformation-in-person-and-via-zoom-meeting-3/2027-10-13/
CATEGORIES:Events
END:VEVENT
BEGIN:VEVENT
DTSTART;TZID=UTC:20271017T090000
DTEND;TZID=UTC:20271017T100000
DTSTAMP:20260424T124634
CREATED:20240924T183031Z
LAST-MODIFIED:20241114T170426Z
UID:10002074-1823763600-1823767200@joymcc.com
SUMMARY:Worship Service-Live/In Person Only
DESCRIPTION:  \n 
URL:https://joymcc.com/event/worship-service-live-in-person-only-2/2027-10-17/
CATEGORIES:Events
END:VEVENT
BEGIN:VEVENT
DTSTART;TZID=UTC:20271017T110000
DTEND;TZID=UTC:20271017T121500
DTSTAMP:20260424T124634
CREATED:20251203T190746Z
LAST-MODIFIED:20251203T190746Z
UID:10003747-1823770800-1823775300@joymcc.com
SUMMARY:Worship Service-Live/In Person AND Live Streaming Via FaceBook and YouTube Live
DESCRIPTION:https://www.facebook.com/JoyMetropolitanCommunityChurch \nhttps://www.youtube.com/channel/UCuQV4LHlarKHk1VPFA_iGVA \n 
URL:https://joymcc.com/event/worship-service-live-in-person-and-live-streaming-via-facebook-and-youtube-live-2/2027-10-17/
CATEGORIES:Events
END:VEVENT
BEGIN:VEVENT
DTSTART;TZID=America/New_York:20271018T190000
DTEND;TZID=America/New_York:20271018T200000
DTSTAMP:20260424T124634
CREATED:20251214T110650Z
LAST-MODIFIED:20251214T111212Z
UID:10004092-1823886000-1823889600@joymcc.com
SUMMARY:Expand Don't Ban Book Club
DESCRIPTION:https://us02web.zoom.us/j/87288924596
URL:https://joymcc.com/event/expand-dont-ban-book-club-5-2-2/2027-10-18/
CATEGORIES:Events
END:VEVENT
BEGIN:VEVENT
DTSTART;TZID=UTC:20271020T190000
DTEND;TZID=UTC:20271020T203000
DTSTAMP:20260424T124634
CREATED:20240924T184746Z
LAST-MODIFIED:20251231T165933Z
UID:10001750-1824058800-1824064200@joymcc.com
SUMMARY:Spiritual Transformation-In Person AND Via Zoom Meeting
DESCRIPTION:https://zoom.us/j/812716810 \nPASSCODE: 332797
URL:https://joymcc.com/event/spiritual-transformation-in-person-and-via-zoom-meeting-3/2027-10-20/
CATEGORIES:Events
END:VEVENT
BEGIN:VEVENT
DTSTART;TZID=UTC:20271021T190000
DTEND;TZID=UTC:20271021T200000
DTSTAMP:20260424T124634
CREATED:20241023T135650Z
LAST-MODIFIED:20251214T111600Z
UID:10001894-1824145200-1824148800@joymcc.com
SUMMARY:Grief Support Group
DESCRIPTION:Living with Loss\, Healing with Hopeunitorlf
URL:https://joymcc.com/event/grief-support-group-4/2027-10-21/
CATEGORIES:Events
ATTACH;FMTTYPE=image/jpeg:https://joymcc.com/wp-content/uploads/2024/07/Announcements_030517_036.jpg
END:VEVENT
BEGIN:VEVENT
DTSTART;TZID=UTC:20271024T090000
DTEND;TZID=UTC:20271024T100000
DTSTAMP:20260424T124634
CREATED:20240924T183031Z
LAST-MODIFIED:20241114T170426Z
UID:10002075-1824368400-1824372000@joymcc.com
SUMMARY:Worship Service-Live/In Person Only
DESCRIPTION:  \n 
URL:https://joymcc.com/event/worship-service-live-in-person-only-2/2027-10-24/
CATEGORIES:Events
END:VEVENT
BEGIN:VEVENT
DTSTART;TZID=UTC:20271024T110000
DTEND;TZID=UTC:20271024T121500
DTSTAMP:20260424T124634
CREATED:20251203T190746Z
LAST-MODIFIED:20251203T190746Z
UID:10003748-1824375600-1824380100@joymcc.com
SUMMARY:Worship Service-Live/In Person AND Live Streaming Via FaceBook and YouTube Live
DESCRIPTION:https://www.facebook.com/JoyMetropolitanCommunityChurch \nhttps://www.youtube.com/channel/UCuQV4LHlarKHk1VPFA_iGVA \n 
URL:https://joymcc.com/event/worship-service-live-in-person-and-live-streaming-via-facebook-and-youtube-live-2/2027-10-24/
CATEGORIES:Events
END:VEVENT
BEGIN:VEVENT
DTSTART;TZID=UTC:20271027T190000
DTEND;TZID=UTC:20271027T203000
DTSTAMP:20260424T124634
CREATED:20240924T184746Z
LAST-MODIFIED:20251231T165933Z
UID:10001751-1824663600-1824669000@joymcc.com
SUMMARY:Spiritual Transformation-In Person AND Via Zoom Meeting
DESCRIPTION:https://zoom.us/j/812716810 \nPASSCODE: 332797
URL:https://joymcc.com/event/spiritual-transformation-in-person-and-via-zoom-meeting-3/2027-10-27/
CATEGORIES:Events
END:VEVENT
BEGIN:VEVENT
DTSTART;TZID=UTC:20271031T090000
DTEND;TZID=UTC:20271031T100000
DTSTAMP:20260424T124634
CREATED:20240924T183031Z
LAST-MODIFIED:20241114T170426Z
UID:10002076-1824973200-1824976800@joymcc.com
SUMMARY:Worship Service-Live/In Person Only
DESCRIPTION:  \n 
URL:https://joymcc.com/event/worship-service-live-in-person-only-2/2027-10-31/
CATEGORIES:Events
END:VEVENT
BEGIN:VEVENT
DTSTART;TZID=UTC:20271031T110000
DTEND;TZID=UTC:20271031T121500
DTSTAMP:20260424T124634
CREATED:20251203T190746Z
LAST-MODIFIED:20251203T190746Z
UID:10003749-1824980400-1824984900@joymcc.com
SUMMARY:Worship Service-Live/In Person AND Live Streaming Via FaceBook and YouTube Live
DESCRIPTION:https://www.facebook.com/JoyMetropolitanCommunityChurch \nhttps://www.youtube.com/channel/UCuQV4LHlarKHk1VPFA_iGVA \n 
URL:https://joymcc.com/event/worship-service-live-in-person-and-live-streaming-via-facebook-and-youtube-live-2/2027-10-31/
CATEGORIES:Events
END:VEVENT
BEGIN:VEVENT
DTSTART;TZID=UTC:20271101T190000
DTEND;TZID=UTC:20271101T200000
DTSTAMP:20260424T124634
CREATED:20251231T170302Z
LAST-MODIFIED:20251231T170507Z
UID:10004212-1825095600-1825099200@joymcc.com
SUMMARY:Expand Don't Ban Book Club
DESCRIPTION:https://us02web.zoom.us/j/87288924596
URL:https://joymcc.com/event/expand-dont-ban-book-club-4-2/2027-11-01/
CATEGORIES:Events
END:VEVENT
BEGIN:VEVENT
DTSTART;TZID=UTC:20271103T190000
DTEND;TZID=UTC:20271103T203000
DTSTAMP:20260424T124634
CREATED:20240924T184746Z
LAST-MODIFIED:20251231T165933Z
UID:10001752-1825268400-1825273800@joymcc.com
SUMMARY:Spiritual Transformation-In Person AND Via Zoom Meeting
DESCRIPTION:https://zoom.us/j/812716810 \nPASSCODE: 332797
URL:https://joymcc.com/event/spiritual-transformation-in-person-and-via-zoom-meeting-3/2027-11-03/
CATEGORIES:Events
END:VEVENT
BEGIN:VEVENT
DTSTART;TZID=UTC:20271107T090000
DTEND;TZID=UTC:20271107T100000
DTSTAMP:20260424T124634
CREATED:20240924T183031Z
LAST-MODIFIED:20241114T170426Z
UID:10002077-1825578000-1825581600@joymcc.com
SUMMARY:Worship Service-Live/In Person Only
DESCRIPTION:  \n 
URL:https://joymcc.com/event/worship-service-live-in-person-only-2/2027-11-07/
CATEGORIES:Events
END:VEVENT
END:VCALENDAR