BEGIN:VCALENDAR
VERSION:2.0
PRODID:-//Joy Metropolitan Community Church - ECPv6.15.20//NONSGML v1.0//EN
CALSCALE:GREGORIAN
METHOD:PUBLISH
X-WR-CALNAME:Joy Metropolitan Community Church
X-ORIGINAL-URL:https://joymcc.com
X-WR-CALDESC:Events for Joy Metropolitan Community Church
REFRESH-INTERVAL;VALUE=DURATION:PT1H
X-Robots-Tag:noindex
X-PUBLISHED-TTL:PT1H
BEGIN:VTIMEZONE
TZID:UTC
BEGIN:STANDARD
TZOFFSETFROM:+0000
TZOFFSETTO:+0000
TZNAME:UTC
DTSTART:20260101T000000
END:STANDARD
END:VTIMEZONE
BEGIN:VTIMEZONE
TZID:America/New_York
BEGIN:DAYLIGHT
TZOFFSETFROM:-0500
TZOFFSETTO:-0400
TZNAME:EDT
DTSTART:20260308T070000
END:DAYLIGHT
BEGIN:STANDARD
TZOFFSETFROM:-0400
TZOFFSETTO:-0500
TZNAME:EST
DTSTART:20261101T060000
END:STANDARD
BEGIN:DAYLIGHT
TZOFFSETFROM:-0500
TZOFFSETTO:-0400
TZNAME:EDT
DTSTART:20270314T070000
END:DAYLIGHT
BEGIN:STANDARD
TZOFFSETFROM:-0400
TZOFFSETTO:-0500
TZNAME:EST
DTSTART:20271107T060000
END:STANDARD
BEGIN:DAYLIGHT
TZOFFSETFROM:-0500
TZOFFSETTO:-0400
TZNAME:EDT
DTSTART:20280312T070000
END:DAYLIGHT
BEGIN:STANDARD
TZOFFSETFROM:-0400
TZOFFSETTO:-0500
TZNAME:EST
DTSTART:20281105T060000
END:STANDARD
END:VTIMEZONE
BEGIN:VEVENT
DTSTART;TZID=UTC:20270331T190000
DTEND;TZID=UTC:20270331T203000
DTSTAMP:20260424T032921
CREATED:20240924T184746Z
LAST-MODIFIED:20251231T165933Z
UID:10001721-1806519600-1806525000@joymcc.com
SUMMARY:Spiritual Transformation-In Person AND Via Zoom Meeting
DESCRIPTION:https://zoom.us/j/812716810 \nPASSCODE: 332797
URL:https://joymcc.com/event/spiritual-transformation-in-person-and-via-zoom-meeting-3/2027-03-31/
CATEGORIES:Events
END:VEVENT
BEGIN:VEVENT
DTSTART;TZID=UTC:20270404T090000
DTEND;TZID=UTC:20270404T100000
DTSTAMP:20260424T032921
CREATED:20240924T183031Z
LAST-MODIFIED:20241114T170426Z
UID:10002046-1806829200-1806832800@joymcc.com
SUMMARY:Worship Service-Live/In Person Only
DESCRIPTION:  \n 
URL:https://joymcc.com/event/worship-service-live-in-person-only-2/2027-04-04/
CATEGORIES:Events
END:VEVENT
BEGIN:VEVENT
DTSTART;TZID=UTC:20270404T110000
DTEND;TZID=UTC:20270404T121500
DTSTAMP:20260424T032921
CREATED:20251203T190746Z
LAST-MODIFIED:20251203T190746Z
UID:10003719-1806836400-1806840900@joymcc.com
SUMMARY:Worship Service-Live/In Person AND Live Streaming Via FaceBook and YouTube Live
DESCRIPTION:https://www.facebook.com/JoyMetropolitanCommunityChurch \nhttps://www.youtube.com/channel/UCuQV4LHlarKHk1VPFA_iGVA \n 
URL:https://joymcc.com/event/worship-service-live-in-person-and-live-streaming-via-facebook-and-youtube-live-2/2027-04-04/
CATEGORIES:Events
END:VEVENT
BEGIN:VEVENT
DTSTART;TZID=UTC:20270405T190000
DTEND;TZID=UTC:20270405T200000
DTSTAMP:20260424T032921
CREATED:20251231T170302Z
LAST-MODIFIED:20251231T170507Z
UID:10004206-1806951600-1806955200@joymcc.com
SUMMARY:Expand Don't Ban Book Club
DESCRIPTION:https://us02web.zoom.us/j/87288924596
URL:https://joymcc.com/event/expand-dont-ban-book-club-4-2/2027-04-05/
CATEGORIES:Events
END:VEVENT
BEGIN:VEVENT
DTSTART;TZID=UTC:20270407T190000
DTEND;TZID=UTC:20270407T203000
DTSTAMP:20260424T032921
CREATED:20240924T184746Z
LAST-MODIFIED:20251231T165933Z
UID:10001722-1807124400-1807129800@joymcc.com
SUMMARY:Spiritual Transformation-In Person AND Via Zoom Meeting
DESCRIPTION:https://zoom.us/j/812716810 \nPASSCODE: 332797
URL:https://joymcc.com/event/spiritual-transformation-in-person-and-via-zoom-meeting-3/2027-04-07/
CATEGORIES:Events
END:VEVENT
BEGIN:VEVENT
DTSTART;TZID=UTC:20270411T090000
DTEND;TZID=UTC:20270411T100000
DTSTAMP:20260424T032921
CREATED:20240924T183031Z
LAST-MODIFIED:20241114T170426Z
UID:10002047-1807434000-1807437600@joymcc.com
SUMMARY:Worship Service-Live/In Person Only
DESCRIPTION:  \n 
URL:https://joymcc.com/event/worship-service-live-in-person-only-2/2027-04-11/
CATEGORIES:Events
END:VEVENT
BEGIN:VEVENT
DTSTART;TZID=UTC:20270411T110000
DTEND;TZID=UTC:20270411T121500
DTSTAMP:20260424T032921
CREATED:20251203T190746Z
LAST-MODIFIED:20251203T190746Z
UID:10003720-1807441200-1807445700@joymcc.com
SUMMARY:Worship Service-Live/In Person AND Live Streaming Via FaceBook and YouTube Live
DESCRIPTION:https://www.facebook.com/JoyMetropolitanCommunityChurch \nhttps://www.youtube.com/channel/UCuQV4LHlarKHk1VPFA_iGVA \n 
URL:https://joymcc.com/event/worship-service-live-in-person-and-live-streaming-via-facebook-and-youtube-live-2/2027-04-11/
CATEGORIES:Events
END:VEVENT
BEGIN:VEVENT
DTSTART;TZID=UTC:20270414T190000
DTEND;TZID=UTC:20270414T203000
DTSTAMP:20260424T032921
CREATED:20240924T184746Z
LAST-MODIFIED:20251231T165933Z
UID:10001723-1807729200-1807734600@joymcc.com
SUMMARY:Spiritual Transformation-In Person AND Via Zoom Meeting
DESCRIPTION:https://zoom.us/j/812716810 \nPASSCODE: 332797
URL:https://joymcc.com/event/spiritual-transformation-in-person-and-via-zoom-meeting-3/2027-04-14/
CATEGORIES:Events
END:VEVENT
BEGIN:VEVENT
DTSTART;TZID=UTC:20270415T190000
DTEND;TZID=UTC:20270415T200000
DTSTAMP:20260424T032921
CREATED:20241023T135650Z
LAST-MODIFIED:20251214T111600Z
UID:10001888-1807815600-1807819200@joymcc.com
SUMMARY:Grief Support Group
DESCRIPTION:Living with Loss\, Healing with Hopeunitorlf
URL:https://joymcc.com/event/grief-support-group-4/2027-04-15/
CATEGORIES:Events
ATTACH;FMTTYPE=image/jpeg:https://joymcc.com/wp-content/uploads/2024/07/Announcements_030517_036.jpg
END:VEVENT
BEGIN:VEVENT
DTSTART;TZID=UTC:20270418T090000
DTEND;TZID=UTC:20270418T100000
DTSTAMP:20260424T032921
CREATED:20240924T183031Z
LAST-MODIFIED:20241114T170426Z
UID:10002048-1808038800-1808042400@joymcc.com
SUMMARY:Worship Service-Live/In Person Only
DESCRIPTION:  \n 
URL:https://joymcc.com/event/worship-service-live-in-person-only-2/2027-04-18/
CATEGORIES:Events
END:VEVENT
BEGIN:VEVENT
DTSTART;TZID=UTC:20270418T110000
DTEND;TZID=UTC:20270418T121500
DTSTAMP:20260424T032921
CREATED:20251203T190746Z
LAST-MODIFIED:20251203T190746Z
UID:10003721-1808046000-1808050500@joymcc.com
SUMMARY:Worship Service-Live/In Person AND Live Streaming Via FaceBook and YouTube Live
DESCRIPTION:https://www.facebook.com/JoyMetropolitanCommunityChurch \nhttps://www.youtube.com/channel/UCuQV4LHlarKHk1VPFA_iGVA \n 
URL:https://joymcc.com/event/worship-service-live-in-person-and-live-streaming-via-facebook-and-youtube-live-2/2027-04-18/
CATEGORIES:Events
END:VEVENT
BEGIN:VEVENT
DTSTART;TZID=America/New_York:20270419T190000
DTEND;TZID=America/New_York:20270419T200000
DTSTAMP:20260424T032921
CREATED:20251214T110650Z
LAST-MODIFIED:20251214T111212Z
UID:10004087-1808161200-1808164800@joymcc.com
SUMMARY:Expand Don't Ban Book Club
DESCRIPTION:https://us02web.zoom.us/j/87288924596
URL:https://joymcc.com/event/expand-dont-ban-book-club-5-2-2/2027-04-19/
CATEGORIES:Events
END:VEVENT
BEGIN:VEVENT
DTSTART;TZID=UTC:20270421T190000
DTEND;TZID=UTC:20270421T203000
DTSTAMP:20260424T032921
CREATED:20240924T184746Z
LAST-MODIFIED:20251231T165933Z
UID:10001724-1808334000-1808339400@joymcc.com
SUMMARY:Spiritual Transformation-In Person AND Via Zoom Meeting
DESCRIPTION:https://zoom.us/j/812716810 \nPASSCODE: 332797
URL:https://joymcc.com/event/spiritual-transformation-in-person-and-via-zoom-meeting-3/2027-04-21/
CATEGORIES:Events
END:VEVENT
BEGIN:VEVENT
DTSTART;TZID=UTC:20270425T090000
DTEND;TZID=UTC:20270425T100000
DTSTAMP:20260424T032921
CREATED:20240924T183031Z
LAST-MODIFIED:20241114T170426Z
UID:10002049-1808643600-1808647200@joymcc.com
SUMMARY:Worship Service-Live/In Person Only
DESCRIPTION:  \n 
URL:https://joymcc.com/event/worship-service-live-in-person-only-2/2027-04-25/
CATEGORIES:Events
END:VEVENT
BEGIN:VEVENT
DTSTART;TZID=UTC:20270425T110000
DTEND;TZID=UTC:20270425T121500
DTSTAMP:20260424T032921
CREATED:20251203T190746Z
LAST-MODIFIED:20251203T190746Z
UID:10003722-1808650800-1808655300@joymcc.com
SUMMARY:Worship Service-Live/In Person AND Live Streaming Via FaceBook and YouTube Live
DESCRIPTION:https://www.facebook.com/JoyMetropolitanCommunityChurch \nhttps://www.youtube.com/channel/UCuQV4LHlarKHk1VPFA_iGVA \n 
URL:https://joymcc.com/event/worship-service-live-in-person-and-live-streaming-via-facebook-and-youtube-live-2/2027-04-25/
CATEGORIES:Events
END:VEVENT
BEGIN:VEVENT
DTSTART;TZID=UTC:20270428T190000
DTEND;TZID=UTC:20270428T203000
DTSTAMP:20260424T032921
CREATED:20240924T184746Z
LAST-MODIFIED:20251231T165933Z
UID:10001725-1808938800-1808944200@joymcc.com
SUMMARY:Spiritual Transformation-In Person AND Via Zoom Meeting
DESCRIPTION:https://zoom.us/j/812716810 \nPASSCODE: 332797
URL:https://joymcc.com/event/spiritual-transformation-in-person-and-via-zoom-meeting-3/2027-04-28/
CATEGORIES:Events
END:VEVENT
BEGIN:VEVENT
DTSTART;TZID=UTC:20270502T090000
DTEND;TZID=UTC:20270502T100000
DTSTAMP:20260424T032921
CREATED:20240924T183031Z
LAST-MODIFIED:20241114T170426Z
UID:10002050-1809248400-1809252000@joymcc.com
SUMMARY:Worship Service-Live/In Person Only
DESCRIPTION:  \n 
URL:https://joymcc.com/event/worship-service-live-in-person-only-2/2027-05-02/
CATEGORIES:Events
END:VEVENT
BEGIN:VEVENT
DTSTART;TZID=UTC:20270502T110000
DTEND;TZID=UTC:20270502T121500
DTSTAMP:20260424T032921
CREATED:20251203T190746Z
LAST-MODIFIED:20251203T190746Z
UID:10003723-1809255600-1809260100@joymcc.com
SUMMARY:Worship Service-Live/In Person AND Live Streaming Via FaceBook and YouTube Live
DESCRIPTION:https://www.facebook.com/JoyMetropolitanCommunityChurch \nhttps://www.youtube.com/channel/UCuQV4LHlarKHk1VPFA_iGVA \n 
URL:https://joymcc.com/event/worship-service-live-in-person-and-live-streaming-via-facebook-and-youtube-live-2/2027-05-02/
CATEGORIES:Events
END:VEVENT
BEGIN:VEVENT
DTSTART;TZID=UTC:20270503T190000
DTEND;TZID=UTC:20270503T200000
DTSTAMP:20260424T032921
CREATED:20251231T170302Z
LAST-MODIFIED:20251231T170507Z
UID:10004207-1809370800-1809374400@joymcc.com
SUMMARY:Expand Don't Ban Book Club
DESCRIPTION:https://us02web.zoom.us/j/87288924596
URL:https://joymcc.com/event/expand-dont-ban-book-club-4-2/2027-05-03/
CATEGORIES:Events
END:VEVENT
BEGIN:VEVENT
DTSTART;TZID=UTC:20270505T190000
DTEND;TZID=UTC:20270505T203000
DTSTAMP:20260424T032921
CREATED:20240924T184746Z
LAST-MODIFIED:20251231T165933Z
UID:10001726-1809543600-1809549000@joymcc.com
SUMMARY:Spiritual Transformation-In Person AND Via Zoom Meeting
DESCRIPTION:https://zoom.us/j/812716810 \nPASSCODE: 332797
URL:https://joymcc.com/event/spiritual-transformation-in-person-and-via-zoom-meeting-3/2027-05-05/
CATEGORIES:Events
END:VEVENT
BEGIN:VEVENT
DTSTART;TZID=UTC:20270509T090000
DTEND;TZID=UTC:20270509T100000
DTSTAMP:20260424T032921
CREATED:20240924T183031Z
LAST-MODIFIED:20241114T170426Z
UID:10002051-1809853200-1809856800@joymcc.com
SUMMARY:Worship Service-Live/In Person Only
DESCRIPTION:  \n 
URL:https://joymcc.com/event/worship-service-live-in-person-only-2/2027-05-09/
CATEGORIES:Events
END:VEVENT
BEGIN:VEVENT
DTSTART;TZID=UTC:20270509T110000
DTEND;TZID=UTC:20270509T121500
DTSTAMP:20260424T032921
CREATED:20251203T190746Z
LAST-MODIFIED:20251203T190746Z
UID:10003724-1809860400-1809864900@joymcc.com
SUMMARY:Worship Service-Live/In Person AND Live Streaming Via FaceBook and YouTube Live
DESCRIPTION:https://www.facebook.com/JoyMetropolitanCommunityChurch \nhttps://www.youtube.com/channel/UCuQV4LHlarKHk1VPFA_iGVA \n 
URL:https://joymcc.com/event/worship-service-live-in-person-and-live-streaming-via-facebook-and-youtube-live-2/2027-05-09/
CATEGORIES:Events
END:VEVENT
BEGIN:VEVENT
DTSTART;TZID=UTC:20270512T190000
DTEND;TZID=UTC:20270512T203000
DTSTAMP:20260424T032921
CREATED:20240924T184746Z
LAST-MODIFIED:20251231T165933Z
UID:10001727-1810148400-1810153800@joymcc.com
SUMMARY:Spiritual Transformation-In Person AND Via Zoom Meeting
DESCRIPTION:https://zoom.us/j/812716810 \nPASSCODE: 332797
URL:https://joymcc.com/event/spiritual-transformation-in-person-and-via-zoom-meeting-3/2027-05-12/
CATEGORIES:Events
END:VEVENT
BEGIN:VEVENT
DTSTART;TZID=UTC:20270516T090000
DTEND;TZID=UTC:20270516T100000
DTSTAMP:20260424T032921
CREATED:20240924T183031Z
LAST-MODIFIED:20241114T170426Z
UID:10002052-1810458000-1810461600@joymcc.com
SUMMARY:Worship Service-Live/In Person Only
DESCRIPTION:  \n 
URL:https://joymcc.com/event/worship-service-live-in-person-only-2/2027-05-16/
CATEGORIES:Events
END:VEVENT
BEGIN:VEVENT
DTSTART;TZID=UTC:20270516T110000
DTEND;TZID=UTC:20270516T121500
DTSTAMP:20260424T032921
CREATED:20251203T190746Z
LAST-MODIFIED:20251203T190746Z
UID:10003725-1810465200-1810469700@joymcc.com
SUMMARY:Worship Service-Live/In Person AND Live Streaming Via FaceBook and YouTube Live
DESCRIPTION:https://www.facebook.com/JoyMetropolitanCommunityChurch \nhttps://www.youtube.com/channel/UCuQV4LHlarKHk1VPFA_iGVA \n 
URL:https://joymcc.com/event/worship-service-live-in-person-and-live-streaming-via-facebook-and-youtube-live-2/2027-05-16/
CATEGORIES:Events
END:VEVENT
BEGIN:VEVENT
DTSTART;TZID=America/New_York:20270517T190000
DTEND;TZID=America/New_York:20270517T200000
DTSTAMP:20260424T032921
CREATED:20251214T110650Z
LAST-MODIFIED:20251214T111212Z
UID:10004035-1810580400-1810584000@joymcc.com
SUMMARY:Expand Don't Ban Book Club
DESCRIPTION:https://us02web.zoom.us/j/87288924596
URL:https://joymcc.com/event/expand-dont-ban-book-club-5-2-2/2027-05-17/
CATEGORIES:Events
END:VEVENT
BEGIN:VEVENT
DTSTART;TZID=UTC:20270519T190000
DTEND;TZID=UTC:20270519T203000
DTSTAMP:20260424T032921
CREATED:20240924T184746Z
LAST-MODIFIED:20251231T165933Z
UID:10001728-1810753200-1810758600@joymcc.com
SUMMARY:Spiritual Transformation-In Person AND Via Zoom Meeting
DESCRIPTION:https://zoom.us/j/812716810 \nPASSCODE: 332797
URL:https://joymcc.com/event/spiritual-transformation-in-person-and-via-zoom-meeting-3/2027-05-19/
CATEGORIES:Events
END:VEVENT
BEGIN:VEVENT
DTSTART;TZID=UTC:20270520T190000
DTEND;TZID=UTC:20270520T200000
DTSTAMP:20260424T032921
CREATED:20241023T135650Z
LAST-MODIFIED:20251214T111600Z
UID:10001889-1810839600-1810843200@joymcc.com
SUMMARY:Grief Support Group
DESCRIPTION:Living with Loss\, Healing with Hopeunitorlf
URL:https://joymcc.com/event/grief-support-group-4/2027-05-20/
CATEGORIES:Events
ATTACH;FMTTYPE=image/jpeg:https://joymcc.com/wp-content/uploads/2024/07/Announcements_030517_036.jpg
END:VEVENT
BEGIN:VEVENT
DTSTART;TZID=UTC:20270523T090000
DTEND;TZID=UTC:20270523T100000
DTSTAMP:20260424T032921
CREATED:20240924T183031Z
LAST-MODIFIED:20241114T170426Z
UID:10002053-1811062800-1811066400@joymcc.com
SUMMARY:Worship Service-Live/In Person Only
DESCRIPTION:  \n 
URL:https://joymcc.com/event/worship-service-live-in-person-only-2/2027-05-23/
CATEGORIES:Events
END:VEVENT
BEGIN:VEVENT
DTSTART;TZID=UTC:20270523T110000
DTEND;TZID=UTC:20270523T121500
DTSTAMP:20260424T032921
CREATED:20251203T190746Z
LAST-MODIFIED:20251203T190746Z
UID:10003726-1811070000-1811074500@joymcc.com
SUMMARY:Worship Service-Live/In Person AND Live Streaming Via FaceBook and YouTube Live
DESCRIPTION:https://www.facebook.com/JoyMetropolitanCommunityChurch \nhttps://www.youtube.com/channel/UCuQV4LHlarKHk1VPFA_iGVA \n 
URL:https://joymcc.com/event/worship-service-live-in-person-and-live-streaming-via-facebook-and-youtube-live-2/2027-05-23/
CATEGORIES:Events
END:VEVENT
END:VCALENDAR