BEGIN:VCALENDAR
VERSION:2.0
PRODID:-//Joy Metropolitan Community Church - ECPv6.15.20//NONSGML v1.0//EN
CALSCALE:GREGORIAN
METHOD:PUBLISH
X-WR-CALNAME:Joy Metropolitan Community Church
X-ORIGINAL-URL:https://joymcc.com
X-WR-CALDESC:Events for Joy Metropolitan Community Church
REFRESH-INTERVAL;VALUE=DURATION:PT1H
X-Robots-Tag:noindex
X-PUBLISHED-TTL:PT1H
BEGIN:VTIMEZONE
TZID:UTC
BEGIN:STANDARD
TZOFFSETFROM:+0000
TZOFFSETTO:+0000
TZNAME:UTC
DTSTART:20240101T000000
END:STANDARD
END:VTIMEZONE
BEGIN:VTIMEZONE
TZID:America/New_York
BEGIN:DAYLIGHT
TZOFFSETFROM:-0500
TZOFFSETTO:-0400
TZNAME:EDT
DTSTART:20240310T070000
END:DAYLIGHT
BEGIN:STANDARD
TZOFFSETFROM:-0400
TZOFFSETTO:-0500
TZNAME:EST
DTSTART:20241103T060000
END:STANDARD
BEGIN:DAYLIGHT
TZOFFSETFROM:-0500
TZOFFSETTO:-0400
TZNAME:EDT
DTSTART:20250309T070000
END:DAYLIGHT
BEGIN:STANDARD
TZOFFSETFROM:-0400
TZOFFSETTO:-0500
TZNAME:EST
DTSTART:20251102T060000
END:STANDARD
BEGIN:DAYLIGHT
TZOFFSETFROM:-0500
TZOFFSETTO:-0400
TZNAME:EDT
DTSTART:20260308T070000
END:DAYLIGHT
BEGIN:STANDARD
TZOFFSETFROM:-0400
TZOFFSETTO:-0500
TZNAME:EST
DTSTART:20261101T060000
END:STANDARD
END:VTIMEZONE
BEGIN:VEVENT
DTSTART;TZID=UTC:20250316T104500
DTEND;TZID=UTC:20250316T120000
DTSTAMP:20260424T102544
CREATED:20240716T014640Z
LAST-MODIFIED:20251203T191529Z
UID:10002744-1742121900-1742126400@joymcc.com
SUMMARY:Worship Service-Live/In Person AND Live Streaming Via FaceBook and YouTube Live
DESCRIPTION:https://www.facebook.com/JoyMetropolitanCommunityChurch \nhttps://www.youtube.com/channel/UCuQV4LHlarKHk1VPFA_iGVA \n 
URL:https://joymcc.com/event/worship-service-live-in-person-and-live-streaming-via-facebook-and-youtube-live/2025-03-16/
CATEGORIES:Events
END:VEVENT
BEGIN:VEVENT
DTSTART;TZID=UTC:20250316T090000
DTEND;TZID=UTC:20250316T100000
DTSTAMP:20260424T102544
CREATED:20240924T183031Z
LAST-MODIFIED:20241114T170426Z
UID:10001939-1742115600-1742119200@joymcc.com
SUMMARY:Worship Service-Live/In Person Only
DESCRIPTION:  \n 
URL:https://joymcc.com/event/worship-service-live-in-person-only-2/2025-03-16/
CATEGORIES:Events
END:VEVENT
BEGIN:VEVENT
DTSTART;TZID=UTC:20250312T190000
DTEND;TZID=UTC:20250312T203000
DTSTAMP:20260424T102544
CREATED:20240924T184746Z
LAST-MODIFIED:20251231T165933Z
UID:10001614-1741806000-1741811400@joymcc.com
SUMMARY:Spiritual Transformation-In Person AND Via Zoom Meeting
DESCRIPTION:https://zoom.us/j/812716810 \nPASSCODE: 332797
URL:https://joymcc.com/event/spiritual-transformation-in-person-and-via-zoom-meeting-3/2025-03-12/
CATEGORIES:Events
END:VEVENT
BEGIN:VEVENT
DTSTART;TZID=UTC:20250309T104500
DTEND;TZID=UTC:20250309T120000
DTSTAMP:20260424T102544
CREATED:20240716T014640Z
LAST-MODIFIED:20251203T191529Z
UID:10002743-1741517100-1741521600@joymcc.com
SUMMARY:Worship Service-Live/In Person AND Live Streaming Via FaceBook and YouTube Live
DESCRIPTION:https://www.facebook.com/JoyMetropolitanCommunityChurch \nhttps://www.youtube.com/channel/UCuQV4LHlarKHk1VPFA_iGVA \n 
URL:https://joymcc.com/event/worship-service-live-in-person-and-live-streaming-via-facebook-and-youtube-live/2025-03-09/
CATEGORIES:Events
END:VEVENT
BEGIN:VEVENT
DTSTART;TZID=UTC:20250309T090000
DTEND;TZID=UTC:20250309T100000
DTSTAMP:20260424T102544
CREATED:20240924T183031Z
LAST-MODIFIED:20241114T170426Z
UID:10001938-1741510800-1741514400@joymcc.com
SUMMARY:Worship Service-Live/In Person Only
DESCRIPTION:  \n 
URL:https://joymcc.com/event/worship-service-live-in-person-only-2/2025-03-09/
CATEGORIES:Events
END:VEVENT
BEGIN:VEVENT
DTSTART;TZID=UTC:20250305T190000
DTEND;TZID=UTC:20250305T203000
DTSTAMP:20260424T102544
CREATED:20240924T184746Z
LAST-MODIFIED:20251231T165933Z
UID:10001613-1741201200-1741206600@joymcc.com
SUMMARY:Spiritual Transformation-In Person AND Via Zoom Meeting
DESCRIPTION:https://zoom.us/j/812716810 \nPASSCODE: 332797
URL:https://joymcc.com/event/spiritual-transformation-in-person-and-via-zoom-meeting-3/2025-03-05/
CATEGORIES:Events
END:VEVENT
BEGIN:VEVENT
DTSTART;TZID=UTC:20250302T190000
DTEND;TZID=UTC:20250302T200000
DTSTAMP:20260424T102544
CREATED:20241126T025336Z
LAST-MODIFIED:20251104T195317Z
UID:10003202-1740942000-1740945600@joymcc.com
SUMMARY:Expand Don't Ban Book Club
DESCRIPTION:https://us02web.zoom.us/j/87288924596
URL:https://joymcc.com/event/expand-dont-ban-book-club-4/2025-03-02/
CATEGORIES:Events
END:VEVENT
BEGIN:VEVENT
DTSTART;TZID=UTC:20250302T104500
DTEND;TZID=UTC:20250302T120000
DTSTAMP:20260424T102544
CREATED:20240716T014640Z
LAST-MODIFIED:20251203T191529Z
UID:10002742-1740912300-1740916800@joymcc.com
SUMMARY:Worship Service-Live/In Person AND Live Streaming Via FaceBook and YouTube Live
DESCRIPTION:https://www.facebook.com/JoyMetropolitanCommunityChurch \nhttps://www.youtube.com/channel/UCuQV4LHlarKHk1VPFA_iGVA \n 
URL:https://joymcc.com/event/worship-service-live-in-person-and-live-streaming-via-facebook-and-youtube-live/2025-03-02/
CATEGORIES:Events
END:VEVENT
BEGIN:VEVENT
DTSTART;TZID=UTC:20250302T090000
DTEND;TZID=UTC:20250302T100000
DTSTAMP:20260424T102544
CREATED:20240924T183031Z
LAST-MODIFIED:20241114T170426Z
UID:10001937-1740906000-1740909600@joymcc.com
SUMMARY:Worship Service-Live/In Person Only
DESCRIPTION:  \n 
URL:https://joymcc.com/event/worship-service-live-in-person-only-2/2025-03-02/
CATEGORIES:Events
END:VEVENT
BEGIN:VEVENT
DTSTART;TZID=UTC:20250226T190000
DTEND;TZID=UTC:20250226T203000
DTSTAMP:20260424T102544
CREATED:20240924T184746Z
LAST-MODIFIED:20251231T165933Z
UID:10001612-1740596400-1740601800@joymcc.com
SUMMARY:Spiritual Transformation-In Person AND Via Zoom Meeting
DESCRIPTION:https://zoom.us/j/812716810 \nPASSCODE: 332797
URL:https://joymcc.com/event/spiritual-transformation-in-person-and-via-zoom-meeting-3/2025-02-26/
CATEGORIES:Events
END:VEVENT
BEGIN:VEVENT
DTSTART;TZID=UTC:20250223T104500
DTEND;TZID=UTC:20250223T120000
DTSTAMP:20260424T102544
CREATED:20240716T014640Z
LAST-MODIFIED:20251203T191529Z
UID:10002741-1740307500-1740312000@joymcc.com
SUMMARY:Worship Service-Live/In Person AND Live Streaming Via FaceBook and YouTube Live
DESCRIPTION:https://www.facebook.com/JoyMetropolitanCommunityChurch \nhttps://www.youtube.com/channel/UCuQV4LHlarKHk1VPFA_iGVA \n 
URL:https://joymcc.com/event/worship-service-live-in-person-and-live-streaming-via-facebook-and-youtube-live/2025-02-23/
CATEGORIES:Events
END:VEVENT
BEGIN:VEVENT
DTSTART;TZID=UTC:20250223T090000
DTEND;TZID=UTC:20250223T100000
DTSTAMP:20260424T102544
CREATED:20240924T183031Z
LAST-MODIFIED:20241114T170426Z
UID:10001936-1740301200-1740304800@joymcc.com
SUMMARY:Worship Service-Live/In Person Only
DESCRIPTION:  \n 
URL:https://joymcc.com/event/worship-service-live-in-person-only-2/2025-02-23/
CATEGORIES:Events
END:VEVENT
BEGIN:VEVENT
DTSTART;TZID=UTC:20250220T190000
DTEND;TZID=UTC:20250220T200000
DTSTAMP:20260424T102544
CREATED:20241023T135650Z
LAST-MODIFIED:20251214T111600Z
UID:10001862-1740078000-1740081600@joymcc.com
SUMMARY:Grief Support Group
DESCRIPTION:Living with Loss\, Healing with Hopeunitorlf
URL:https://joymcc.com/event/grief-support-group-4/2025-02-20/
CATEGORIES:Events
ATTACH;FMTTYPE=image/jpeg:https://joymcc.com/wp-content/uploads/2024/07/Announcements_030517_036.jpg
END:VEVENT
BEGIN:VEVENT
DTSTART;TZID=America/New_York:20250219T230000
DTEND;TZID=America/New_York:20250220T000000
DTSTAMP:20260424T102544
CREATED:20241126T031116Z
LAST-MODIFIED:20250618T184228Z
UID:10003061-1740006000-1740009600@joymcc.com
SUMMARY:Expand Don't Ban Book Club
DESCRIPTION:https://us02web.zoom.us/j/87288924596
URL:https://joymcc.com/event/expand-dont-ban-book-club-5/2025-02-19/
CATEGORIES:Events
END:VEVENT
BEGIN:VEVENT
DTSTART;TZID=UTC:20250219T190000
DTEND;TZID=UTC:20250219T203000
DTSTAMP:20260424T102544
CREATED:20240924T184746Z
LAST-MODIFIED:20251231T165933Z
UID:10001611-1739991600-1739997000@joymcc.com
SUMMARY:Spiritual Transformation-In Person AND Via Zoom Meeting
DESCRIPTION:https://zoom.us/j/812716810 \nPASSCODE: 332797
URL:https://joymcc.com/event/spiritual-transformation-in-person-and-via-zoom-meeting-3/2025-02-19/
CATEGORIES:Events
END:VEVENT
BEGIN:VEVENT
DTSTART;TZID=UTC:20250216T104500
DTEND;TZID=UTC:20250216T120000
DTSTAMP:20260424T102544
CREATED:20240716T014640Z
LAST-MODIFIED:20251203T191529Z
UID:10002740-1739702700-1739707200@joymcc.com
SUMMARY:Worship Service-Live/In Person AND Live Streaming Via FaceBook and YouTube Live
DESCRIPTION:https://www.facebook.com/JoyMetropolitanCommunityChurch \nhttps://www.youtube.com/channel/UCuQV4LHlarKHk1VPFA_iGVA \n 
URL:https://joymcc.com/event/worship-service-live-in-person-and-live-streaming-via-facebook-and-youtube-live/2025-02-16/
CATEGORIES:Events
END:VEVENT
BEGIN:VEVENT
DTSTART;TZID=UTC:20250216T090000
DTEND;TZID=UTC:20250216T100000
DTSTAMP:20260424T102544
CREATED:20240924T183031Z
LAST-MODIFIED:20241114T170426Z
UID:10001935-1739696400-1739700000@joymcc.com
SUMMARY:Worship Service-Live/In Person Only
DESCRIPTION:  \n 
URL:https://joymcc.com/event/worship-service-live-in-person-only-2/2025-02-16/
CATEGORIES:Events
END:VEVENT
BEGIN:VEVENT
DTSTART;TZID=UTC:20250212T190000
DTEND;TZID=UTC:20250212T203000
DTSTAMP:20260424T102544
CREATED:20240924T184746Z
LAST-MODIFIED:20251231T165933Z
UID:10001610-1739386800-1739392200@joymcc.com
SUMMARY:Spiritual Transformation-In Person AND Via Zoom Meeting
DESCRIPTION:https://zoom.us/j/812716810 \nPASSCODE: 332797
URL:https://joymcc.com/event/spiritual-transformation-in-person-and-via-zoom-meeting-3/2025-02-12/
CATEGORIES:Events
END:VEVENT
BEGIN:VEVENT
DTSTART;TZID=UTC:20250209T104500
DTEND;TZID=UTC:20250209T120000
DTSTAMP:20260424T102544
CREATED:20240716T014640Z
LAST-MODIFIED:20251203T191529Z
UID:10002739-1739097900-1739102400@joymcc.com
SUMMARY:Worship Service-Live/In Person AND Live Streaming Via FaceBook and YouTube Live
DESCRIPTION:https://www.facebook.com/JoyMetropolitanCommunityChurch \nhttps://www.youtube.com/channel/UCuQV4LHlarKHk1VPFA_iGVA \n 
URL:https://joymcc.com/event/worship-service-live-in-person-and-live-streaming-via-facebook-and-youtube-live/2025-02-09/
CATEGORIES:Events
END:VEVENT
BEGIN:VEVENT
DTSTART;TZID=UTC:20250209T090000
DTEND;TZID=UTC:20250209T100000
DTSTAMP:20260424T102544
CREATED:20240924T183031Z
LAST-MODIFIED:20241114T170426Z
UID:10001934-1739091600-1739095200@joymcc.com
SUMMARY:Worship Service-Live/In Person Only
DESCRIPTION:  \n 
URL:https://joymcc.com/event/worship-service-live-in-person-only-2/2025-02-09/
CATEGORIES:Events
END:VEVENT
BEGIN:VEVENT
DTSTART;TZID=UTC:20250205T190000
DTEND;TZID=UTC:20250205T203000
DTSTAMP:20260424T102544
CREATED:20240924T184746Z
LAST-MODIFIED:20251231T165933Z
UID:10001609-1738782000-1738787400@joymcc.com
SUMMARY:Spiritual Transformation-In Person AND Via Zoom Meeting
DESCRIPTION:https://zoom.us/j/812716810 \nPASSCODE: 332797
URL:https://joymcc.com/event/spiritual-transformation-in-person-and-via-zoom-meeting-3/2025-02-05/
CATEGORIES:Events
END:VEVENT
BEGIN:VEVENT
DTSTART;TZID=UTC:20250202T190000
DTEND;TZID=UTC:20250202T200000
DTSTAMP:20260424T102544
CREATED:20241126T025336Z
LAST-MODIFIED:20251104T195317Z
UID:10003201-1738522800-1738526400@joymcc.com
SUMMARY:Expand Don't Ban Book Club
DESCRIPTION:https://us02web.zoom.us/j/87288924596
URL:https://joymcc.com/event/expand-dont-ban-book-club-4/2025-02-02/
CATEGORIES:Events
END:VEVENT
BEGIN:VEVENT
DTSTART;TZID=UTC:20250202T104500
DTEND;TZID=UTC:20250202T120000
DTSTAMP:20260424T102544
CREATED:20240716T014640Z
LAST-MODIFIED:20251203T191529Z
UID:10002738-1738493100-1738497600@joymcc.com
SUMMARY:Worship Service-Live/In Person AND Live Streaming Via FaceBook and YouTube Live
DESCRIPTION:https://www.facebook.com/JoyMetropolitanCommunityChurch \nhttps://www.youtube.com/channel/UCuQV4LHlarKHk1VPFA_iGVA \n 
URL:https://joymcc.com/event/worship-service-live-in-person-and-live-streaming-via-facebook-and-youtube-live/2025-02-02/
CATEGORIES:Events
END:VEVENT
BEGIN:VEVENT
DTSTART;TZID=UTC:20250202T090000
DTEND;TZID=UTC:20250202T100000
DTSTAMP:20260424T102544
CREATED:20240924T183031Z
LAST-MODIFIED:20241114T170426Z
UID:10001933-1738486800-1738490400@joymcc.com
SUMMARY:Worship Service-Live/In Person Only
DESCRIPTION:  \n 
URL:https://joymcc.com/event/worship-service-live-in-person-only-2/2025-02-02/
CATEGORIES:Events
END:VEVENT
BEGIN:VEVENT
DTSTART;TZID=America/New_York:20250131T063000
DTEND;TZID=America/New_York:20250131T203000
DTSTAMP:20260424T102544
CREATED:20250121T224035Z
LAST-MODIFIED:20250121T224035Z
UID:10002992-1738305000-1738355400@joymcc.com
SUMMARY:Movie Night-The Shack
DESCRIPTION:
URL:https://joymcc.com/event/movie-night-the-shack/
CATEGORIES:Events
ATTACH;FMTTYPE=image/png:https://joymcc.com/wp-content/uploads/2025/01/The-Shack-Movie-Night-January-31-Instagram-Post.png
END:VEVENT
BEGIN:VEVENT
DTSTART;TZID=UTC:20250129T190000
DTEND;TZID=UTC:20250129T203000
DTSTAMP:20260424T102544
CREATED:20240924T184746Z
LAST-MODIFIED:20251231T165933Z
UID:10001608-1738177200-1738182600@joymcc.com
SUMMARY:Spiritual Transformation-In Person AND Via Zoom Meeting
DESCRIPTION:https://zoom.us/j/812716810 \nPASSCODE: 332797
URL:https://joymcc.com/event/spiritual-transformation-in-person-and-via-zoom-meeting-3/2025-01-29/
CATEGORIES:Events
END:VEVENT
BEGIN:VEVENT
DTSTART;TZID=UTC:20250126T104500
DTEND;TZID=UTC:20250126T120000
DTSTAMP:20260424T102544
CREATED:20240716T014640Z
LAST-MODIFIED:20251203T191529Z
UID:10002737-1737888300-1737892800@joymcc.com
SUMMARY:Worship Service-Live/In Person AND Live Streaming Via FaceBook and YouTube Live
DESCRIPTION:https://www.facebook.com/JoyMetropolitanCommunityChurch \nhttps://www.youtube.com/channel/UCuQV4LHlarKHk1VPFA_iGVA \n 
URL:https://joymcc.com/event/worship-service-live-in-person-and-live-streaming-via-facebook-and-youtube-live/2025-01-26/
CATEGORIES:Events
END:VEVENT
BEGIN:VEVENT
DTSTART;TZID=UTC:20250126T090000
DTEND;TZID=UTC:20250126T100000
DTSTAMP:20260424T102544
CREATED:20240924T183031Z
LAST-MODIFIED:20241114T170426Z
UID:10001932-1737882000-1737885600@joymcc.com
SUMMARY:Worship Service-Live/In Person Only
DESCRIPTION:  \n 
URL:https://joymcc.com/event/worship-service-live-in-person-only-2/2025-01-26/
CATEGORIES:Events
END:VEVENT
BEGIN:VEVENT
DTSTART;TZID=UTC:20250122T190000
DTEND;TZID=UTC:20250122T203000
DTSTAMP:20260424T102544
CREATED:20240924T184746Z
LAST-MODIFIED:20251231T165933Z
UID:10001607-1737572400-1737577800@joymcc.com
SUMMARY:Spiritual Transformation-In Person AND Via Zoom Meeting
DESCRIPTION:https://zoom.us/j/812716810 \nPASSCODE: 332797
URL:https://joymcc.com/event/spiritual-transformation-in-person-and-via-zoom-meeting-3/2025-01-22/
CATEGORIES:Events
END:VEVENT
BEGIN:VEVENT
DTSTART;TZID=UTC:20250119T104500
DTEND;TZID=UTC:20250119T120000
DTSTAMP:20260424T102544
CREATED:20240716T014640Z
LAST-MODIFIED:20251203T191529Z
UID:10002736-1737283500-1737288000@joymcc.com
SUMMARY:Worship Service-Live/In Person AND Live Streaming Via FaceBook and YouTube Live
DESCRIPTION:https://www.facebook.com/JoyMetropolitanCommunityChurch \nhttps://www.youtube.com/channel/UCuQV4LHlarKHk1VPFA_iGVA \n 
URL:https://joymcc.com/event/worship-service-live-in-person-and-live-streaming-via-facebook-and-youtube-live/2025-01-19/
CATEGORIES:Events
END:VEVENT
END:VCALENDAR