BEGIN:VCALENDAR
VERSION:2.0
PRODID:-//Joy Metropolitan Community Church - ECPv6.15.20//NONSGML v1.0//EN
CALSCALE:GREGORIAN
METHOD:PUBLISH
X-ORIGINAL-URL:https://joymcc.com
X-WR-CALDESC:Events for Joy Metropolitan Community Church
REFRESH-INTERVAL;VALUE=DURATION:PT1H
X-Robots-Tag:noindex
X-PUBLISHED-TTL:PT1H
BEGIN:VTIMEZONE
TZID:UTC
BEGIN:STANDARD
TZOFFSETFROM:+0000
TZOFFSETTO:+0000
TZNAME:UTC
DTSTART:20270101T000000
END:STANDARD
END:VTIMEZONE
BEGIN:VTIMEZONE
TZID:America/New_York
BEGIN:DAYLIGHT
TZOFFSETFROM:-0500
TZOFFSETTO:-0400
TZNAME:EDT
DTSTART:20270314T070000
END:DAYLIGHT
BEGIN:STANDARD
TZOFFSETFROM:-0400
TZOFFSETTO:-0500
TZNAME:EST
DTSTART:20271107T060000
END:STANDARD
BEGIN:DAYLIGHT
TZOFFSETFROM:-0500
TZOFFSETTO:-0400
TZNAME:EDT
DTSTART:20280312T070000
END:DAYLIGHT
BEGIN:STANDARD
TZOFFSETFROM:-0400
TZOFFSETTO:-0500
TZNAME:EST
DTSTART:20281105T060000
END:STANDARD
BEGIN:DAYLIGHT
TZOFFSETFROM:-0500
TZOFFSETTO:-0400
TZNAME:EDT
DTSTART:20290311T070000
END:DAYLIGHT
BEGIN:STANDARD
TZOFFSETFROM:-0400
TZOFFSETTO:-0500
TZNAME:EST
DTSTART:20291104T060000
END:STANDARD
END:VTIMEZONE
BEGIN:VEVENT
DTSTART;TZID=UTC:20280607T190000
DTEND;TZID=UTC:20280607T203000
DTSTAMP:20260425T065059
CREATED:20240924T184746Z
LAST-MODIFIED:20251231T165933Z
UID:10001783-1844017200-1844022600@joymcc.com
SUMMARY:Spiritual Transformation-In Person AND Via Zoom Meeting
DESCRIPTION:https://zoom.us/j/812716810 \nPASSCODE: 332797
URL:https://joymcc.com/event/spiritual-transformation-in-person-and-via-zoom-meeting-3/2028-06-07/
CATEGORIES:Events
END:VEVENT
BEGIN:VEVENT
DTSTART;TZID=UTC:20280611T090000
DTEND;TZID=UTC:20280611T100000
DTSTAMP:20260425T065059
CREATED:20240924T183031Z
LAST-MODIFIED:20241114T170426Z
UID:10002108-1844326800-1844330400@joymcc.com
SUMMARY:Worship Service-Live/In Person Only
DESCRIPTION:  \n 
URL:https://joymcc.com/event/worship-service-live-in-person-only-2/2028-06-11/
CATEGORIES:Events
END:VEVENT
BEGIN:VEVENT
DTSTART;TZID=UTC:20280611T110000
DTEND;TZID=UTC:20280611T121500
DTSTAMP:20260425T065059
CREATED:20251203T190746Z
LAST-MODIFIED:20251203T190746Z
UID:10003781-1844334000-1844338500@joymcc.com
SUMMARY:Worship Service-Live/In Person AND Live Streaming Via FaceBook and YouTube Live
DESCRIPTION:https://www.facebook.com/JoyMetropolitanCommunityChurch \nhttps://www.youtube.com/channel/UCuQV4LHlarKHk1VPFA_iGVA \n 
URL:https://joymcc.com/event/worship-service-live-in-person-and-live-streaming-via-facebook-and-youtube-live-2/2028-06-11/
CATEGORIES:Events
END:VEVENT
BEGIN:VEVENT
DTSTART;TZID=UTC:20280614T190000
DTEND;TZID=UTC:20280614T203000
DTSTAMP:20260425T065059
CREATED:20240924T184746Z
LAST-MODIFIED:20251231T165933Z
UID:10001784-1844622000-1844627400@joymcc.com
SUMMARY:Spiritual Transformation-In Person AND Via Zoom Meeting
DESCRIPTION:https://zoom.us/j/812716810 \nPASSCODE: 332797
URL:https://joymcc.com/event/spiritual-transformation-in-person-and-via-zoom-meeting-3/2028-06-14/
CATEGORIES:Events
END:VEVENT
BEGIN:VEVENT
DTSTART;TZID=UTC:20280615T190000
DTEND;TZID=UTC:20280615T200000
DTSTAMP:20260425T065059
CREATED:20241023T135650Z
LAST-MODIFIED:20251214T111600Z
UID:10001902-1844708400-1844712000@joymcc.com
SUMMARY:Grief Support Group
DESCRIPTION:Living with Loss\, Healing with Hopeunitorlf
URL:https://joymcc.com/event/grief-support-group-4/2028-06-15/
CATEGORIES:Events
ATTACH;FMTTYPE=image/jpeg:https://joymcc.com/wp-content/uploads/2024/07/Announcements_030517_036.jpg
END:VEVENT
BEGIN:VEVENT
DTSTART;TZID=UTC:20280618T090000
DTEND;TZID=UTC:20280618T100000
DTSTAMP:20260425T065059
CREATED:20240924T183031Z
LAST-MODIFIED:20241114T170426Z
UID:10002109-1844931600-1844935200@joymcc.com
SUMMARY:Worship Service-Live/In Person Only
DESCRIPTION:  \n 
URL:https://joymcc.com/event/worship-service-live-in-person-only-2/2028-06-18/
CATEGORIES:Events
END:VEVENT
BEGIN:VEVENT
DTSTART;TZID=UTC:20280618T110000
DTEND;TZID=UTC:20280618T121500
DTSTAMP:20260425T065059
CREATED:20251203T190746Z
LAST-MODIFIED:20251203T190746Z
UID:10003782-1844938800-1844943300@joymcc.com
SUMMARY:Worship Service-Live/In Person AND Live Streaming Via FaceBook and YouTube Live
DESCRIPTION:https://www.facebook.com/JoyMetropolitanCommunityChurch \nhttps://www.youtube.com/channel/UCuQV4LHlarKHk1VPFA_iGVA \n 
URL:https://joymcc.com/event/worship-service-live-in-person-and-live-streaming-via-facebook-and-youtube-live-2/2028-06-18/
CATEGORIES:Events
END:VEVENT
BEGIN:VEVENT
DTSTART;TZID=America/New_York:20280619T190000
DTEND;TZID=America/New_York:20280619T200000
DTSTAMP:20260425T065059
CREATED:20251214T110650Z
LAST-MODIFIED:20251214T111212Z
UID:10004098-1845054000-1845057600@joymcc.com
SUMMARY:Expand Don't Ban Book Club
DESCRIPTION:https://us02web.zoom.us/j/87288924596
URL:https://joymcc.com/event/expand-dont-ban-book-club-5-2-2/2028-06-19/
CATEGORIES:Events
END:VEVENT
BEGIN:VEVENT
DTSTART;TZID=UTC:20280621T190000
DTEND;TZID=UTC:20280621T203000
DTSTAMP:20260425T065059
CREATED:20240924T184746Z
LAST-MODIFIED:20251231T165933Z
UID:10001785-1845226800-1845232200@joymcc.com
SUMMARY:Spiritual Transformation-In Person AND Via Zoom Meeting
DESCRIPTION:https://zoom.us/j/812716810 \nPASSCODE: 332797
URL:https://joymcc.com/event/spiritual-transformation-in-person-and-via-zoom-meeting-3/2028-06-21/
CATEGORIES:Events
END:VEVENT
BEGIN:VEVENT
DTSTART;TZID=UTC:20280625T090000
DTEND;TZID=UTC:20280625T100000
DTSTAMP:20260425T065059
CREATED:20240924T183031Z
LAST-MODIFIED:20241114T170426Z
UID:10002110-1845536400-1845540000@joymcc.com
SUMMARY:Worship Service-Live/In Person Only
DESCRIPTION:  \n 
URL:https://joymcc.com/event/worship-service-live-in-person-only-2/2028-06-25/
CATEGORIES:Events
END:VEVENT
BEGIN:VEVENT
DTSTART;TZID=UTC:20280625T110000
DTEND;TZID=UTC:20280625T121500
DTSTAMP:20260425T065059
CREATED:20251203T190746Z
LAST-MODIFIED:20251203T190746Z
UID:10003783-1845543600-1845548100@joymcc.com
SUMMARY:Worship Service-Live/In Person AND Live Streaming Via FaceBook and YouTube Live
DESCRIPTION:https://www.facebook.com/JoyMetropolitanCommunityChurch \nhttps://www.youtube.com/channel/UCuQV4LHlarKHk1VPFA_iGVA \n 
URL:https://joymcc.com/event/worship-service-live-in-person-and-live-streaming-via-facebook-and-youtube-live-2/2028-06-25/
CATEGORIES:Events
END:VEVENT
BEGIN:VEVENT
DTSTART;TZID=UTC:20280628T190000
DTEND;TZID=UTC:20280628T203000
DTSTAMP:20260425T065059
CREATED:20240924T184746Z
LAST-MODIFIED:20251231T165933Z
UID:10001786-1845831600-1845837000@joymcc.com
SUMMARY:Spiritual Transformation-In Person AND Via Zoom Meeting
DESCRIPTION:https://zoom.us/j/812716810 \nPASSCODE: 332797
URL:https://joymcc.com/event/spiritual-transformation-in-person-and-via-zoom-meeting-3/2028-06-28/
CATEGORIES:Events
END:VEVENT
BEGIN:VEVENT
DTSTART;TZID=UTC:20280702T090000
DTEND;TZID=UTC:20280702T100000
DTSTAMP:20260425T065059
CREATED:20240924T183031Z
LAST-MODIFIED:20241114T170426Z
UID:10002111-1846141200-1846144800@joymcc.com
SUMMARY:Worship Service-Live/In Person Only
DESCRIPTION:  \n 
URL:https://joymcc.com/event/worship-service-live-in-person-only-2/2028-07-02/
CATEGORIES:Events
END:VEVENT
BEGIN:VEVENT
DTSTART;TZID=UTC:20280702T110000
DTEND;TZID=UTC:20280702T121500
DTSTAMP:20260425T065059
CREATED:20251203T190746Z
LAST-MODIFIED:20251203T190746Z
UID:10003784-1846148400-1846152900@joymcc.com
SUMMARY:Worship Service-Live/In Person AND Live Streaming Via FaceBook and YouTube Live
DESCRIPTION:https://www.facebook.com/JoyMetropolitanCommunityChurch \nhttps://www.youtube.com/channel/UCuQV4LHlarKHk1VPFA_iGVA \n 
URL:https://joymcc.com/event/worship-service-live-in-person-and-live-streaming-via-facebook-and-youtube-live-2/2028-07-02/
CATEGORIES:Events
END:VEVENT
BEGIN:VEVENT
DTSTART;TZID=UTC:20280703T190000
DTEND;TZID=UTC:20280703T200000
DTSTAMP:20260425T065059
CREATED:20251231T170302Z
LAST-MODIFIED:20251231T170507Z
UID:10004220-1846263600-1846267200@joymcc.com
SUMMARY:Expand Don't Ban Book Club
DESCRIPTION:https://us02web.zoom.us/j/87288924596
URL:https://joymcc.com/event/expand-dont-ban-book-club-4-2/2028-07-03/
CATEGORIES:Events
END:VEVENT
BEGIN:VEVENT
DTSTART;TZID=UTC:20280705T190000
DTEND;TZID=UTC:20280705T203000
DTSTAMP:20260425T065059
CREATED:20240924T184746Z
LAST-MODIFIED:20251231T165933Z
UID:10001787-1846436400-1846441800@joymcc.com
SUMMARY:Spiritual Transformation-In Person AND Via Zoom Meeting
DESCRIPTION:https://zoom.us/j/812716810 \nPASSCODE: 332797
URL:https://joymcc.com/event/spiritual-transformation-in-person-and-via-zoom-meeting-3/2028-07-05/
CATEGORIES:Events
END:VEVENT
BEGIN:VEVENT
DTSTART;TZID=UTC:20280709T090000
DTEND;TZID=UTC:20280709T100000
DTSTAMP:20260425T065059
CREATED:20240924T183031Z
LAST-MODIFIED:20241114T170426Z
UID:10002112-1846746000-1846749600@joymcc.com
SUMMARY:Worship Service-Live/In Person Only
DESCRIPTION:  \n 
URL:https://joymcc.com/event/worship-service-live-in-person-only-2/2028-07-09/
CATEGORIES:Events
END:VEVENT
BEGIN:VEVENT
DTSTART;TZID=UTC:20280709T110000
DTEND;TZID=UTC:20280709T121500
DTSTAMP:20260425T065059
CREATED:20251203T190746Z
LAST-MODIFIED:20251203T190746Z
UID:10003785-1846753200-1846757700@joymcc.com
SUMMARY:Worship Service-Live/In Person AND Live Streaming Via FaceBook and YouTube Live
DESCRIPTION:https://www.facebook.com/JoyMetropolitanCommunityChurch \nhttps://www.youtube.com/channel/UCuQV4LHlarKHk1VPFA_iGVA \n 
URL:https://joymcc.com/event/worship-service-live-in-person-and-live-streaming-via-facebook-and-youtube-live-2/2028-07-09/
CATEGORIES:Events
END:VEVENT
BEGIN:VEVENT
DTSTART;TZID=UTC:20280712T190000
DTEND;TZID=UTC:20280712T203000
DTSTAMP:20260425T065059
CREATED:20240924T184746Z
LAST-MODIFIED:20251231T165933Z
UID:10001788-1847041200-1847046600@joymcc.com
SUMMARY:Spiritual Transformation-In Person AND Via Zoom Meeting
DESCRIPTION:https://zoom.us/j/812716810 \nPASSCODE: 332797
URL:https://joymcc.com/event/spiritual-transformation-in-person-and-via-zoom-meeting-3/2028-07-12/
CATEGORIES:Events
END:VEVENT
BEGIN:VEVENT
DTSTART;TZID=UTC:20280716T090000
DTEND;TZID=UTC:20280716T100000
DTSTAMP:20260425T065059
CREATED:20240924T183031Z
LAST-MODIFIED:20241114T170426Z
UID:10002113-1847350800-1847354400@joymcc.com
SUMMARY:Worship Service-Live/In Person Only
DESCRIPTION:  \n 
URL:https://joymcc.com/event/worship-service-live-in-person-only-2/2028-07-16/
CATEGORIES:Events
END:VEVENT
BEGIN:VEVENT
DTSTART;TZID=UTC:20280716T110000
DTEND;TZID=UTC:20280716T121500
DTSTAMP:20260425T065059
CREATED:20251203T190746Z
LAST-MODIFIED:20251203T190746Z
UID:10003786-1847358000-1847362500@joymcc.com
SUMMARY:Worship Service-Live/In Person AND Live Streaming Via FaceBook and YouTube Live
DESCRIPTION:https://www.facebook.com/JoyMetropolitanCommunityChurch \nhttps://www.youtube.com/channel/UCuQV4LHlarKHk1VPFA_iGVA \n 
URL:https://joymcc.com/event/worship-service-live-in-person-and-live-streaming-via-facebook-and-youtube-live-2/2028-07-16/
CATEGORIES:Events
END:VEVENT
BEGIN:VEVENT
DTSTART;TZID=America/New_York:20280717T190000
DTEND;TZID=America/New_York:20280717T200000
DTSTAMP:20260425T065059
CREATED:20251214T110650Z
LAST-MODIFIED:20251214T111212Z
UID:10004047-1847473200-1847476800@joymcc.com
SUMMARY:Expand Don't Ban Book Club
DESCRIPTION:https://us02web.zoom.us/j/87288924596
URL:https://joymcc.com/event/expand-dont-ban-book-club-5-2-2/2028-07-17/
CATEGORIES:Events
END:VEVENT
BEGIN:VEVENT
DTSTART;TZID=UTC:20280719T190000
DTEND;TZID=UTC:20280719T203000
DTSTAMP:20260425T065059
CREATED:20240924T184746Z
LAST-MODIFIED:20251231T165933Z
UID:10001789-1847646000-1847651400@joymcc.com
SUMMARY:Spiritual Transformation-In Person AND Via Zoom Meeting
DESCRIPTION:https://zoom.us/j/812716810 \nPASSCODE: 332797
URL:https://joymcc.com/event/spiritual-transformation-in-person-and-via-zoom-meeting-3/2028-07-19/
CATEGORIES:Events
END:VEVENT
BEGIN:VEVENT
DTSTART;TZID=UTC:20280720T190000
DTEND;TZID=UTC:20280720T200000
DTSTAMP:20260425T065059
CREATED:20241023T135650Z
LAST-MODIFIED:20251214T111600Z
UID:10001903-1847732400-1847736000@joymcc.com
SUMMARY:Grief Support Group
DESCRIPTION:Living with Loss\, Healing with Hopeunitorlf
URL:https://joymcc.com/event/grief-support-group-4/2028-07-20/
CATEGORIES:Events
ATTACH;FMTTYPE=image/jpeg:https://joymcc.com/wp-content/uploads/2024/07/Announcements_030517_036.jpg
END:VEVENT
BEGIN:VEVENT
DTSTART;TZID=UTC:20280723T090000
DTEND;TZID=UTC:20280723T100000
DTSTAMP:20260425T065059
CREATED:20240924T183031Z
LAST-MODIFIED:20241114T170426Z
UID:10002114-1847955600-1847959200@joymcc.com
SUMMARY:Worship Service-Live/In Person Only
DESCRIPTION:  \n 
URL:https://joymcc.com/event/worship-service-live-in-person-only-2/2028-07-23/
CATEGORIES:Events
END:VEVENT
BEGIN:VEVENT
DTSTART;TZID=UTC:20280723T110000
DTEND;TZID=UTC:20280723T121500
DTSTAMP:20260425T065059
CREATED:20251203T190746Z
LAST-MODIFIED:20251203T190746Z
UID:10003787-1847962800-1847967300@joymcc.com
SUMMARY:Worship Service-Live/In Person AND Live Streaming Via FaceBook and YouTube Live
DESCRIPTION:https://www.facebook.com/JoyMetropolitanCommunityChurch \nhttps://www.youtube.com/channel/UCuQV4LHlarKHk1VPFA_iGVA \n 
URL:https://joymcc.com/event/worship-service-live-in-person-and-live-streaming-via-facebook-and-youtube-live-2/2028-07-23/
CATEGORIES:Events
END:VEVENT
BEGIN:VEVENT
DTSTART;TZID=UTC:20280726T190000
DTEND;TZID=UTC:20280726T203000
DTSTAMP:20260425T065059
CREATED:20240924T184746Z
LAST-MODIFIED:20251231T165933Z
UID:10001790-1848250800-1848256200@joymcc.com
SUMMARY:Spiritual Transformation-In Person AND Via Zoom Meeting
DESCRIPTION:https://zoom.us/j/812716810 \nPASSCODE: 332797
URL:https://joymcc.com/event/spiritual-transformation-in-person-and-via-zoom-meeting-3/2028-07-26/
CATEGORIES:Events
END:VEVENT
BEGIN:VEVENT
DTSTART;TZID=UTC:20280730T090000
DTEND;TZID=UTC:20280730T100000
DTSTAMP:20260425T065059
CREATED:20240924T183031Z
LAST-MODIFIED:20241114T170426Z
UID:10002115-1848560400-1848564000@joymcc.com
SUMMARY:Worship Service-Live/In Person Only
DESCRIPTION:  \n 
URL:https://joymcc.com/event/worship-service-live-in-person-only-2/2028-07-30/
CATEGORIES:Events
END:VEVENT
BEGIN:VEVENT
DTSTART;TZID=UTC:20280730T110000
DTEND;TZID=UTC:20280730T121500
DTSTAMP:20260425T065059
CREATED:20251203T190746Z
LAST-MODIFIED:20251203T190746Z
UID:10003788-1848567600-1848572100@joymcc.com
SUMMARY:Worship Service-Live/In Person AND Live Streaming Via FaceBook and YouTube Live
DESCRIPTION:https://www.facebook.com/JoyMetropolitanCommunityChurch \nhttps://www.youtube.com/channel/UCuQV4LHlarKHk1VPFA_iGVA \n 
URL:https://joymcc.com/event/worship-service-live-in-person-and-live-streaming-via-facebook-and-youtube-live-2/2028-07-30/
CATEGORIES:Events
END:VEVENT
BEGIN:VEVENT
DTSTART;TZID=UTC:20280802T190000
DTEND;TZID=UTC:20280802T203000
DTSTAMP:20260425T065059
CREATED:20240924T184746Z
LAST-MODIFIED:20251231T165933Z
UID:10001791-1848855600-1848861000@joymcc.com
SUMMARY:Spiritual Transformation-In Person AND Via Zoom Meeting
DESCRIPTION:https://zoom.us/j/812716810 \nPASSCODE: 332797
URL:https://joymcc.com/event/spiritual-transformation-in-person-and-via-zoom-meeting-3/2028-08-02/
CATEGORIES:Events
END:VEVENT
END:VCALENDAR