BEGIN:VCALENDAR
VERSION:2.0
PRODID:-//Joy Metropolitan Community Church - ECPv6.15.20//NONSGML v1.0//EN
CALSCALE:GREGORIAN
METHOD:PUBLISH
X-ORIGINAL-URL:https://joymcc.com
X-WR-CALDESC:Events for Joy Metropolitan Community Church
REFRESH-INTERVAL;VALUE=DURATION:PT1H
X-Robots-Tag:noindex
X-PUBLISHED-TTL:PT1H
BEGIN:VTIMEZONE
TZID:UTC
BEGIN:STANDARD
TZOFFSETFROM:+0000
TZOFFSETTO:+0000
TZNAME:UTC
DTSTART:20250101T000000
END:STANDARD
END:VTIMEZONE
BEGIN:VTIMEZONE
TZID:America/New_York
BEGIN:DAYLIGHT
TZOFFSETFROM:-0500
TZOFFSETTO:-0400
TZNAME:EDT
DTSTART:20250309T070000
END:DAYLIGHT
BEGIN:STANDARD
TZOFFSETFROM:-0400
TZOFFSETTO:-0500
TZNAME:EST
DTSTART:20251102T060000
END:STANDARD
BEGIN:DAYLIGHT
TZOFFSETFROM:-0500
TZOFFSETTO:-0400
TZNAME:EDT
DTSTART:20260308T070000
END:DAYLIGHT
BEGIN:STANDARD
TZOFFSETFROM:-0400
TZOFFSETTO:-0500
TZNAME:EST
DTSTART:20261101T060000
END:STANDARD
BEGIN:DAYLIGHT
TZOFFSETFROM:-0500
TZOFFSETTO:-0400
TZNAME:EDT
DTSTART:20270314T070000
END:DAYLIGHT
BEGIN:STANDARD
TZOFFSETFROM:-0400
TZOFFSETTO:-0500
TZNAME:EST
DTSTART:20271107T060000
END:STANDARD
END:VTIMEZONE
BEGIN:VEVENT
DTSTART;TZID=UTC:20261104T190000
DTEND;TZID=UTC:20261104T203000
DTSTAMP:20260423T181643
CREATED:20240924T184746Z
LAST-MODIFIED:20251231T165933Z
UID:10001700-1793818800-1793824200@joymcc.com
SUMMARY:Spiritual Transformation-In Person AND Via Zoom Meeting
DESCRIPTION:https://zoom.us/j/812716810 \nPASSCODE: 332797
URL:https://joymcc.com/event/spiritual-transformation-in-person-and-via-zoom-meeting-3/2026-11-04/
CATEGORIES:Events
END:VEVENT
BEGIN:VEVENT
DTSTART;TZID=UTC:20261108T090000
DTEND;TZID=UTC:20261108T100000
DTSTAMP:20260423T181643
CREATED:20240924T183031Z
LAST-MODIFIED:20241114T170426Z
UID:10002025-1794128400-1794132000@joymcc.com
SUMMARY:Worship Service-Live/In Person Only
DESCRIPTION:  \n 
URL:https://joymcc.com/event/worship-service-live-in-person-only-2/2026-11-08/
CATEGORIES:Events
END:VEVENT
BEGIN:VEVENT
DTSTART;TZID=UTC:20261108T110000
DTEND;TZID=UTC:20261108T121500
DTSTAMP:20260423T181643
CREATED:20251203T190746Z
LAST-MODIFIED:20251203T190746Z
UID:10003698-1794135600-1794140100@joymcc.com
SUMMARY:Worship Service-Live/In Person AND Live Streaming Via FaceBook and YouTube Live
DESCRIPTION:https://www.facebook.com/JoyMetropolitanCommunityChurch \nhttps://www.youtube.com/channel/UCuQV4LHlarKHk1VPFA_iGVA \n 
URL:https://joymcc.com/event/worship-service-live-in-person-and-live-streaming-via-facebook-and-youtube-live-2/2026-11-08/
CATEGORIES:Events
END:VEVENT
BEGIN:VEVENT
DTSTART;TZID=UTC:20261111T190000
DTEND;TZID=UTC:20261111T203000
DTSTAMP:20260423T181643
CREATED:20240924T184746Z
LAST-MODIFIED:20251231T165933Z
UID:10001701-1794423600-1794429000@joymcc.com
SUMMARY:Spiritual Transformation-In Person AND Via Zoom Meeting
DESCRIPTION:https://zoom.us/j/812716810 \nPASSCODE: 332797
URL:https://joymcc.com/event/spiritual-transformation-in-person-and-via-zoom-meeting-3/2026-11-11/
CATEGORIES:Events
END:VEVENT
BEGIN:VEVENT
DTSTART;TZID=UTC:20261115T090000
DTEND;TZID=UTC:20261115T100000
DTSTAMP:20260423T181643
CREATED:20240924T183031Z
LAST-MODIFIED:20241114T170426Z
UID:10002026-1794733200-1794736800@joymcc.com
SUMMARY:Worship Service-Live/In Person Only
DESCRIPTION:  \n 
URL:https://joymcc.com/event/worship-service-live-in-person-only-2/2026-11-15/
CATEGORIES:Events
END:VEVENT
BEGIN:VEVENT
DTSTART;TZID=UTC:20261115T110000
DTEND;TZID=UTC:20261115T121500
DTSTAMP:20260423T181643
CREATED:20251203T190746Z
LAST-MODIFIED:20251203T190746Z
UID:10003699-1794740400-1794744900@joymcc.com
SUMMARY:Worship Service-Live/In Person AND Live Streaming Via FaceBook and YouTube Live
DESCRIPTION:https://www.facebook.com/JoyMetropolitanCommunityChurch \nhttps://www.youtube.com/channel/UCuQV4LHlarKHk1VPFA_iGVA \n 
URL:https://joymcc.com/event/worship-service-live-in-person-and-live-streaming-via-facebook-and-youtube-live-2/2026-11-15/
CATEGORIES:Events
END:VEVENT
BEGIN:VEVENT
DTSTART;TZID=America/New_York:20261116T190000
DTEND;TZID=America/New_York:20261116T200000
DTSTAMP:20260423T181643
CREATED:20251214T110650Z
LAST-MODIFIED:20251214T111212Z
UID:10004082-1794855600-1794859200@joymcc.com
SUMMARY:Expand Don't Ban Book Club
DESCRIPTION:https://us02web.zoom.us/j/87288924596
URL:https://joymcc.com/event/expand-dont-ban-book-club-5-2-2/2026-11-16/
CATEGORIES:Events
END:VEVENT
BEGIN:VEVENT
DTSTART;TZID=UTC:20261118T190000
DTEND;TZID=UTC:20261118T203000
DTSTAMP:20260423T181643
CREATED:20240924T184746Z
LAST-MODIFIED:20251231T165933Z
UID:10001702-1795028400-1795033800@joymcc.com
SUMMARY:Spiritual Transformation-In Person AND Via Zoom Meeting
DESCRIPTION:https://zoom.us/j/812716810 \nPASSCODE: 332797
URL:https://joymcc.com/event/spiritual-transformation-in-person-and-via-zoom-meeting-3/2026-11-18/
CATEGORIES:Events
END:VEVENT
BEGIN:VEVENT
DTSTART;TZID=UTC:20261119T190000
DTEND;TZID=UTC:20261119T200000
DTSTAMP:20260423T181643
CREATED:20241023T135650Z
LAST-MODIFIED:20251214T111600Z
UID:10001883-1795114800-1795118400@joymcc.com
SUMMARY:Grief Support Group
DESCRIPTION:Living with Loss\, Healing with Hopeunitorlf
URL:https://joymcc.com/event/grief-support-group-4/2026-11-19/
CATEGORIES:Events
ATTACH;FMTTYPE=image/jpeg:https://joymcc.com/wp-content/uploads/2024/07/Announcements_030517_036.jpg
END:VEVENT
BEGIN:VEVENT
DTSTART;TZID=UTC:20261122T090000
DTEND;TZID=UTC:20261122T100000
DTSTAMP:20260423T181643
CREATED:20240924T183031Z
LAST-MODIFIED:20241114T170426Z
UID:10002027-1795338000-1795341600@joymcc.com
SUMMARY:Worship Service-Live/In Person Only
DESCRIPTION:  \n 
URL:https://joymcc.com/event/worship-service-live-in-person-only-2/2026-11-22/
CATEGORIES:Events
END:VEVENT
BEGIN:VEVENT
DTSTART;TZID=UTC:20261122T110000
DTEND;TZID=UTC:20261122T121500
DTSTAMP:20260423T181643
CREATED:20251203T190746Z
LAST-MODIFIED:20251203T190746Z
UID:10003700-1795345200-1795349700@joymcc.com
SUMMARY:Worship Service-Live/In Person AND Live Streaming Via FaceBook and YouTube Live
DESCRIPTION:https://www.facebook.com/JoyMetropolitanCommunityChurch \nhttps://www.youtube.com/channel/UCuQV4LHlarKHk1VPFA_iGVA \n 
URL:https://joymcc.com/event/worship-service-live-in-person-and-live-streaming-via-facebook-and-youtube-live-2/2026-11-22/
CATEGORIES:Events
END:VEVENT
BEGIN:VEVENT
DTSTART;TZID=UTC:20261125T190000
DTEND;TZID=UTC:20261125T203000
DTSTAMP:20260423T181643
CREATED:20240924T184746Z
LAST-MODIFIED:20251231T165933Z
UID:10001703-1795633200-1795638600@joymcc.com
SUMMARY:Spiritual Transformation-In Person AND Via Zoom Meeting
DESCRIPTION:https://zoom.us/j/812716810 \nPASSCODE: 332797
URL:https://joymcc.com/event/spiritual-transformation-in-person-and-via-zoom-meeting-3/2026-11-25/
CATEGORIES:Events
END:VEVENT
BEGIN:VEVENT
DTSTART;TZID=UTC:20261129T090000
DTEND;TZID=UTC:20261129T100000
DTSTAMP:20260423T181643
CREATED:20240924T183031Z
LAST-MODIFIED:20241114T170426Z
UID:10002028-1795942800-1795946400@joymcc.com
SUMMARY:Worship Service-Live/In Person Only
DESCRIPTION:  \n 
URL:https://joymcc.com/event/worship-service-live-in-person-only-2/2026-11-29/
CATEGORIES:Events
END:VEVENT
BEGIN:VEVENT
DTSTART;TZID=UTC:20261129T110000
DTEND;TZID=UTC:20261129T121500
DTSTAMP:20260423T181643
CREATED:20251203T190746Z
LAST-MODIFIED:20251203T190746Z
UID:10003701-1795950000-1795954500@joymcc.com
SUMMARY:Worship Service-Live/In Person AND Live Streaming Via FaceBook and YouTube Live
DESCRIPTION:https://www.facebook.com/JoyMetropolitanCommunityChurch \nhttps://www.youtube.com/channel/UCuQV4LHlarKHk1VPFA_iGVA \n 
URL:https://joymcc.com/event/worship-service-live-in-person-and-live-streaming-via-facebook-and-youtube-live-2/2026-11-29/
CATEGORIES:Events
END:VEVENT
BEGIN:VEVENT
DTSTART;TZID=UTC:20261202T190000
DTEND;TZID=UTC:20261202T203000
DTSTAMP:20260423T181643
CREATED:20240924T184746Z
LAST-MODIFIED:20251231T165933Z
UID:10001704-1796238000-1796243400@joymcc.com
SUMMARY:Spiritual Transformation-In Person AND Via Zoom Meeting
DESCRIPTION:https://zoom.us/j/812716810 \nPASSCODE: 332797
URL:https://joymcc.com/event/spiritual-transformation-in-person-and-via-zoom-meeting-3/2026-12-02/
CATEGORIES:Events
END:VEVENT
BEGIN:VEVENT
DTSTART;TZID=UTC:20261206T090000
DTEND;TZID=UTC:20261206T100000
DTSTAMP:20260423T181643
CREATED:20240924T183031Z
LAST-MODIFIED:20241114T170426Z
UID:10002029-1796547600-1796551200@joymcc.com
SUMMARY:Worship Service-Live/In Person Only
DESCRIPTION:  \n 
URL:https://joymcc.com/event/worship-service-live-in-person-only-2/2026-12-06/
CATEGORIES:Events
END:VEVENT
BEGIN:VEVENT
DTSTART;TZID=UTC:20261206T110000
DTEND;TZID=UTC:20261206T121500
DTSTAMP:20260423T181643
CREATED:20251203T190746Z
LAST-MODIFIED:20251203T190746Z
UID:10003702-1796554800-1796559300@joymcc.com
SUMMARY:Worship Service-Live/In Person AND Live Streaming Via FaceBook and YouTube Live
DESCRIPTION:https://www.facebook.com/JoyMetropolitanCommunityChurch \nhttps://www.youtube.com/channel/UCuQV4LHlarKHk1VPFA_iGVA \n 
URL:https://joymcc.com/event/worship-service-live-in-person-and-live-streaming-via-facebook-and-youtube-live-2/2026-12-06/
CATEGORIES:Events
END:VEVENT
BEGIN:VEVENT
DTSTART;TZID=UTC:20261207T190000
DTEND;TZID=UTC:20261207T200000
DTSTAMP:20260423T181643
CREATED:20251231T170302Z
LAST-MODIFIED:20251231T170507Z
UID:10004202-1796670000-1796673600@joymcc.com
SUMMARY:Expand Don't Ban Book Club
DESCRIPTION:https://us02web.zoom.us/j/87288924596
URL:https://joymcc.com/event/expand-dont-ban-book-club-4-2/2026-12-07/
CATEGORIES:Events
END:VEVENT
BEGIN:VEVENT
DTSTART;TZID=UTC:20261209T190000
DTEND;TZID=UTC:20261209T203000
DTSTAMP:20260423T181643
CREATED:20240924T184746Z
LAST-MODIFIED:20251231T165933Z
UID:10001705-1796842800-1796848200@joymcc.com
SUMMARY:Spiritual Transformation-In Person AND Via Zoom Meeting
DESCRIPTION:https://zoom.us/j/812716810 \nPASSCODE: 332797
URL:https://joymcc.com/event/spiritual-transformation-in-person-and-via-zoom-meeting-3/2026-12-09/
CATEGORIES:Events
END:VEVENT
BEGIN:VEVENT
DTSTART;TZID=UTC:20261213T090000
DTEND;TZID=UTC:20261213T100000
DTSTAMP:20260423T181643
CREATED:20240924T183031Z
LAST-MODIFIED:20241114T170426Z
UID:10002030-1797152400-1797156000@joymcc.com
SUMMARY:Worship Service-Live/In Person Only
DESCRIPTION:  \n 
URL:https://joymcc.com/event/worship-service-live-in-person-only-2/2026-12-13/
CATEGORIES:Events
END:VEVENT
BEGIN:VEVENT
DTSTART;TZID=UTC:20261213T110000
DTEND;TZID=UTC:20261213T121500
DTSTAMP:20260423T181643
CREATED:20251203T190746Z
LAST-MODIFIED:20251203T190746Z
UID:10003703-1797159600-1797164100@joymcc.com
SUMMARY:Worship Service-Live/In Person AND Live Streaming Via FaceBook and YouTube Live
DESCRIPTION:https://www.facebook.com/JoyMetropolitanCommunityChurch \nhttps://www.youtube.com/channel/UCuQV4LHlarKHk1VPFA_iGVA \n 
URL:https://joymcc.com/event/worship-service-live-in-person-and-live-streaming-via-facebook-and-youtube-live-2/2026-12-13/
CATEGORIES:Events
END:VEVENT
BEGIN:VEVENT
DTSTART;TZID=UTC:20261216T190000
DTEND;TZID=UTC:20261216T203000
DTSTAMP:20260423T181643
CREATED:20240924T184746Z
LAST-MODIFIED:20251231T165933Z
UID:10001706-1797447600-1797453000@joymcc.com
SUMMARY:Spiritual Transformation-In Person AND Via Zoom Meeting
DESCRIPTION:https://zoom.us/j/812716810 \nPASSCODE: 332797
URL:https://joymcc.com/event/spiritual-transformation-in-person-and-via-zoom-meeting-3/2026-12-16/
CATEGORIES:Events
END:VEVENT
BEGIN:VEVENT
DTSTART;TZID=UTC:20261217T190000
DTEND;TZID=UTC:20261217T200000
DTSTAMP:20260423T181643
CREATED:20241023T135650Z
LAST-MODIFIED:20251214T111600Z
UID:10001884-1797534000-1797537600@joymcc.com
SUMMARY:Grief Support Group
DESCRIPTION:Living with Loss\, Healing with Hopeunitorlf
URL:https://joymcc.com/event/grief-support-group-4/2026-12-17/
CATEGORIES:Events
ATTACH;FMTTYPE=image/jpeg:https://joymcc.com/wp-content/uploads/2024/07/Announcements_030517_036.jpg
END:VEVENT
BEGIN:VEVENT
DTSTART;TZID=UTC:20261220T090000
DTEND;TZID=UTC:20261220T100000
DTSTAMP:20260423T181643
CREATED:20240924T183031Z
LAST-MODIFIED:20241114T170426Z
UID:10002031-1797757200-1797760800@joymcc.com
SUMMARY:Worship Service-Live/In Person Only
DESCRIPTION:  \n 
URL:https://joymcc.com/event/worship-service-live-in-person-only-2/2026-12-20/
CATEGORIES:Events
END:VEVENT
BEGIN:VEVENT
DTSTART;TZID=UTC:20261220T110000
DTEND;TZID=UTC:20261220T121500
DTSTAMP:20260423T181643
CREATED:20251203T190746Z
LAST-MODIFIED:20251203T190746Z
UID:10003704-1797764400-1797768900@joymcc.com
SUMMARY:Worship Service-Live/In Person AND Live Streaming Via FaceBook and YouTube Live
DESCRIPTION:https://www.facebook.com/JoyMetropolitanCommunityChurch \nhttps://www.youtube.com/channel/UCuQV4LHlarKHk1VPFA_iGVA \n 
URL:https://joymcc.com/event/worship-service-live-in-person-and-live-streaming-via-facebook-and-youtube-live-2/2026-12-20/
CATEGORIES:Events
END:VEVENT
BEGIN:VEVENT
DTSTART;TZID=America/New_York:20261221T190000
DTEND;TZID=America/New_York:20261221T200000
DTSTAMP:20260423T181643
CREATED:20251214T110650Z
LAST-MODIFIED:20251214T111212Z
UID:10004083-1797879600-1797883200@joymcc.com
SUMMARY:Expand Don't Ban Book Club
DESCRIPTION:https://us02web.zoom.us/j/87288924596
URL:https://joymcc.com/event/expand-dont-ban-book-club-5-2-2/2026-12-21/
CATEGORIES:Events
END:VEVENT
BEGIN:VEVENT
DTSTART;TZID=UTC:20261223T190000
DTEND;TZID=UTC:20261223T203000
DTSTAMP:20260423T181643
CREATED:20240924T184746Z
LAST-MODIFIED:20251231T165933Z
UID:10001707-1798052400-1798057800@joymcc.com
SUMMARY:Spiritual Transformation-In Person AND Via Zoom Meeting
DESCRIPTION:https://zoom.us/j/812716810 \nPASSCODE: 332797
URL:https://joymcc.com/event/spiritual-transformation-in-person-and-via-zoom-meeting-3/2026-12-23/
CATEGORIES:Events
END:VEVENT
BEGIN:VEVENT
DTSTART;TZID=UTC:20261227T090000
DTEND;TZID=UTC:20261227T100000
DTSTAMP:20260423T181643
CREATED:20240924T183031Z
LAST-MODIFIED:20241114T170426Z
UID:10002032-1798362000-1798365600@joymcc.com
SUMMARY:Worship Service-Live/In Person Only
DESCRIPTION:  \n 
URL:https://joymcc.com/event/worship-service-live-in-person-only-2/2026-12-27/
CATEGORIES:Events
END:VEVENT
BEGIN:VEVENT
DTSTART;TZID=UTC:20261227T110000
DTEND;TZID=UTC:20261227T121500
DTSTAMP:20260423T181643
CREATED:20251203T190746Z
LAST-MODIFIED:20251203T190746Z
UID:10003705-1798369200-1798373700@joymcc.com
SUMMARY:Worship Service-Live/In Person AND Live Streaming Via FaceBook and YouTube Live
DESCRIPTION:https://www.facebook.com/JoyMetropolitanCommunityChurch \nhttps://www.youtube.com/channel/UCuQV4LHlarKHk1VPFA_iGVA \n 
URL:https://joymcc.com/event/worship-service-live-in-person-and-live-streaming-via-facebook-and-youtube-live-2/2026-12-27/
CATEGORIES:Events
END:VEVENT
BEGIN:VEVENT
DTSTART;TZID=UTC:20261230T190000
DTEND;TZID=UTC:20261230T203000
DTSTAMP:20260423T181643
CREATED:20240924T184746Z
LAST-MODIFIED:20251231T165933Z
UID:10001708-1798657200-1798662600@joymcc.com
SUMMARY:Spiritual Transformation-In Person AND Via Zoom Meeting
DESCRIPTION:https://zoom.us/j/812716810 \nPASSCODE: 332797
URL:https://joymcc.com/event/spiritual-transformation-in-person-and-via-zoom-meeting-3/2026-12-30/
CATEGORIES:Events
END:VEVENT
END:VCALENDAR