BEGIN:VCALENDAR
VERSION:2.0
PRODID:-//Joy Metropolitan Community Church - ECPv6.15.20//NONSGML v1.0//EN
CALSCALE:GREGORIAN
METHOD:PUBLISH
X-WR-CALNAME:Joy Metropolitan Community Church
X-ORIGINAL-URL:https://joymcc.com
X-WR-CALDESC:Events for Joy Metropolitan Community Church
REFRESH-INTERVAL;VALUE=DURATION:PT1H
X-Robots-Tag:noindex
X-PUBLISHED-TTL:PT1H
BEGIN:VTIMEZONE
TZID:UTC
BEGIN:STANDARD
TZOFFSETFROM:+0000
TZOFFSETTO:+0000
TZNAME:UTC
DTSTART:20270101T000000
END:STANDARD
END:VTIMEZONE
BEGIN:VTIMEZONE
TZID:America/New_York
BEGIN:DAYLIGHT
TZOFFSETFROM:-0500
TZOFFSETTO:-0400
TZNAME:EDT
DTSTART:20270314T070000
END:DAYLIGHT
BEGIN:STANDARD
TZOFFSETFROM:-0400
TZOFFSETTO:-0500
TZNAME:EST
DTSTART:20271107T060000
END:STANDARD
BEGIN:DAYLIGHT
TZOFFSETFROM:-0500
TZOFFSETTO:-0400
TZNAME:EDT
DTSTART:20280312T070000
END:DAYLIGHT
BEGIN:STANDARD
TZOFFSETFROM:-0400
TZOFFSETTO:-0500
TZNAME:EST
DTSTART:20281105T060000
END:STANDARD
BEGIN:DAYLIGHT
TZOFFSETFROM:-0500
TZOFFSETTO:-0400
TZNAME:EDT
DTSTART:20290311T070000
END:DAYLIGHT
BEGIN:STANDARD
TZOFFSETFROM:-0400
TZOFFSETTO:-0500
TZNAME:EST
DTSTART:20291104T060000
END:STANDARD
END:VTIMEZONE
BEGIN:VEVENT
DTSTART;TZID=UTC:20281105T090000
DTEND;TZID=UTC:20281105T100000
DTSTAMP:20260425T100501
CREATED:20240924T183031Z
LAST-MODIFIED:20241114T170426Z
UID:10002129-1857027600-1857031200@joymcc.com
SUMMARY:Worship Service-Live/In Person Only
DESCRIPTION:  \n 
URL:https://joymcc.com/event/worship-service-live-in-person-only-2/2028-11-05/
CATEGORIES:Events
END:VEVENT
BEGIN:VEVENT
DTSTART;TZID=UTC:20281105T110000
DTEND;TZID=UTC:20281105T121500
DTSTAMP:20260425T100501
CREATED:20251203T190746Z
LAST-MODIFIED:20251203T190746Z
UID:10003802-1857034800-1857039300@joymcc.com
SUMMARY:Worship Service-Live/In Person AND Live Streaming Via FaceBook and YouTube Live
DESCRIPTION:https://www.facebook.com/JoyMetropolitanCommunityChurch \nhttps://www.youtube.com/channel/UCuQV4LHlarKHk1VPFA_iGVA \n 
URL:https://joymcc.com/event/worship-service-live-in-person-and-live-streaming-via-facebook-and-youtube-live-2/2028-11-05/
CATEGORIES:Events
END:VEVENT
BEGIN:VEVENT
DTSTART;TZID=UTC:20281106T190000
DTEND;TZID=UTC:20281106T200000
DTSTAMP:20260425T100501
CREATED:20251231T170302Z
LAST-MODIFIED:20251231T170507Z
UID:10004223-1857150000-1857153600@joymcc.com
SUMMARY:Expand Don't Ban Book Club
DESCRIPTION:https://us02web.zoom.us/j/87288924596
URL:https://joymcc.com/event/expand-dont-ban-book-club-4-2/2028-11-06/
CATEGORIES:Events
END:VEVENT
BEGIN:VEVENT
DTSTART;TZID=UTC:20281108T190000
DTEND;TZID=UTC:20281108T203000
DTSTAMP:20260425T100501
CREATED:20240924T184746Z
LAST-MODIFIED:20251231T165933Z
UID:10001805-1857322800-1857328200@joymcc.com
SUMMARY:Spiritual Transformation-In Person AND Via Zoom Meeting
DESCRIPTION:https://zoom.us/j/812716810 \nPASSCODE: 332797
URL:https://joymcc.com/event/spiritual-transformation-in-person-and-via-zoom-meeting-3/2028-11-08/
CATEGORIES:Events
END:VEVENT
BEGIN:VEVENT
DTSTART;TZID=UTC:20281112T090000
DTEND;TZID=UTC:20281112T100000
DTSTAMP:20260425T100501
CREATED:20240924T183031Z
LAST-MODIFIED:20241114T170426Z
UID:10002130-1857632400-1857636000@joymcc.com
SUMMARY:Worship Service-Live/In Person Only
DESCRIPTION:  \n 
URL:https://joymcc.com/event/worship-service-live-in-person-only-2/2028-11-12/
CATEGORIES:Events
END:VEVENT
BEGIN:VEVENT
DTSTART;TZID=UTC:20281112T110000
DTEND;TZID=UTC:20281112T121500
DTSTAMP:20260425T100501
CREATED:20251203T190746Z
LAST-MODIFIED:20251203T190746Z
UID:10003803-1857639600-1857644100@joymcc.com
SUMMARY:Worship Service-Live/In Person AND Live Streaming Via FaceBook and YouTube Live
DESCRIPTION:https://www.facebook.com/JoyMetropolitanCommunityChurch \nhttps://www.youtube.com/channel/UCuQV4LHlarKHk1VPFA_iGVA \n 
URL:https://joymcc.com/event/worship-service-live-in-person-and-live-streaming-via-facebook-and-youtube-live-2/2028-11-12/
CATEGORIES:Events
END:VEVENT
BEGIN:VEVENT
DTSTART;TZID=UTC:20281115T190000
DTEND;TZID=UTC:20281115T203000
DTSTAMP:20260425T100501
CREATED:20240924T184746Z
LAST-MODIFIED:20251231T165933Z
UID:10001806-1857927600-1857933000@joymcc.com
SUMMARY:Spiritual Transformation-In Person AND Via Zoom Meeting
DESCRIPTION:https://zoom.us/j/812716810 \nPASSCODE: 332797
URL:https://joymcc.com/event/spiritual-transformation-in-person-and-via-zoom-meeting-3/2028-11-15/
CATEGORIES:Events
END:VEVENT
BEGIN:VEVENT
DTSTART;TZID=UTC:20281116T190000
DTEND;TZID=UTC:20281116T200000
DTSTAMP:20260425T100501
CREATED:20241023T135650Z
LAST-MODIFIED:20251214T111600Z
UID:10001907-1858014000-1858017600@joymcc.com
SUMMARY:Grief Support Group
DESCRIPTION:Living with Loss\, Healing with Hopeunitorlf
URL:https://joymcc.com/event/grief-support-group-4/2028-11-16/
CATEGORIES:Events
ATTACH;FMTTYPE=image/jpeg:https://joymcc.com/wp-content/uploads/2024/07/Announcements_030517_036.jpg
END:VEVENT
BEGIN:VEVENT
DTSTART;TZID=UTC:20281119T090000
DTEND;TZID=UTC:20281119T100000
DTSTAMP:20260425T100501
CREATED:20240924T183031Z
LAST-MODIFIED:20241114T170426Z
UID:10002131-1858237200-1858240800@joymcc.com
SUMMARY:Worship Service-Live/In Person Only
DESCRIPTION:  \n 
URL:https://joymcc.com/event/worship-service-live-in-person-only-2/2028-11-19/
CATEGORIES:Events
END:VEVENT
BEGIN:VEVENT
DTSTART;TZID=UTC:20281119T110000
DTEND;TZID=UTC:20281119T121500
DTSTAMP:20260425T100501
CREATED:20251203T190746Z
LAST-MODIFIED:20251203T190746Z
UID:10003804-1858244400-1858248900@joymcc.com
SUMMARY:Worship Service-Live/In Person AND Live Streaming Via FaceBook and YouTube Live
DESCRIPTION:https://www.facebook.com/JoyMetropolitanCommunityChurch \nhttps://www.youtube.com/channel/UCuQV4LHlarKHk1VPFA_iGVA \n 
URL:https://joymcc.com/event/worship-service-live-in-person-and-live-streaming-via-facebook-and-youtube-live-2/2028-11-19/
CATEGORIES:Events
END:VEVENT
BEGIN:VEVENT
DTSTART;TZID=America/New_York:20281120T190000
DTEND;TZID=America/New_York:20281120T200000
DTSTAMP:20260425T100501
CREATED:20251214T110650Z
LAST-MODIFIED:20251214T111212Z
UID:10004102-1858359600-1858363200@joymcc.com
SUMMARY:Expand Don't Ban Book Club
DESCRIPTION:https://us02web.zoom.us/j/87288924596
URL:https://joymcc.com/event/expand-dont-ban-book-club-5-2-2/2028-11-20/
CATEGORIES:Events
END:VEVENT
BEGIN:VEVENT
DTSTART;TZID=UTC:20281122T190000
DTEND;TZID=UTC:20281122T203000
DTSTAMP:20260425T100501
CREATED:20240924T184746Z
LAST-MODIFIED:20251231T165933Z
UID:10001807-1858532400-1858537800@joymcc.com
SUMMARY:Spiritual Transformation-In Person AND Via Zoom Meeting
DESCRIPTION:https://zoom.us/j/812716810 \nPASSCODE: 332797
URL:https://joymcc.com/event/spiritual-transformation-in-person-and-via-zoom-meeting-3/2028-11-22/
CATEGORIES:Events
END:VEVENT
BEGIN:VEVENT
DTSTART;TZID=UTC:20281126T090000
DTEND;TZID=UTC:20281126T100000
DTSTAMP:20260425T100501
CREATED:20240924T183031Z
LAST-MODIFIED:20241114T170426Z
UID:10002132-1858842000-1858845600@joymcc.com
SUMMARY:Worship Service-Live/In Person Only
DESCRIPTION:  \n 
URL:https://joymcc.com/event/worship-service-live-in-person-only-2/2028-11-26/
CATEGORIES:Events
END:VEVENT
BEGIN:VEVENT
DTSTART;TZID=UTC:20281126T110000
DTEND;TZID=UTC:20281126T121500
DTSTAMP:20260425T100501
CREATED:20251203T190746Z
LAST-MODIFIED:20251203T190746Z
UID:10003805-1858849200-1858853700@joymcc.com
SUMMARY:Worship Service-Live/In Person AND Live Streaming Via FaceBook and YouTube Live
DESCRIPTION:https://www.facebook.com/JoyMetropolitanCommunityChurch \nhttps://www.youtube.com/channel/UCuQV4LHlarKHk1VPFA_iGVA \n 
URL:https://joymcc.com/event/worship-service-live-in-person-and-live-streaming-via-facebook-and-youtube-live-2/2028-11-26/
CATEGORIES:Events
END:VEVENT
BEGIN:VEVENT
DTSTART;TZID=UTC:20281129T190000
DTEND;TZID=UTC:20281129T203000
DTSTAMP:20260425T100501
CREATED:20240924T184746Z
LAST-MODIFIED:20251231T165933Z
UID:10001808-1859137200-1859142600@joymcc.com
SUMMARY:Spiritual Transformation-In Person AND Via Zoom Meeting
DESCRIPTION:https://zoom.us/j/812716810 \nPASSCODE: 332797
URL:https://joymcc.com/event/spiritual-transformation-in-person-and-via-zoom-meeting-3/2028-11-29/
CATEGORIES:Events
END:VEVENT
BEGIN:VEVENT
DTSTART;TZID=UTC:20281203T090000
DTEND;TZID=UTC:20281203T100000
DTSTAMP:20260425T100501
CREATED:20240924T183031Z
LAST-MODIFIED:20241114T170426Z
UID:10002133-1859446800-1859450400@joymcc.com
SUMMARY:Worship Service-Live/In Person Only
DESCRIPTION:  \n 
URL:https://joymcc.com/event/worship-service-live-in-person-only-2/2028-12-03/
CATEGORIES:Events
END:VEVENT
BEGIN:VEVENT
DTSTART;TZID=UTC:20281203T110000
DTEND;TZID=UTC:20281203T121500
DTSTAMP:20260425T100501
CREATED:20251203T190746Z
LAST-MODIFIED:20251203T190746Z
UID:10003806-1859454000-1859458500@joymcc.com
SUMMARY:Worship Service-Live/In Person AND Live Streaming Via FaceBook and YouTube Live
DESCRIPTION:https://www.facebook.com/JoyMetropolitanCommunityChurch \nhttps://www.youtube.com/channel/UCuQV4LHlarKHk1VPFA_iGVA \n 
URL:https://joymcc.com/event/worship-service-live-in-person-and-live-streaming-via-facebook-and-youtube-live-2/2028-12-03/
CATEGORIES:Events
END:VEVENT
BEGIN:VEVENT
DTSTART;TZID=UTC:20281204T190000
DTEND;TZID=UTC:20281204T200000
DTSTAMP:20260425T100501
CREATED:20251231T170302Z
LAST-MODIFIED:20251231T170507Z
UID:10004224-1859569200-1859572800@joymcc.com
SUMMARY:Expand Don't Ban Book Club
DESCRIPTION:https://us02web.zoom.us/j/87288924596
URL:https://joymcc.com/event/expand-dont-ban-book-club-4-2/2028-12-04/
CATEGORIES:Events
END:VEVENT
BEGIN:VEVENT
DTSTART;TZID=UTC:20281206T190000
DTEND;TZID=UTC:20281206T203000
DTSTAMP:20260425T100501
CREATED:20240924T184746Z
LAST-MODIFIED:20251231T165933Z
UID:10001809-1859742000-1859747400@joymcc.com
SUMMARY:Spiritual Transformation-In Person AND Via Zoom Meeting
DESCRIPTION:https://zoom.us/j/812716810 \nPASSCODE: 332797
URL:https://joymcc.com/event/spiritual-transformation-in-person-and-via-zoom-meeting-3/2028-12-06/
CATEGORIES:Events
END:VEVENT
BEGIN:VEVENT
DTSTART;TZID=UTC:20281210T090000
DTEND;TZID=UTC:20281210T100000
DTSTAMP:20260425T100501
CREATED:20240924T183031Z
LAST-MODIFIED:20241114T170426Z
UID:10002134-1860051600-1860055200@joymcc.com
SUMMARY:Worship Service-Live/In Person Only
DESCRIPTION:  \n 
URL:https://joymcc.com/event/worship-service-live-in-person-only-2/2028-12-10/
CATEGORIES:Events
END:VEVENT
BEGIN:VEVENT
DTSTART;TZID=UTC:20281210T110000
DTEND;TZID=UTC:20281210T121500
DTSTAMP:20260425T100501
CREATED:20251203T190746Z
LAST-MODIFIED:20251203T190746Z
UID:10003807-1860058800-1860063300@joymcc.com
SUMMARY:Worship Service-Live/In Person AND Live Streaming Via FaceBook and YouTube Live
DESCRIPTION:https://www.facebook.com/JoyMetropolitanCommunityChurch \nhttps://www.youtube.com/channel/UCuQV4LHlarKHk1VPFA_iGVA \n 
URL:https://joymcc.com/event/worship-service-live-in-person-and-live-streaming-via-facebook-and-youtube-live-2/2028-12-10/
CATEGORIES:Events
END:VEVENT
BEGIN:VEVENT
DTSTART;TZID=UTC:20281213T190000
DTEND;TZID=UTC:20281213T203000
DTSTAMP:20260425T100501
CREATED:20240924T184746Z
LAST-MODIFIED:20251231T165933Z
UID:10001810-1860346800-1860352200@joymcc.com
SUMMARY:Spiritual Transformation-In Person AND Via Zoom Meeting
DESCRIPTION:https://zoom.us/j/812716810 \nPASSCODE: 332797
URL:https://joymcc.com/event/spiritual-transformation-in-person-and-via-zoom-meeting-3/2028-12-13/
CATEGORIES:Events
END:VEVENT
BEGIN:VEVENT
DTSTART;TZID=UTC:20281217T090000
DTEND;TZID=UTC:20281217T100000
DTSTAMP:20260425T100501
CREATED:20240924T183031Z
LAST-MODIFIED:20241114T170426Z
UID:10002135-1860656400-1860660000@joymcc.com
SUMMARY:Worship Service-Live/In Person Only
DESCRIPTION:  \n 
URL:https://joymcc.com/event/worship-service-live-in-person-only-2/2028-12-17/
CATEGORIES:Events
END:VEVENT
BEGIN:VEVENT
DTSTART;TZID=UTC:20281217T110000
DTEND;TZID=UTC:20281217T121500
DTSTAMP:20260425T100501
CREATED:20251203T190746Z
LAST-MODIFIED:20251203T190746Z
UID:10003808-1860663600-1860668100@joymcc.com
SUMMARY:Worship Service-Live/In Person AND Live Streaming Via FaceBook and YouTube Live
DESCRIPTION:https://www.facebook.com/JoyMetropolitanCommunityChurch \nhttps://www.youtube.com/channel/UCuQV4LHlarKHk1VPFA_iGVA \n 
URL:https://joymcc.com/event/worship-service-live-in-person-and-live-streaming-via-facebook-and-youtube-live-2/2028-12-17/
CATEGORIES:Events
END:VEVENT
BEGIN:VEVENT
DTSTART;TZID=America/New_York:20281218T190000
DTEND;TZID=America/New_York:20281218T200000
DTSTAMP:20260425T100501
CREATED:20251214T110650Z
LAST-MODIFIED:20251214T111212Z
UID:10004103-1860778800-1860782400@joymcc.com
SUMMARY:Expand Don't Ban Book Club
DESCRIPTION:https://us02web.zoom.us/j/87288924596
URL:https://joymcc.com/event/expand-dont-ban-book-club-5-2-2/2028-12-18/
CATEGORIES:Events
END:VEVENT
BEGIN:VEVENT
DTSTART;TZID=UTC:20281220T190000
DTEND;TZID=UTC:20281220T203000
DTSTAMP:20260425T100501
CREATED:20240924T184746Z
LAST-MODIFIED:20251231T165933Z
UID:10001811-1860951600-1860957000@joymcc.com
SUMMARY:Spiritual Transformation-In Person AND Via Zoom Meeting
DESCRIPTION:https://zoom.us/j/812716810 \nPASSCODE: 332797
URL:https://joymcc.com/event/spiritual-transformation-in-person-and-via-zoom-meeting-3/2028-12-20/
CATEGORIES:Events
END:VEVENT
BEGIN:VEVENT
DTSTART;TZID=UTC:20281221T190000
DTEND;TZID=UTC:20281221T200000
DTSTAMP:20260425T100501
CREATED:20241023T135650Z
LAST-MODIFIED:20251214T111600Z
UID:10001908-1861038000-1861041600@joymcc.com
SUMMARY:Grief Support Group
DESCRIPTION:Living with Loss\, Healing with Hopeunitorlf
URL:https://joymcc.com/event/grief-support-group-4/2028-12-21/
CATEGORIES:Events
ATTACH;FMTTYPE=image/jpeg:https://joymcc.com/wp-content/uploads/2024/07/Announcements_030517_036.jpg
END:VEVENT
BEGIN:VEVENT
DTSTART;TZID=UTC:20281224T090000
DTEND;TZID=UTC:20281224T100000
DTSTAMP:20260425T100501
CREATED:20240924T183031Z
LAST-MODIFIED:20241114T170426Z
UID:10002136-1861261200-1861264800@joymcc.com
SUMMARY:Worship Service-Live/In Person Only
DESCRIPTION:  \n 
URL:https://joymcc.com/event/worship-service-live-in-person-only-2/2028-12-24/
CATEGORIES:Events
END:VEVENT
BEGIN:VEVENT
DTSTART;TZID=UTC:20281224T110000
DTEND;TZID=UTC:20281224T121500
DTSTAMP:20260425T100501
CREATED:20251203T190746Z
LAST-MODIFIED:20251203T190746Z
UID:10003809-1861268400-1861272900@joymcc.com
SUMMARY:Worship Service-Live/In Person AND Live Streaming Via FaceBook and YouTube Live
DESCRIPTION:https://www.facebook.com/JoyMetropolitanCommunityChurch \nhttps://www.youtube.com/channel/UCuQV4LHlarKHk1VPFA_iGVA \n 
URL:https://joymcc.com/event/worship-service-live-in-person-and-live-streaming-via-facebook-and-youtube-live-2/2028-12-24/
CATEGORIES:Events
END:VEVENT
BEGIN:VEVENT
DTSTART;TZID=UTC:20281227T190000
DTEND;TZID=UTC:20281227T203000
DTSTAMP:20260425T100501
CREATED:20240924T184746Z
LAST-MODIFIED:20251231T165933Z
UID:10001812-1861556400-1861561800@joymcc.com
SUMMARY:Spiritual Transformation-In Person AND Via Zoom Meeting
DESCRIPTION:https://zoom.us/j/812716810 \nPASSCODE: 332797
URL:https://joymcc.com/event/spiritual-transformation-in-person-and-via-zoom-meeting-3/2028-12-27/
CATEGORIES:Events
END:VEVENT
END:VCALENDAR