BEGIN:VCALENDAR
VERSION:2.0
PRODID:-//Joy Metropolitan Community Church - ECPv6.15.20//NONSGML v1.0//EN
CALSCALE:GREGORIAN
METHOD:PUBLISH
X-WR-CALNAME:Joy Metropolitan Community Church
X-ORIGINAL-URL:https://joymcc.com
X-WR-CALDESC:Events for Joy Metropolitan Community Church
REFRESH-INTERVAL;VALUE=DURATION:PT1H
X-Robots-Tag:noindex
X-PUBLISHED-TTL:PT1H
BEGIN:VTIMEZONE
TZID:UTC
BEGIN:STANDARD
TZOFFSETFROM:+0000
TZOFFSETTO:+0000
TZNAME:UTC
DTSTART:20250101T000000
END:STANDARD
END:VTIMEZONE
BEGIN:VTIMEZONE
TZID:America/New_York
BEGIN:DAYLIGHT
TZOFFSETFROM:-0500
TZOFFSETTO:-0400
TZNAME:EDT
DTSTART:20250309T070000
END:DAYLIGHT
BEGIN:STANDARD
TZOFFSETFROM:-0400
TZOFFSETTO:-0500
TZNAME:EST
DTSTART:20251102T060000
END:STANDARD
BEGIN:DAYLIGHT
TZOFFSETFROM:-0500
TZOFFSETTO:-0400
TZNAME:EDT
DTSTART:20260308T070000
END:DAYLIGHT
BEGIN:STANDARD
TZOFFSETFROM:-0400
TZOFFSETTO:-0500
TZNAME:EST
DTSTART:20261101T060000
END:STANDARD
BEGIN:DAYLIGHT
TZOFFSETFROM:-0500
TZOFFSETTO:-0400
TZNAME:EDT
DTSTART:20270314T070000
END:DAYLIGHT
BEGIN:STANDARD
TZOFFSETFROM:-0400
TZOFFSETTO:-0500
TZNAME:EST
DTSTART:20271107T060000
END:STANDARD
END:VTIMEZONE
BEGIN:VEVENT
DTSTART;TZID=UTC:20260225T190000
DTEND;TZID=UTC:20260225T203000
DTSTAMP:20260423T073006
CREATED:20240924T184746Z
LAST-MODIFIED:20251231T165933Z
UID:10001664-1772046000-1772051400@joymcc.com
SUMMARY:Spiritual Transformation-In Person AND Via Zoom Meeting
DESCRIPTION:https://zoom.us/j/812716810 \nPASSCODE: 332797
URL:https://joymcc.com/event/spiritual-transformation-in-person-and-via-zoom-meeting-3/2026-02-25/
CATEGORIES:Events
END:VEVENT
BEGIN:VEVENT
DTSTART;TZID=UTC:20260222T110000
DTEND;TZID=UTC:20260222T121500
DTSTAMP:20260423T073006
CREATED:20251203T190746Z
LAST-MODIFIED:20251203T190746Z
UID:10003661-1771758000-1771762500@joymcc.com
SUMMARY:Worship Service-Live/In Person AND Live Streaming Via FaceBook and YouTube Live
DESCRIPTION:https://www.facebook.com/JoyMetropolitanCommunityChurch \nhttps://www.youtube.com/channel/UCuQV4LHlarKHk1VPFA_iGVA \n 
URL:https://joymcc.com/event/worship-service-live-in-person-and-live-streaming-via-facebook-and-youtube-live-2/2026-02-22/
CATEGORIES:Events
END:VEVENT
BEGIN:VEVENT
DTSTART;TZID=UTC:20260222T090000
DTEND;TZID=UTC:20260222T100000
DTSTAMP:20260423T073006
CREATED:20240924T183031Z
LAST-MODIFIED:20241114T170426Z
UID:10001988-1771750800-1771754400@joymcc.com
SUMMARY:Worship Service-Live/In Person Only
DESCRIPTION:  \n 
URL:https://joymcc.com/event/worship-service-live-in-person-only-2/2026-02-22/
CATEGORIES:Events
END:VEVENT
BEGIN:VEVENT
DTSTART;TZID=UTC:20260219T190000
DTEND;TZID=UTC:20260219T200000
DTSTAMP:20260423T073006
CREATED:20241023T135650Z
LAST-MODIFIED:20251214T111600Z
UID:10001874-1771527600-1771531200@joymcc.com
SUMMARY:Grief Support Group
DESCRIPTION:Living with Loss\, Healing with Hopeunitorlf
URL:https://joymcc.com/event/grief-support-group-4/2026-02-19/
CATEGORIES:Events
ATTACH;FMTTYPE=image/jpeg:https://joymcc.com/wp-content/uploads/2024/07/Announcements_030517_036.jpg
END:VEVENT
BEGIN:VEVENT
DTSTART;TZID=UTC:20260218T190000
DTEND;TZID=UTC:20260218T203000
DTSTAMP:20260423T073006
CREATED:20240924T184746Z
LAST-MODIFIED:20251231T165933Z
UID:10001663-1771441200-1771446600@joymcc.com
SUMMARY:Spiritual Transformation-In Person AND Via Zoom Meeting
DESCRIPTION:https://zoom.us/j/812716810 \nPASSCODE: 332797
URL:https://joymcc.com/event/spiritual-transformation-in-person-and-via-zoom-meeting-3/2026-02-18/
CATEGORIES:Events
END:VEVENT
BEGIN:VEVENT
DTSTART;TZID=America/New_York:20260216T190000
DTEND;TZID=America/New_York:20260216T200000
DTSTAMP:20260423T073006
CREATED:20251214T110650Z
LAST-MODIFIED:20251214T111212Z
UID:10004074-1771268400-1771272000@joymcc.com
SUMMARY:Expand Don't Ban Book Club
DESCRIPTION:https://us02web.zoom.us/j/87288924596
URL:https://joymcc.com/event/expand-dont-ban-book-club-5-2-2/2026-02-16/
CATEGORIES:Events
END:VEVENT
BEGIN:VEVENT
DTSTART;TZID=UTC:20260215T110000
DTEND;TZID=UTC:20260215T121500
DTSTAMP:20260423T073006
CREATED:20251203T190746Z
LAST-MODIFIED:20251203T190746Z
UID:10003660-1771153200-1771157700@joymcc.com
SUMMARY:Worship Service-Live/In Person AND Live Streaming Via FaceBook and YouTube Live
DESCRIPTION:https://www.facebook.com/JoyMetropolitanCommunityChurch \nhttps://www.youtube.com/channel/UCuQV4LHlarKHk1VPFA_iGVA \n 
URL:https://joymcc.com/event/worship-service-live-in-person-and-live-streaming-via-facebook-and-youtube-live-2/2026-02-15/
CATEGORIES:Events
END:VEVENT
BEGIN:VEVENT
DTSTART;TZID=UTC:20260215T090000
DTEND;TZID=UTC:20260215T100000
DTSTAMP:20260423T073006
CREATED:20240924T183031Z
LAST-MODIFIED:20241114T170426Z
UID:10001987-1771146000-1771149600@joymcc.com
SUMMARY:Worship Service-Live/In Person Only
DESCRIPTION:  \n 
URL:https://joymcc.com/event/worship-service-live-in-person-only-2/2026-02-15/
CATEGORIES:Events
END:VEVENT
BEGIN:VEVENT
DTSTART;TZID=UTC:20260211T190000
DTEND;TZID=UTC:20260211T203000
DTSTAMP:20260423T073006
CREATED:20240924T184746Z
LAST-MODIFIED:20251231T165933Z
UID:10001662-1770836400-1770841800@joymcc.com
SUMMARY:Spiritual Transformation-In Person AND Via Zoom Meeting
DESCRIPTION:https://zoom.us/j/812716810 \nPASSCODE: 332797
URL:https://joymcc.com/event/spiritual-transformation-in-person-and-via-zoom-meeting-3/2026-02-11/
CATEGORIES:Events
END:VEVENT
BEGIN:VEVENT
DTSTART;TZID=UTC:20260208T110000
DTEND;TZID=UTC:20260208T121500
DTSTAMP:20260423T073006
CREATED:20251203T190746Z
LAST-MODIFIED:20251203T190746Z
UID:10003659-1770548400-1770552900@joymcc.com
SUMMARY:Worship Service-Live/In Person AND Live Streaming Via FaceBook and YouTube Live
DESCRIPTION:https://www.facebook.com/JoyMetropolitanCommunityChurch \nhttps://www.youtube.com/channel/UCuQV4LHlarKHk1VPFA_iGVA \n 
URL:https://joymcc.com/event/worship-service-live-in-person-and-live-streaming-via-facebook-and-youtube-live-2/2026-02-08/
CATEGORIES:Events
END:VEVENT
BEGIN:VEVENT
DTSTART;TZID=UTC:20260208T090000
DTEND;TZID=UTC:20260208T100000
DTSTAMP:20260423T073006
CREATED:20240924T183031Z
LAST-MODIFIED:20241114T170426Z
UID:10001986-1770541200-1770544800@joymcc.com
SUMMARY:Worship Service-Live/In Person Only
DESCRIPTION:  \n 
URL:https://joymcc.com/event/worship-service-live-in-person-only-2/2026-02-08/
CATEGORIES:Events
END:VEVENT
BEGIN:VEVENT
DTSTART;TZID=UTC:20260204T190000
DTEND;TZID=UTC:20260204T203000
DTSTAMP:20260423T073006
CREATED:20240924T184746Z
LAST-MODIFIED:20251231T165933Z
UID:10001661-1770231600-1770237000@joymcc.com
SUMMARY:Spiritual Transformation-In Person AND Via Zoom Meeting
DESCRIPTION:https://zoom.us/j/812716810 \nPASSCODE: 332797
URL:https://joymcc.com/event/spiritual-transformation-in-person-and-via-zoom-meeting-3/2026-02-04/
CATEGORIES:Events
END:VEVENT
BEGIN:VEVENT
DTSTART;TZID=UTC:20260202T190000
DTEND;TZID=UTC:20260202T200000
DTSTAMP:20260423T073006
CREATED:20251231T170302Z
LAST-MODIFIED:20251231T170507Z
UID:10002265-1770058800-1770062400@joymcc.com
SUMMARY:Expand Don't Ban Book Club
DESCRIPTION:https://us02web.zoom.us/j/87288924596
URL:https://joymcc.com/event/expand-dont-ban-book-club-4-2/2026-02-02/
CATEGORIES:Events
END:VEVENT
BEGIN:VEVENT
DTSTART;TZID=UTC:20260201T110000
DTEND;TZID=UTC:20260201T121500
DTSTAMP:20260423T073006
CREATED:20251203T190746Z
LAST-MODIFIED:20251203T190746Z
UID:10003658-1769943600-1769948100@joymcc.com
SUMMARY:Worship Service-Live/In Person AND Live Streaming Via FaceBook and YouTube Live
DESCRIPTION:https://www.facebook.com/JoyMetropolitanCommunityChurch \nhttps://www.youtube.com/channel/UCuQV4LHlarKHk1VPFA_iGVA \n 
URL:https://joymcc.com/event/worship-service-live-in-person-and-live-streaming-via-facebook-and-youtube-live-2/2026-02-01/
CATEGORIES:Events
END:VEVENT
BEGIN:VEVENT
DTSTART;TZID=UTC:20260201T090000
DTEND;TZID=UTC:20260201T100000
DTSTAMP:20260423T073006
CREATED:20240924T183031Z
LAST-MODIFIED:20241114T170426Z
UID:10001985-1769936400-1769940000@joymcc.com
SUMMARY:Worship Service-Live/In Person Only
DESCRIPTION:  \n 
URL:https://joymcc.com/event/worship-service-live-in-person-only-2/2026-02-01/
CATEGORIES:Events
END:VEVENT
BEGIN:VEVENT
DTSTART;TZID=UTC:20260128T190000
DTEND;TZID=UTC:20260128T203000
DTSTAMP:20260423T073006
CREATED:20240924T184746Z
LAST-MODIFIED:20251231T165933Z
UID:10001660-1769626800-1769632200@joymcc.com
SUMMARY:Spiritual Transformation-In Person AND Via Zoom Meeting
DESCRIPTION:https://zoom.us/j/812716810 \nPASSCODE: 332797
URL:https://joymcc.com/event/spiritual-transformation-in-person-and-via-zoom-meeting-3/2026-01-28/
CATEGORIES:Events
END:VEVENT
BEGIN:VEVENT
DTSTART;TZID=UTC:20260125T110000
DTEND;TZID=UTC:20260125T121500
DTSTAMP:20260423T073006
CREATED:20251203T190746Z
LAST-MODIFIED:20251203T190746Z
UID:10003657-1769338800-1769343300@joymcc.com
SUMMARY:Worship Service-Live/In Person AND Live Streaming Via FaceBook and YouTube Live
DESCRIPTION:https://www.facebook.com/JoyMetropolitanCommunityChurch \nhttps://www.youtube.com/channel/UCuQV4LHlarKHk1VPFA_iGVA \n 
URL:https://joymcc.com/event/worship-service-live-in-person-and-live-streaming-via-facebook-and-youtube-live-2/2026-01-25/
CATEGORIES:Events
END:VEVENT
BEGIN:VEVENT
DTSTART;TZID=UTC:20260125T090000
DTEND;TZID=UTC:20260125T100000
DTSTAMP:20260423T073006
CREATED:20240924T183031Z
LAST-MODIFIED:20241114T170426Z
UID:10001984-1769331600-1769335200@joymcc.com
SUMMARY:Worship Service-Live/In Person Only
DESCRIPTION:  \n 
URL:https://joymcc.com/event/worship-service-live-in-person-only-2/2026-01-25/
CATEGORIES:Events
END:VEVENT
BEGIN:VEVENT
DTSTART;TZID=UTC:20260121T190000
DTEND;TZID=UTC:20260121T203000
DTSTAMP:20260423T073006
CREATED:20240924T184746Z
LAST-MODIFIED:20251231T165933Z
UID:10001659-1769022000-1769027400@joymcc.com
SUMMARY:Spiritual Transformation-In Person AND Via Zoom Meeting
DESCRIPTION:https://zoom.us/j/812716810 \nPASSCODE: 332797
URL:https://joymcc.com/event/spiritual-transformation-in-person-and-via-zoom-meeting-3/2026-01-21/
CATEGORIES:Events
END:VEVENT
BEGIN:VEVENT
DTSTART;TZID=America/New_York:20260119T190000
DTEND;TZID=America/New_York:20260119T200000
DTSTAMP:20260423T073006
CREATED:20251214T110650Z
LAST-MODIFIED:20251214T111212Z
UID:10004073-1768849200-1768852800@joymcc.com
SUMMARY:Expand Don't Ban Book Club
DESCRIPTION:https://us02web.zoom.us/j/87288924596
URL:https://joymcc.com/event/expand-dont-ban-book-club-5-2-2/2026-01-19/
CATEGORIES:Events
END:VEVENT
BEGIN:VEVENT
DTSTART;TZID=UTC:20260118T110000
DTEND;TZID=UTC:20260118T121500
DTSTAMP:20260423T073006
CREATED:20251203T190746Z
LAST-MODIFIED:20251203T190746Z
UID:10003656-1768734000-1768738500@joymcc.com
SUMMARY:Worship Service-Live/In Person AND Live Streaming Via FaceBook and YouTube Live
DESCRIPTION:https://www.facebook.com/JoyMetropolitanCommunityChurch \nhttps://www.youtube.com/channel/UCuQV4LHlarKHk1VPFA_iGVA \n 
URL:https://joymcc.com/event/worship-service-live-in-person-and-live-streaming-via-facebook-and-youtube-live-2/2026-01-18/
CATEGORIES:Events
END:VEVENT
BEGIN:VEVENT
DTSTART;TZID=UTC:20260118T090000
DTEND;TZID=UTC:20260118T100000
DTSTAMP:20260423T073006
CREATED:20240924T183031Z
LAST-MODIFIED:20241114T170426Z
UID:10001983-1768726800-1768730400@joymcc.com
SUMMARY:Worship Service-Live/In Person Only
DESCRIPTION:  \n 
URL:https://joymcc.com/event/worship-service-live-in-person-only-2/2026-01-18/
CATEGORIES:Events
END:VEVENT
BEGIN:VEVENT
DTSTART;TZID=UTC:20260115T190000
DTEND;TZID=UTC:20260115T200000
DTSTAMP:20260423T073006
CREATED:20241023T135650Z
LAST-MODIFIED:20251214T111600Z
UID:10001873-1768503600-1768507200@joymcc.com
SUMMARY:Grief Support Group
DESCRIPTION:Living with Loss\, Healing with Hopeunitorlf
URL:https://joymcc.com/event/grief-support-group-4/2026-01-15/
CATEGORIES:Events
ATTACH;FMTTYPE=image/jpeg:https://joymcc.com/wp-content/uploads/2024/07/Announcements_030517_036.jpg
END:VEVENT
BEGIN:VEVENT
DTSTART;TZID=UTC:20260114T190000
DTEND;TZID=UTC:20260114T203000
DTSTAMP:20260423T073006
CREATED:20240924T184746Z
LAST-MODIFIED:20251231T165933Z
UID:10001658-1768417200-1768422600@joymcc.com
SUMMARY:Spiritual Transformation-In Person AND Via Zoom Meeting
DESCRIPTION:https://zoom.us/j/812716810 \nPASSCODE: 332797
URL:https://joymcc.com/event/spiritual-transformation-in-person-and-via-zoom-meeting-3/2026-01-14/
CATEGORIES:Events
END:VEVENT
BEGIN:VEVENT
DTSTART;TZID=UTC:20260111T110000
DTEND;TZID=UTC:20260111T121500
DTSTAMP:20260423T073006
CREATED:20251203T190746Z
LAST-MODIFIED:20251203T190746Z
UID:10003655-1768129200-1768133700@joymcc.com
SUMMARY:Worship Service-Live/In Person AND Live Streaming Via FaceBook and YouTube Live
DESCRIPTION:https://www.facebook.com/JoyMetropolitanCommunityChurch \nhttps://www.youtube.com/channel/UCuQV4LHlarKHk1VPFA_iGVA \n 
URL:https://joymcc.com/event/worship-service-live-in-person-and-live-streaming-via-facebook-and-youtube-live-2/2026-01-11/
CATEGORIES:Events
END:VEVENT
BEGIN:VEVENT
DTSTART;TZID=UTC:20260111T090000
DTEND;TZID=UTC:20260111T100000
DTSTAMP:20260423T073006
CREATED:20240924T183031Z
LAST-MODIFIED:20241114T170426Z
UID:10001982-1768122000-1768125600@joymcc.com
SUMMARY:Worship Service-Live/In Person Only
DESCRIPTION:  \n 
URL:https://joymcc.com/event/worship-service-live-in-person-only-2/2026-01-11/
CATEGORIES:Events
END:VEVENT
BEGIN:VEVENT
DTSTART;TZID=UTC:20260107T190000
DTEND;TZID=UTC:20260107T203000
DTSTAMP:20260423T073006
CREATED:20240924T184746Z
LAST-MODIFIED:20251231T165933Z
UID:10001657-1767812400-1767817800@joymcc.com
SUMMARY:Spiritual Transformation-In Person AND Via Zoom Meeting
DESCRIPTION:https://zoom.us/j/812716810 \nPASSCODE: 332797
URL:https://joymcc.com/event/spiritual-transformation-in-person-and-via-zoom-meeting-3/2026-01-07/
CATEGORIES:Events
END:VEVENT
BEGIN:VEVENT
DTSTART;TZID=UTC:20260105T190000
DTEND;TZID=UTC:20260105T200000
DTSTAMP:20260423T073006
CREATED:20251231T170302Z
LAST-MODIFIED:20251231T170507Z
UID:10004246-1767639600-1767643200@joymcc.com
SUMMARY:Expand Don't Ban Book Club
DESCRIPTION:https://us02web.zoom.us/j/87288924596
URL:https://joymcc.com/event/expand-dont-ban-book-club-4-2/2026-01-05/
CATEGORIES:Events
END:VEVENT
BEGIN:VEVENT
DTSTART;TZID=UTC:20260104T110000
DTEND;TZID=UTC:20260104T121500
DTSTAMP:20260423T073006
CREATED:20251203T190746Z
LAST-MODIFIED:20251203T190746Z
UID:10003654-1767524400-1767528900@joymcc.com
SUMMARY:Worship Service-Live/In Person AND Live Streaming Via FaceBook and YouTube Live
DESCRIPTION:https://www.facebook.com/JoyMetropolitanCommunityChurch \nhttps://www.youtube.com/channel/UCuQV4LHlarKHk1VPFA_iGVA \n 
URL:https://joymcc.com/event/worship-service-live-in-person-and-live-streaming-via-facebook-and-youtube-live-2/2026-01-04/
CATEGORIES:Events
END:VEVENT
BEGIN:VEVENT
DTSTART;TZID=UTC:20260104T090000
DTEND;TZID=UTC:20260104T100000
DTSTAMP:20260423T073006
CREATED:20240924T183031Z
LAST-MODIFIED:20241114T170426Z
UID:10001981-1767517200-1767520800@joymcc.com
SUMMARY:Worship Service-Live/In Person Only
DESCRIPTION:  \n 
URL:https://joymcc.com/event/worship-service-live-in-person-only-2/2026-01-04/
CATEGORIES:Events
END:VEVENT
END:VCALENDAR